From mboxrd@z Thu Jan 1 00:00:00 1970 Return-Path: Received: from mails.dpdk.org (mails.dpdk.org [217.70.189.124]) by inbox.dpdk.org (Postfix) with ESMTP id 5CFD7466ED for ; Thu, 8 May 2025 03:13:04 +0200 (CEST) Received: from mails.dpdk.org (localhost [127.0.0.1]) by mails.dpdk.org (Postfix) with ESMTP id 2ABA64025A; Thu, 8 May 2025 03:13:04 +0200 (CEST) Received: from mail-qv1-f99.google.com (mail-qv1-f99.google.com [209.85.219.99]) by mails.dpdk.org (Postfix) with ESMTP id 154C24014F for ; Thu, 8 May 2025 03:13:02 +0200 (CEST) Received: by mail-qv1-f99.google.com with SMTP id 6a1803df08f44-6f548a4ea4dso5072856d6.1 for ; Wed, 07 May 2025 18:13:02 -0700 (PDT) DKIM-Signature: v=1; a=rsa-sha256; c=relaxed/relaxed; d=iol.unh.edu; s=unh-iol; t=1746666781; x=1747271581; darn=dpdk.org; h=cc:to:from:subject:message-id:date:from:to:cc:subject:date :message-id:reply-to; bh=CFhRAiGSi6QpAwIs6adOF7JqUuH5yaA+g9PJ8kbczkI=; b=Cc7ocaj7z94Jc6DutecIQSAXeea3m7ydk1ssygG4ONQnRXkcvHwvGyfncGZXqnWc01 VpF26A4wjNCDgIrC3rxjid8yzu7WP/qlFrC0npPAKk8z3p7k6hpmxCIsM1J/e5gCpMKv m5PiZUJ2ycy55TQN8yDQUjpQostccBBctuCbs= X-Google-DKIM-Signature: v=1; a=rsa-sha256; c=relaxed/relaxed; d=1e100.net; s=20230601; t=1746666781; x=1747271581; h=cc:to:from:subject:message-id:date:x-gm-message-state:from:to:cc :subject:date:message-id:reply-to; bh=CFhRAiGSi6QpAwIs6adOF7JqUuH5yaA+g9PJ8kbczkI=; b=S3y0YJvfTL/jWzkjiFIkP90nhA0vsjo69nGQafhJOENcWpwsBw7LlgfuKBmbVY76Yh ZBIReOBwlEM48sxf4f2utlL5yyPog0oGVNoCZdqPh9EnCcGUtj1BB5YE8sj8gpRlbyXq xOJjgUC4pvf+L8X+7/zLu4C+Nd+lwvk213CIpnY3KrdXitlKikNL+Dyp41mcU7v9OTgl 0FMgsSPH6BDdisXZz+rgyw3gghF3KBYG7qClil/GzkZ0aM+ffO4zD/5X1nnOfbU4hPlJ KtHcLWO0lZl24XlRzkwo3K88kWz9Mut3ZULrGy9HZceLD1RQ3NrKX4bxV0nrrhmHYm9d +2ng== X-Gm-Message-State: AOJu0Yx+2ddjfY3Tvo9UB7YT1MfTlbBmG3f3OCV/yCS5HJNQ7aVGzVEh 7/VRXkyPgkC/AwvQ2EvKWLEtLLsq8gXk/6SdFJKOt4+SEIFt/L1kYRKohi07BqC2FV9y8JGCe45 /W5cqM/DKmX7X2i3VT/BqJM+LVfJTZf7Y97bhdJVaS7DorJGcDWOTaO4K X-Gm-Gg: ASbGncujzvb8SQ/5Xi8feV0ltxJI55EM596NS0mph9w4dtaYd6/CBW6+cHYOEZWF7ow W58BoTG0L+FE6BmbSpIYnG6Dijikdor8aGyJDQepsFatGJUgN0sVJtx25bmt7IHNs4i7E0uHVCr auuMZdl6nwxUPxvPWjXVguTWLLDsIimIddgs7VB/TJaGrq3Z5ryyxhUIofwz3jBiUA7llyHKV/t 8tVd4SOfxrDP8szcS0seNSQ7AqsI4cfM7E3njkTGPPnq6Q1unRtVbDWpE8oiI+P8SxNTU824Znw 5LkjKAA/ocjPXFOnlJGyZqlMYtsuBK67l236 X-Google-Smtp-Source: AGHT+IEASaOpKfiH8182p58Firp7vEpwCdcrsodbg+ogmb0dhcrvdFYKu4W2lU1gLvi3LoMzIqI5oYf4mip7 X-Received: by 2002:ad4:5ded:0:b0:6eb:28e4:8518 with SMTP id 6a1803df08f44-6f54c47e614mr25092706d6.34.1746666781402; Wed, 07 May 2025 18:13:01 -0700 (PDT) Received: from postal.iol.unh.edu (postal.iol.unh.edu. [2606:4100:3880:1234::84]) by smtp-relay.gmail.com with ESMTPS id 6a1803df08f44-6f542667d3esm1689146d6.31.2025.05.07.18.13.01 (version=TLS1_2 cipher=ECDHE-ECDSA-AES128-GCM-SHA256 bits=128/128); Wed, 07 May 2025 18:13:01 -0700 (PDT) X-Relaying-Domain: iol.unh.edu Date: Wed, 07 May 2025 18:13:01 -0700 (PDT) Message-ID: <681c051d.050a0220.31d057.97b4SMTPIN_ADDED_MISSING@mx.google.com> Received: from [172.21.0.5] (unknown [172.18.0.240]) by postal.iol.unh.edu (Postfix) with ESMTP id 116DF6052471; Wed, 7 May 2025 21:13:01 -0400 (EDT) Subject: |SUCCESS| [GIT MASTER] 75f179ebe347b6098cf3af26d3d3b7168fe3fe24 From: dpdklab@iol.unh.edu To: Test Report Cc: dpdk-test-reports@iol.unh.edu Content-Type: text/plain X-BeenThere: test-report@dpdk.org X-Mailman-Version: 2.1.29 Precedence: list List-Id: automatic DPDK test reports List-Unsubscribe: , List-Archive: List-Post: List-Help: List-Subscribe: , Errors-To: test-report-bounces@dpdk.org _Testing PASS_ Branch: dpdk 75f179ebe347b6098cf3af26d3d3b7168fe3fe24 --> testing pass Upstream job id: Generic-Unit-Test-DPDK#336303 Test environment and result as below: +-----------------------------+---------------------------+----------------+--------------+------------------------------+ | Environment | cryptodev_sw_zuc_autotest | dpdk_unit_test | lpm_autotest | cryptodev_sw_snow3g_autotest | +=============================+===========================+================+==============+==============================+ | Debian 12 (arm) | PASS | PASS | SKIPPED | PASS | +-----------------------------+---------------------------+----------------+--------------+------------------------------+ | Fedora 41 (ARM Clang) | SKIPPED | PASS | SKIPPED | SKIPPED | +-----------------------------+---------------------------+----------------+--------------+------------------------------+ | Fedora 40 (ARM) | SKIPPED | PASS | SKIPPED | SKIPPED | +-----------------------------+---------------------------+----------------+--------------+------------------------------+ | RHEL9 (ARM) | SKIPPED | PASS | SKIPPED | SKIPPED | +-----------------------------+---------------------------+----------------+--------------+------------------------------+ | Fedora 41 (ARM) | SKIPPED | PASS | SKIPPED | SKIPPED | +-----------------------------+---------------------------+----------------+--------------+------------------------------+ | CentOS Stream 10 (ARM) | SKIPPED | PASS | SKIPPED | SKIPPED | +-----------------------------+---------------------------+----------------+--------------+------------------------------+ | Ubuntu 22.04 (ARM) | SKIPPED | PASS | SKIPPED | SKIPPED | +-----------------------------+---------------------------+----------------+--------------+------------------------------+ | Ubuntu 24.04 (ARM) | SKIPPED | PASS | SKIPPED | SKIPPED | +-----------------------------+---------------------------+----------------+--------------+------------------------------+ | Fedora 40 (ARM Clang) | SKIPPED | PASS | SKIPPED | SKIPPED | +-----------------------------+---------------------------+----------------+--------------+------------------------------+ | CentOS Stream 9 (ARM) | SKIPPED | PASS | SKIPPED | SKIPPED | +-----------------------------+---------------------------+----------------+--------------+------------------------------+ | Ubuntu 20.04 (ARM) | SKIPPED | PASS | SKIPPED | SKIPPED | +-----------------------------+---------------------------+----------------+--------------+------------------------------+ | 32-bit Ubuntu 22.04.4 (ARM) | SKIPPED | PASS | SKIPPED | SKIPPED | +-----------------------------+---------------------------+----------------+--------------+------------------------------+ | Ubuntu 20.04 ARM SVE | SKIPPED | SKIPPED | PASS | SKIPPED | +-----------------------------+---------------------------+----------------+--------------+------------------------------+ Debian 12 (arm) Kernel: Depends on container host Compiler: gcc (Debian 12.2.0-14) 12.2.0 Fedora 41 (ARM Clang) Kernel: Depends on container host Compiler: clang 19.1.5 (Fedora 19.1.5-1.fc41) Fedora 40 (ARM) Kernel: Depends on container host Compiler: gcc 14.2.1 20240912 (Red Hat 14.2.1-3) RHEL9 (ARM) Kernel: Depends on container host Compiler: gcc 11.5.0 20240719 (Red Hat 11.5.0-2) Fedora 41 (ARM) Kernel: Depends on container host Compiler: gcc 14.2.1 20240912 (Red Hat 14.2.1-3) CentOS Stream 10 (ARM) Kernel: Depends on container host Compiler: gcc 14.2.1 20241104 (Red Hat 14.2.1-6) Ubuntu 22.04 (ARM) Kernel: Depends on container host Compiler: gcc (Ubuntu 11.4.0-1ubuntu1~22.04) 11.4.0 Ubuntu 24.04 (ARM) Kernel: Depends on container host Compiler: gcc (Ubuntu 13.3.0-6ubuntu2~24.04) 13.3.0 Fedora 40 (ARM Clang) Kernel: Depends on container host Compiler: clang 18.1.8 (Fedora 18.1.8-1.fc40) CentOS Stream 9 (ARM) Kernel: Depends on container host Compiler: gcc 11.5.0 20240719 (Red Hat 11.5.0-2) Ubuntu 20.04 (ARM) Kernel: Depends on container host Compiler: gcc (Ubuntu 9.4.0-1ubuntu1~20.04.2) 9.4.0 32-bit Ubuntu 22.04.4 (ARM) Kernel: 5.15.83+ aarch64 Compiler: gcc (Ubuntu 11.4.0-1ubuntu1~22.04) 11.4.0 Ubuntu 20.04 ARM SVE Kernel: Depends on container host Compiler: gcc (Ubuntu 10.5.0-1ubuntu1~20.04) 10.5.0 To view detailed results, visit: https://lab.dpdk.org/results/dashboard/tarballs/33469/ UNH-IOL DPDK Community Lab To manage your email subscriptions, visit: https://lab.dpdk.org/results/dashboard/preferences/subscriptions/