From mboxrd@z Thu Jan 1 00:00:00 1970 Return-Path: Received: from mails.dpdk.org (mails.dpdk.org [217.70.189.124]) by inbox.dpdk.org (Postfix) with ESMTP id C3D9E466ED for ; Thu, 8 May 2025 03:16:57 +0200 (CEST) Received: from mails.dpdk.org (localhost [127.0.0.1]) by mails.dpdk.org (Postfix) with ESMTP id 8F1564025A; Thu, 8 May 2025 03:16:57 +0200 (CEST) Received: from mail-pl1-f225.google.com (mail-pl1-f225.google.com [209.85.214.225]) by mails.dpdk.org (Postfix) with ESMTP id 2D07F4014F for ; Thu, 8 May 2025 03:16:56 +0200 (CEST) Received: by mail-pl1-f225.google.com with SMTP id d9443c01a7336-22e70a9c6bdso8413025ad.3 for ; Wed, 07 May 2025 18:16:56 -0700 (PDT) DKIM-Signature: v=1; a=rsa-sha256; c=relaxed/relaxed; d=iol.unh.edu; s=unh-iol; t=1746667015; x=1747271815; darn=dpdk.org; h=cc:to:from:subject:message-id:date:from:to:cc:subject:date :message-id:reply-to; bh=NpJ+BjrQeehzvl9WNEB3bQYVVBDR7yg+0fsNZtMC7/0=; b=CNnRz+XJ6hEnLLWp1LBcTmvC6LdL0FhifbJbSZsJgou1RYYnvVBZEhdgwqaeICQWvY jmASqzk1psxthUhyM/+AhHYsctQj+lFOOhjVqPUXzRm1C+F8RFFarWUDX+KFUjIShoOG d3VuJwT1Zit4bsGMIHD03XB0GFfzhdHsZFy1k= X-Google-DKIM-Signature: v=1; a=rsa-sha256; c=relaxed/relaxed; d=1e100.net; s=20230601; t=1746667015; x=1747271815; h=cc:to:from:subject:message-id:date:x-gm-message-state:from:to:cc :subject:date:message-id:reply-to; bh=NpJ+BjrQeehzvl9WNEB3bQYVVBDR7yg+0fsNZtMC7/0=; b=NTWTYkdUJb2orgRDy5jV6c0j26sNCmZ0F/GdEnJok8OK7fDgafscovdecO4p0FkQXA wHrYgAIDkhBhNCIu66Aok2/kOd3BOLPULKwFn4GU+gx9ksTN1cdUMxtCftEp90kF1VbA J4vP00VtVK9M1vyFQNmwlIBD11SuzG5zBWbhH8jvHCxvJTBFDNyyI797cT6Mup/9F9HR RnN/FozO2Hvtjbo0LoAMzuOjSdvbx/URVF4p9tcmtjeDccZ8QrBgdL63VaNBCKOiTmCP knKQuJbAl2n3Ptg7zLQxXend6pWect38s0qXPqL/HIeVp0gESsTh+li+8V589eFUQoSW 3qzQ== X-Gm-Message-State: AOJu0YyQEn+KHF1VezIVR+WA7gtcxOSRNxTpbWRzr3JL25NmOezDs/Pp rwovOcbz/2B66QrNSFIxkdeD5yBlwmlbycqb2GV98Ts1Nb2BLSc91P0CgmHS4HkuleeF/FwQRg8 0QzCeZatAm/ypamP1ju6PqreSxdaWZQOEGNt1EbNEwhGnd1yaVv3mpkOy X-Gm-Gg: ASbGncvvSI0VE5n0Xa30lIyebL99yGa7TOO1G31f8Ds1lRvXgEJnDKXzp/WF++7KrFH 1UOyQx/vQKvV7iI7XXp+Dt63Y60q1xTwDfI9ifwVYcDS4tMYubcRtUSBka6/n/q1kES5udcmm90 G9268r+//p75eog2dp3sDlsvOK1hLIfNLyCYYrD9uiSIFZDOTm1pVGXlbpGJURN4A9slqteOXyE sep7yo3jYO9dvKNscudr5QaXLUjtIWbJWgaRBg9N83lFYiFJkHfhDOLNQuoKQPd29t6sAEjL2aS vCOWyK7MCecxrrWwwI6YQXz4v2CSu2ElV9oP X-Google-Smtp-Source: AGHT+IF/u+zykAuIIOez7Ij/kFcykSLriYhXS8G3AduvhVRwsESjY44gXkiNT7Lcx+zkARdAD/Q3OjJUhh7B X-Received: by 2002:a17:902:e783:b0:224:256e:5e3f with SMTP id d9443c01a7336-22e5ea90659mr80901625ad.25.1746667015010; Wed, 07 May 2025 18:16:55 -0700 (PDT) Received: from postal.iol.unh.edu (postal.iol.unh.edu. [2606:4100:3880:1234::84]) by smtp-relay.gmail.com with ESMTPS id d9443c01a7336-22fa3c22758sm142115ad.86.2025.05.07.18.16.54 (version=TLS1_2 cipher=ECDHE-ECDSA-AES128-GCM-SHA256 bits=128/128); Wed, 07 May 2025 18:16:54 -0700 (PDT) X-Relaying-Domain: iol.unh.edu Date: Wed, 07 May 2025 18:16:54 -0700 (PDT) Message-ID: <681c0606.170a0220.24a184.0c67SMTPIN_ADDED_MISSING@mx.google.com> Received: from [172.21.0.6] (unknown [172.18.0.240]) by postal.iol.unh.edu (Postfix) with ESMTP id 33EA86052471; Wed, 7 May 2025 21:16:54 -0400 (EDT) Subject: |SUCCESS| [GIT MASTER] 75f179ebe347b6098cf3af26d3d3b7168fe3fe24 From: dpdklab@iol.unh.edu To: Test Report Cc: dpdk-test-reports@iol.unh.edu Content-Type: text/plain X-BeenThere: test-report@dpdk.org X-Mailman-Version: 2.1.29 Precedence: list List-Id: automatic DPDK test reports List-Unsubscribe: , List-Archive: List-Post: List-Help: List-Subscribe: , Errors-To: test-report-bounces@dpdk.org _Testing PASS_ Branch: dpdk 75f179ebe347b6098cf3af26d3d3b7168fe3fe24 --> testing pass Upstream job id: Generic-Unit-Test-DPDK#336302 Test environment and result as below: +---------------------+----------------+ | Environment | dpdk_unit_test | +=====================+================+ | Fedora 41 | PASS | +---------------------+----------------+ | RHEL9 | PASS | +---------------------+----------------+ | Fedora 41 (Clang) | PASS | +---------------------+----------------+ | Ubuntu 22.04 | PASS | +---------------------+----------------+ | Arch Linux | PASS | +---------------------+----------------+ | Fedora 40 | PASS | +---------------------+----------------+ | CentOS Stream 10 | PASS | +---------------------+----------------+ | RHEL8 | PASS | +---------------------+----------------+ | Ubuntu 20.04 | PASS | +---------------------+----------------+ | Debian 12 | PASS | +---------------------+----------------+ | Fedora 40 (Clang) | PASS | +---------------------+----------------+ | CentOS Stream 9 | PASS | +---------------------+----------------+ | Ubuntu 24.04 | PASS | +---------------------+----------------+ | Windows Server 2022 | PASS | +---------------------+----------------+ Fedora 41 Kernel: Depends on container host Compiler: gcc 14.2.1 20240912 (Red Hat 14.2.1-3) RHEL9 Kernel: Depends on container host Compiler: gcc 11.5.0 20240719 (Red Hat 11.5.0-2) Fedora 41 (Clang) Kernel: Depends on container host Compiler: clang 19.1.5 (Fedora 19.1.5-1.fc41) Ubuntu 22.04 Kernel: Depends on container host Compiler: gcc (Ubuntu 11.4.0-1ubuntu1~22.04) 11.4.0 Arch Linux Kernel: Depends on container host Compiler: gcc 14.2.1 20240910 Fedora 40 Kernel: Depends on container host Compiler: gcc 14.2.1 20240912 (Red Hat 14.2.1-3) CentOS Stream 10 Kernel: Depends on container host Compiler: gcc 14.2.1 20241104 (Red Hat 14.2.1-6) RHEL8 Kernel: Depends on container host Compiler: gcc 8.5.0 20210514 (Red Hat 8.5.0-22) Ubuntu 20.04 Kernel: Depends on container host Compiler: gcc (Ubuntu 9.4.0-1ubuntu1~20.04.2) 9.4.0 Debian 12 Kernel: Depends on container host Compiler: gcc (Debian 12.2.0-14) 12.2.0 Fedora 40 (Clang) Kernel: Depends on container host Compiler: clang 18.1.8 (Fedora 18.1.8-1.fc40) CentOS Stream 9 Kernel: Depends on container host Compiler: gcc 11.5.0 20240719 (Red Hat 11.5.0-2) Ubuntu 24.04 Kernel: Depends on container host Compiler: gcc (Ubuntu 13.3.0-6ubuntu2~24.04) 13.3.0 Windows Server 2022 Kernel: 10.0.20348.2031 Compiler: clang 15.0.7, gcc 14.1.0 (MinGW), and MSVC VS 19.39.33521 To view detailed results, visit: https://lab.dpdk.org/results/dashboard/tarballs/33469/ UNH-IOL DPDK Community Lab To manage your email subscriptions, visit: https://lab.dpdk.org/results/dashboard/preferences/subscriptions/