From mboxrd@z Thu Jan 1 00:00:00 1970 Return-Path: Received: from mails.dpdk.org (mails.dpdk.org [217.70.189.124]) by inbox.dpdk.org (Postfix) with ESMTP id 63799466ED for ; Thu, 8 May 2025 03:23:46 +0200 (CEST) Received: from mails.dpdk.org (localhost [127.0.0.1]) by mails.dpdk.org (Postfix) with ESMTP id 397434025A; Thu, 8 May 2025 03:23:46 +0200 (CEST) Received: from mail-qv1-f99.google.com (mail-qv1-f99.google.com [209.85.219.99]) by mails.dpdk.org (Postfix) with ESMTP id 2F5E54014F for ; Thu, 8 May 2025 03:23:44 +0200 (CEST) Received: by mail-qv1-f99.google.com with SMTP id 6a1803df08f44-6f53d271c4cso4694406d6.3 for ; Wed, 07 May 2025 18:23:44 -0700 (PDT) DKIM-Signature: v=1; a=rsa-sha256; c=relaxed/relaxed; d=iol.unh.edu; s=unh-iol; t=1746667423; x=1747272223; darn=dpdk.org; h=cc:to:from:subject:message-id:date:from:to:cc:subject:date :message-id:reply-to; bh=pm8lOJ87e+j9f9JczTTqacKDtxDlaWWYAvfSP/SMr4s=; b=O+rUY2btc+npS1QilyTqITWkmYchNXPhybxnh1rjchwfbGwS0qv8C7qs665pZaRWiG KCQC8tj8zPdpX55D+omth2+tSOQp6g95oxvo8x3m44WUW3voW/ITfOuPZZFLDOGuRQ56 OOP+jk840KUqjy6AgeI1m+ox3kj1hQwBP06PY= X-Google-DKIM-Signature: v=1; a=rsa-sha256; c=relaxed/relaxed; d=1e100.net; s=20230601; t=1746667423; x=1747272223; h=cc:to:from:subject:message-id:date:x-gm-message-state:from:to:cc :subject:date:message-id:reply-to; bh=pm8lOJ87e+j9f9JczTTqacKDtxDlaWWYAvfSP/SMr4s=; b=JZWuXybQBz16I2gBz+IOOaXk/uO9fAp2qqjJzc2DSAN50mO5VgskRY5832bQgZvZ5F 1RNc9DMldeptXEdPBuIK1L5RwdW8qPIiHic7trxHIUAVTQ6PDP5EMUSykKloD1+3Y/D0 VaVgaraoTylF0BA++hrduk+QTjqN0km2cbl6XqNAnHWyH6erGocLP6ceeFi3j6JD1m/o eJOu+6KVnROrLXqGiSnCQdfbE4nGlrpaibV1FRkRzaku8hlldsTjE1WYjl24FBiz52ZT iwRhGDjmZXUWNhhfAj/7iqB1F6b1DhXavponXyAnlP9RybM37LBnnlzXs4ZFgWqcCzZH ZZqw== X-Gm-Message-State: AOJu0YzUhcrIMmlc2ZlCjud0Ut6pQB4skf4jEoRQEIYXzyKaQFNzufkH E+KTux7P5uOyMGHoSF0uElzfAR7jKc64o2WneYzKgFuTwnDJLRD7sGLONxSUZaYnlIGT0GYIkcH TKyGSq6fIyzrD0y6fWqP3qnZxS1h7Wb9/vdSoKqnU X-Gm-Gg: ASbGncu4960t2ui0f8Dw67RPP3oMpSlKBtYog2FLXPmroxo95yQvTnszY0oc01IvQD5 6PYJp403ce9zMFWGHnNIlEciDsQD1hk/sVYrNtxEISBM5NaJSone3kEgZJoT1om43QP9gk4DpJ8 Cz5s61bib+p3i4QRYiu/okJGeBXYCn58ImwqcP6w/Mqzr4w/FwFJWt8z5f4d/S5fCd6Mj+PSOyG 59vqKVCofiYrdrIkMKq4QHCeJBLhKSzgxbiRr9FRr1G7b9BGRv+n47hAiUdbpbeSFmgIftaCgaa mn01/hWPTzg0aHDCZcOYaccD2LKiNXOTArDenhx3WTUeDarSgnPBFG2lCq8= X-Google-Smtp-Source: AGHT+IHpkdY6vSboa6q5TvD88nlR2QoWwIOqEWn1FpQo0+DabJ1tU70GX7JFo489LU1TKiFhfQIYy1rxFfhj X-Received: by 2002:a05:6214:19c4:b0:6e4:4011:9df7 with SMTP id 6a1803df08f44-6f54c3a7367mr24453336d6.16.1746667423397; Wed, 07 May 2025 18:23:43 -0700 (PDT) Received: from postal.iol.unh.edu (postal.iol.unh.edu. [132.177.123.84]) by smtp-relay.gmail.com with ESMTPS id 6a1803df08f44-6f542620e62sm1656856d6.2.2025.05.07.18.23.43 (version=TLS1_2 cipher=ECDHE-ECDSA-AES128-GCM-SHA256 bits=128/128); Wed, 07 May 2025 18:23:43 -0700 (PDT) X-Relaying-Domain: iol.unh.edu Date: Wed, 07 May 2025 18:23:43 -0700 (PDT) Message-ID: <681c079f.050a0220.3cecc1.907fSMTPIN_ADDED_MISSING@mx.google.com> Received: from [172.17.0.2] (unknown [172.18.0.76]) by postal.iol.unh.edu (Postfix) with ESMTP id 11CB96052471; Wed, 7 May 2025 21:23:43 -0400 (EDT) Subject: |SUCCESS| [GIT MASTER] 75f179ebe347b6098cf3af26d3d3b7168fe3fe24 From: dpdklab@iol.unh.edu To: Test Report Cc: dpdk-test-reports@iol.unh.edu Content-Type: text/plain X-BeenThere: test-report@dpdk.org X-Mailman-Version: 2.1.29 Precedence: list List-Id: automatic DPDK test reports List-Unsubscribe: , List-Archive: List-Post: List-Help: List-Subscribe: , Errors-To: test-report-bounces@dpdk.org _Testing PASS_ Branch: dpdk 75f179ebe347b6098cf3af26d3d3b7168fe3fe24 --> testing pass Upstream job id: Generic-DPDK-Compile-ABI#125665 Test environment and result as below: +-------------------+----------+ | Environment | abi_test | +===================+==========+ | Debian 12 | PASS | +-------------------+----------+ | CentOS Stream 9 | PASS | +-------------------+----------+ | CentOS Stream 10 | PASS | +-------------------+----------+ | Fedora 40 (Clang) | PASS | +-------------------+----------+ | openSUSE Leap 15 | PASS | +-------------------+----------+ | Fedora 41 (Clang) | PASS | +-------------------+----------+ | Fedora 41 | PASS | +-------------------+----------+ | Fedora 40 | PASS | +-------------------+----------+ | Ubuntu 22.04 | PASS | +-------------------+----------+ | RHEL9 | PASS | +-------------------+----------+ | Ubuntu 24.04 | PASS | +-------------------+----------+ | Arch Linux | PASS | +-------------------+----------+ | RHEL8 | PASS | +-------------------+----------+ Debian 12 Kernel: Depends on container host Compiler: gcc (Debian 12.2.0-14) 12.2.0 CentOS Stream 9 Kernel: Depends on container host Compiler: gcc 11.5.0 20240719 (Red Hat 11.5.0-2) CentOS Stream 10 Kernel: Depends on container host Compiler: gcc 14.2.1 20241104 (Red Hat 14.2.1-6) Fedora 40 (Clang) Kernel: Depends on container host Compiler: clang 18.1.8 (Fedora 18.1.8-1.fc40) openSUSE Leap 15 Kernel: Depends on container host Compiler: gcc (SUSE Linux) 7.5.0 Fedora 41 (Clang) Kernel: Depends on container host Compiler: clang 19.1.5 (Fedora 19.1.5-1.fc41) Fedora 41 Kernel: Depends on container host Compiler: gcc 14.2.1 20240912 (Red Hat 14.2.1-3) Fedora 40 Kernel: Depends on container host Compiler: gcc 14.2.1 20240912 (Red Hat 14.2.1-3) Ubuntu 22.04 Kernel: Depends on container host Compiler: gcc (Ubuntu 11.4.0-1ubuntu1~22.04) 11.4.0 RHEL9 Kernel: Depends on container host Compiler: gcc 11.5.0 20240719 (Red Hat 11.5.0-2) Ubuntu 24.04 Kernel: Depends on container host Compiler: gcc (Ubuntu 13.3.0-6ubuntu2~24.04) 13.3.0 Arch Linux Kernel: Depends on container host Compiler: gcc 14.2.1 20240910 RHEL8 Kernel: Depends on container host Compiler: gcc 8.5.0 20210514 (Red Hat 8.5.0-22) To view detailed results, visit: https://lab.dpdk.org/results/dashboard/tarballs/33469/ UNH-IOL DPDK Community Lab To manage your email subscriptions, visit: https://lab.dpdk.org/results/dashboard/preferences/subscriptions/