From mboxrd@z Thu Jan 1 00:00:00 1970 Return-Path: Received: from mails.dpdk.org (mails.dpdk.org [217.70.189.124]) by inbox.dpdk.org (Postfix) with ESMTP id BBD69466ED for ; Thu, 8 May 2025 03:39:24 +0200 (CEST) Received: from mails.dpdk.org (localhost [127.0.0.1]) by mails.dpdk.org (Postfix) with ESMTP id 8E4024025A; Thu, 8 May 2025 03:39:24 +0200 (CEST) Received: from mail-pl1-f227.google.com (mail-pl1-f227.google.com [209.85.214.227]) by mails.dpdk.org (Postfix) with ESMTP id E7F1C4014F for ; Thu, 8 May 2025 03:39:23 +0200 (CEST) Received: by mail-pl1-f227.google.com with SMTP id d9443c01a7336-22fa47d6578so1072665ad.2 for ; Wed, 07 May 2025 18:39:23 -0700 (PDT) DKIM-Signature: v=1; a=rsa-sha256; c=relaxed/relaxed; d=iol.unh.edu; s=unh-iol; t=1746668363; x=1747273163; darn=dpdk.org; h=references:in-reply-to:cc:to:from:subject:message-id:date:from:to :cc:subject:date:message-id:reply-to; bh=iZ2798/KOeMy037EnWZx9v/s4K3zhKK06kk6sG82Ar4=; b=Q7joLszi1CHLF7ldDzUWUafrPe1CDX0vISeMypHiHErV7Nm1v7wFBi4PbFAA+fhqpE sOxhPaL1etpsX1aB13R3pKARg8j3i5ZOdq9FmOKIkfmhtH/IrJIspCVqrK6TqtELAnD3 MhEs2NUG1inm5SyzoyJKn/S2rrePwlvMO6e2c= X-Google-DKIM-Signature: v=1; a=rsa-sha256; c=relaxed/relaxed; d=1e100.net; s=20230601; t=1746668363; x=1747273163; h=references:in-reply-to:cc:to:from:subject:message-id:date :x-gm-message-state:from:to:cc:subject:date:message-id:reply-to; bh=iZ2798/KOeMy037EnWZx9v/s4K3zhKK06kk6sG82Ar4=; b=tuUjkuxUCnxputGJbfNoJ+ufL8pLoFF7r2d1T6wd7eyEPNMfjEo/2HwT2mvxqsFcOs Nm+wNX52lBGqvEXlosHQO3b8ll/QjsqHVzEL8X/f0ood3DCSjrg2zHmmTOQe4LkM++Do Ju45SsOnNpt9/NY3OJgaK4H8fV7gnDI+sMk2VuayBVixFmYXt9f/CwQycNoLEwmdW+IP DXCexSjKyqx3ihuP8N5jD66zeDKBnkRfZm0WnFKT+/J4jEtxFFBB77w2mMA72XDkFiId J+9c7qivUsqgCR6F96RKP6PfvKi0TP4Sv55HjagzRRkgsdXX21ci6FJeK0TiQnlZjWZ4 tKAw== X-Gm-Message-State: AOJu0YzPhSDMjjuxsSu9eJmGuMpkjX6ny8qGU4TyeLdeMQtk/JcydwAr AWm+szZe1GPLcmNnn4mIB4LBMO2HoiVpmvX11LN26l+2NwIdTkgZ5sYdPuu6Wr/YvQC9V/FC7bY h125RdnBu3acAnU5INbfrs9XOpo0LDaL3s5lcp8eVWgJ/5NCqAJ6GRNlr X-Gm-Gg: ASbGncsvaSDgktW0nCwinuW1BUVZOlXNuyBe4tu5XBO+XYmz4+jrD7UD5PJkoBuceSZ /SWZmhPIeIgexwba08lacROFe9PdPkFvPl1pq9F7jSyGcfyiI4NBxLlOV5AwIfSCeInpQ8CaJ/V UTznqsjyJ2cstwBZy/F5t+RVdUkVq+Mog39dQI7+1g0uqF7Fj7ac0yA1LjgRaPTd1TMneFUJfRV AhGxFVGCaHdZB8DASPSK6F5auM8evrqNFuJjfjEz0/osRBIZzRFEGRy1sp6Q/guEgr3LWcbtz8c GCCl2HyI8BS2YPKNw86vo1A05wZB/bWf/wEP X-Google-Smtp-Source: AGHT+IFwQ5e4Pn/U7UV/h1vgEZ28Gt7yHVuMmbD/5mM8Zziub6/bnkIdXzzZYaDqFANz7AIMl9zWaS31SsAf X-Received: by 2002:a17:902:ce88:b0:221:331:1d46 with SMTP id d9443c01a7336-22e5ea38aebmr66021075ad.2.1746668363023; Wed, 07 May 2025 18:39:23 -0700 (PDT) Received: from postal.iol.unh.edu (postal.iol.unh.edu. [2606:4100:3880:1234::84]) by smtp-relay.gmail.com with ESMTPS id d9443c01a7336-22e150eae58sm18885305ad.6.2025.05.07.18.39.22 (version=TLS1_2 cipher=ECDHE-ECDSA-AES128-GCM-SHA256 bits=128/128); Wed, 07 May 2025 18:39:23 -0700 (PDT) X-Relaying-Domain: iol.unh.edu Date: Wed, 07 May 2025 18:39:23 -0700 (PDT) Message-ID: <681c0b4b.170a0220.1fbfe7.c268SMTPIN_ADDED_MISSING@mx.google.com> Received: from [172.17.0.2] (unknown [172.18.0.74]) by postal.iol.unh.edu (Postfix) with ESMTP id 6F51D6052471; Wed, 7 May 2025 21:39:22 -0400 (EDT) Subject: |SUCCESS| pw153342 [PATCH] [v3,1/1] buildtools: avoid break due to f From: dpdklab@iol.unh.edu To: Test Report Cc: dpdk-test-reports@iol.unh.edu In-Reply-To: <1746627671-28659-2-git-send-email-andremue@linux.microsoft.com> References: <1746627671-28659-2-git-send-email-andremue@linux.microsoft.com> Content-Type: text/plain X-BeenThere: test-report@dpdk.org X-Mailman-Version: 2.1.29 Precedence: list List-Id: automatic DPDK test reports List-Unsubscribe: , List-Archive: List-Post: List-Help: List-Subscribe: , Errors-To: test-report-bounces@dpdk.org Test-Label: iol-sample-apps-testing Test-Status: SUCCESS http://dpdk.org/patch/153342 _Testing PASS_ Submitter: Andre Muezerie Date: Wednesday, May 07 2025 14:21:11 DPDK git baseline: Repo:dpdk Branch: master CommitID:75f179ebe347b6098cf3af26d3d3b7168fe3fe24 153342 --> testing pass Upstream job id: ACVP-FIPS-testing#9748 Test environment and result as below: +--------------------+----------------------+----------------------+ | Environment | compressdev_zlib_pmd | dpdk_fips_validation | +====================+======================+======================+ | Ubuntu 22.04 (ARM) | PASS | SKIPPED | +--------------------+----------------------+----------------------+ | Ubuntu 22.04 | PASS | SKIPPED | +--------------------+----------------------+----------------------+ | Ubuntu 20.04 | SKIPPED | PASS | +--------------------+----------------------+----------------------+ Ubuntu 22.04 (ARM) Kernel: 5.15.0-97-generic Compiler: gcc gcc (Ubuntu 11.4.0-1ubuntu1~22.04) 11.4.0 Ubuntu 22.04 Kernel: 5.15.0-100-generic Compiler: gcc gcc (Ubuntu 11.4.0-1ubuntu1~22.04) 11.4.0 Ubuntu 20.04 Kernel: Depends on container host Compiler: gcc (Ubuntu 9.4.0-1ubuntu1~20.04.2) 9.4.0 To view detailed results, visit: https://lab.dpdk.org/results/dashboard/patchsets/33133/ UNH-IOL DPDK Community Lab To manage your email subscriptions, visit: https://lab.dpdk.org/results/dashboard/preferences/subscriptions/