From mboxrd@z Thu Jan 1 00:00:00 1970 Return-Path: Received: from mails.dpdk.org (mails.dpdk.org [217.70.189.124]) by inbox.dpdk.org (Postfix) with ESMTP id C911B466EF for ; Thu, 8 May 2025 05:50:07 +0200 (CEST) Received: from mails.dpdk.org (localhost [127.0.0.1]) by mails.dpdk.org (Postfix) with ESMTP id C4CD64027C; Thu, 8 May 2025 05:50:07 +0200 (CEST) Received: from mail-yw1-f226.google.com (mail-yw1-f226.google.com [209.85.128.226]) by mails.dpdk.org (Postfix) with ESMTP id 8B49A4025A for ; Thu, 8 May 2025 05:50:06 +0200 (CEST) Received: by mail-yw1-f226.google.com with SMTP id 00721157ae682-708b3cc144cso5673167b3.2 for ; Wed, 07 May 2025 20:50:06 -0700 (PDT) DKIM-Signature: v=1; a=rsa-sha256; c=relaxed/relaxed; d=iol.unh.edu; s=unh-iol; t=1746676206; x=1747281006; darn=dpdk.org; h=cc:to:from:subject:message-id:date:from:to:cc:subject:date :message-id:reply-to; bh=eOkfvO0pxrDj683+eO5m5buQYVEKfPJFYHXkLn4ihK0=; b=hxKFDtqddQ6TTDQQ3b2+uniWmnjNLl42fz2jrRQH7kYPAGwaOb/jfy1pn4AnkWTKj8 ZO/QhExDlVACZMbVqHCXcbxSic1QsyqbgaKSseDpryEig/GEGw9FVQJxjar8OeigxMYI PfYA4OEIbfn73iZ5bE+bW4diFRLuPuJSSw6BI= X-Google-DKIM-Signature: v=1; a=rsa-sha256; c=relaxed/relaxed; d=1e100.net; s=20230601; t=1746676206; x=1747281006; h=cc:to:from:subject:message-id:date:x-gm-message-state:from:to:cc :subject:date:message-id:reply-to; bh=eOkfvO0pxrDj683+eO5m5buQYVEKfPJFYHXkLn4ihK0=; b=k8ZMfudfFS0qqcl8Grn7BScs/RAp/C9uRNSn33eqzQE8ZRmhPxaUq7C6C6HKA3dRQh XLfAvA4qvvDFUJZ7jgOSVO2/e/7yjtvK3tSY1iGmY4xpI9Btp4VvyIqOGfrgtPB4wpbc BY9dFdaz2pSoHEA0Su3XpBAWmsFZH39lppU9DeSu2oU+d0phjnv+3M/cCauQe/poiNHa Gs84nHaEJhT+O+BQEk4aeGro5TPPhEGVuFKKaRaLvU/1PBHg6R2gd22rcWFsqxtLzKMB E1GE1JnM1tj6UG0nZDVQOGGpRwTMghk47IzH8PuOSVT7hispiunCypZRyz0iitAgZOnf +02A== X-Gm-Message-State: AOJu0YzSMYH9t9GfXgXIPoS+s3rwDcnxaq6VJUPvc9UiPpPxX1H2EWwD hsG0mIWvN5zlXgicmrX0Wvhum/IlWX5XaxluFk29sie0K/+WjUDn0M/pN6foGfmYVjweV2NXLoF JVG/gaT3AGqRk36AfaNDG2T6HPJEGwpeEgfhBeI+I X-Gm-Gg: ASbGnct5ueb4nhoAtZvtOQ15sbiMXh6vz6aXjwDf0YjBlUeYQONiGVhWuZBFgw1T1Zc hyhWP2uu6xDm5RtfwbVFAr0EpOvN4wu4IMuBYrvPOKSAY8uA0PWHU0NE8voDuj9FOcGzi0RO7I3 H7bSW3V6WWhMGYsOJnUg7LAZ65RnvXE+/y0UAgEnzzvTvcrT8W/AWn20ibJirVaOe0vGx5W39ih ZGA8VD0runqttgHxqG5NgVMYO7D3Y+e0BR8FgnawU6+BpD9XYFXGIuF7pwkltUTvkit/bQNY8/n 40uAqZ7lMVwRJYsodT0Q/ESbf5o3pHn/HHcYoxTBKAzcBNtFbX7Rq7ZUNdY= X-Google-Smtp-Source: AGHT+IF4g9pL5qtrFeJ50Ksek3pxDOmvi2TIc/YYzrlrDHZ0s/oFvoo131CfJ4wCEQx+lJKKXwSoyMxivHOr X-Received: by 2002:a05:690c:6f83:b0:705:750e:14cb with SMTP id 00721157ae682-70a2d0cfc26mr27296067b3.25.1746676205917; Wed, 07 May 2025 20:50:05 -0700 (PDT) Received: from postal.iol.unh.edu (postal.iol.unh.edu. [132.177.123.84]) by smtp-relay.gmail.com with ESMTPS id 00721157ae682-708c46ff752sm21506127b3.69.2025.05.07.20.50.05 (version=TLS1_2 cipher=ECDHE-ECDSA-AES128-GCM-SHA256 bits=128/128); Wed, 07 May 2025 20:50:05 -0700 (PDT) X-Relaying-Domain: iol.unh.edu Date: Wed, 07 May 2025 20:50:05 -0700 (PDT) Message-ID: <681c29ed.050a0220.357341.da6cSMTPIN_ADDED_MISSING@mx.google.com> Received: from [172.21.0.5] (unknown [172.18.0.240]) by postal.iol.unh.edu (Postfix) with ESMTP id 7D18F6052471; Wed, 7 May 2025 23:50:05 -0400 (EDT) Subject: |SUCCESS| [GIT MASTER] 75f179ebe347b6098cf3af26d3d3b7168fe3fe24 From: dpdklab@iol.unh.edu To: Test Report Cc: dpdk-test-reports@iol.unh.edu Content-Type: text/plain X-BeenThere: test-report@dpdk.org X-Mailman-Version: 2.1.29 Precedence: list List-Id: automatic DPDK test reports List-Unsubscribe: , List-Archive: List-Post: List-Help: List-Subscribe: , Errors-To: test-report-bounces@dpdk.org _Testing PASS_ Branch: dpdk 75f179ebe347b6098cf3af26d3d3b7168fe3fe24 --> testing pass Upstream job id: Generic-DPDK-Compile-Meson#386220 Test environment and result as below: +----------------------------------------+--------------------+ | Environment | dpdk_meson_compile | +========================================+====================+ | RHEL9 (ARM) | PASS | +----------------------------------------+--------------------+ | Ubuntu 20.04 ARM GCC Cross Compile | PASS | +----------------------------------------+--------------------+ | Ubuntu 20.04 ARM SVE | PASS | +----------------------------------------+--------------------+ | Fedora 40 (ARM) | PASS | +----------------------------------------+--------------------+ | Fedora 40 (ARM Clang) | PASS | +----------------------------------------+--------------------+ | Debian 12 with MUSDK | PASS | +----------------------------------------+--------------------+ | Fedora 41 (ARM) | PASS | +----------------------------------------+--------------------+ | Fedora 41 (ARM Clang) | PASS | +----------------------------------------+--------------------+ | Debian 12 (arm) | PASS | +----------------------------------------+--------------------+ | Ubuntu 20.04 (ARM) | PASS | +----------------------------------------+--------------------+ | Ubuntu 24.04 (ARM) | PASS | +----------------------------------------+--------------------+ | Ubuntu 22.04 (ARM) | PASS | +----------------------------------------+--------------------+ | CentOS Stream 9 (ARM) | PASS | +----------------------------------------+--------------------+ | Ubuntu 20.04 aarch32 GCC Cross Compile | PASS | +----------------------------------------+--------------------+ | Ubuntu 20.04 ARM Clang Cross Compile | PASS | +----------------------------------------+--------------------+ | CentOS Stream 10 (ARM) | PASS | +----------------------------------------+--------------------+ RHEL9 (ARM) Kernel: Depends on container host Compiler: gcc 11.5.0 20240719 (Red Hat 11.5.0-2) Ubuntu 20.04 ARM GCC Cross Compile Kernel: Depends on container host Compiler: aarch64-linux-gnu-gcc (Ubuntu 9.4.0-1ubuntu1~20.04.2) 9.4.0 Ubuntu 20.04 ARM SVE Kernel: Depends on container host Compiler: gcc (Ubuntu 10.5.0-1ubuntu1~20.04) 10.5.0 Fedora 40 (ARM) Kernel: Depends on container host Compiler: gcc 14.2.1 20240912 (Red Hat 14.2.1-3) Fedora 40 (ARM Clang) Kernel: Depends on container host Compiler: clang 18.1.8 (Fedora 18.1.8-1.fc40) Debian 12 with MUSDK Kernel: Depends on container host Compiler: gcc (Debian 12.2.0-14) 12.2.0 Fedora 41 (ARM) Kernel: Depends on container host Compiler: gcc 14.2.1 20240912 (Red Hat 14.2.1-3) Fedora 41 (ARM Clang) Kernel: Depends on container host Compiler: clang 19.1.5 (Fedora 19.1.5-1.fc41) Debian 12 (arm) Kernel: Depends on container host Compiler: gcc (Debian 12.2.0-14) 12.2.0 Ubuntu 20.04 (ARM) Kernel: Depends on container host Compiler: gcc (Ubuntu 9.4.0-1ubuntu1~20.04.2) 9.4.0 Ubuntu 24.04 (ARM) Kernel: Depends on container host Compiler: gcc (Ubuntu 13.3.0-6ubuntu2~24.04) 13.3.0 Ubuntu 22.04 (ARM) Kernel: Depends on container host Compiler: gcc (Ubuntu 11.4.0-1ubuntu1~22.04) 11.4.0 CentOS Stream 9 (ARM) Kernel: Depends on container host Compiler: gcc 11.5.0 20240719 (Red Hat 11.5.0-2) Ubuntu 20.04 aarch32 GCC Cross Compile Kernel: Depends on container host Compiler: gcc 9.4.0 Ubuntu 20.04 ARM Clang Cross Compile Kernel: Depends on container host Compiler: clang 10.0.0-4ubuntu1 CentOS Stream 10 (ARM) Kernel: Depends on container host Compiler: gcc 14.2.1 20241104 (Red Hat 14.2.1-6) To view detailed results, visit: https://lab.dpdk.org/results/dashboard/tarballs/33469/ UNH-IOL DPDK Community Lab To manage your email subscriptions, visit: https://lab.dpdk.org/results/dashboard/preferences/subscriptions/