From mboxrd@z Thu Jan 1 00:00:00 1970 Return-Path: Received: from mails.dpdk.org (mails.dpdk.org [217.70.189.124]) by inbox.dpdk.org (Postfix) with ESMTP id 2A23A466F0 for ; Thu, 8 May 2025 06:03:12 +0200 (CEST) Received: from mails.dpdk.org (localhost [127.0.0.1]) by mails.dpdk.org (Postfix) with ESMTP id 11124402E2; Thu, 8 May 2025 06:03:12 +0200 (CEST) Received: from mail-pf1-f225.google.com (mail-pf1-f225.google.com [209.85.210.225]) by mails.dpdk.org (Postfix) with ESMTP id 729364025A for ; Thu, 8 May 2025 06:03:10 +0200 (CEST) Received: by mail-pf1-f225.google.com with SMTP id d2e1a72fcca58-739b3fe7ce8so610911b3a.0 for ; Wed, 07 May 2025 21:03:10 -0700 (PDT) DKIM-Signature: v=1; a=rsa-sha256; c=relaxed/relaxed; d=iol.unh.edu; s=unh-iol; t=1746676989; x=1747281789; darn=dpdk.org; h=references:in-reply-to:cc:to:from:subject:message-id:date:from:to :cc:subject:date:message-id:reply-to; bh=kGWICRZ7HGWtxUoK7BBKFXbNKKbDol2ceBSoJqatjf4=; b=K84SCcMNQHVt4jeekzoUNt68QXB02uLoQFf2eTVyGtxczPUYIUV9mpDRwrfi+7qzoz pCKTCa74SPbI0xGMuvVjFsZ997ejgRAejMmLYHBlj0i5w7W4xCS+Hy1Pb1yNOZnNWsvc TuHw8zAL+Q/ipTYh9Wyd6Nx7YHt8QT3ZTpH5M= X-Google-DKIM-Signature: v=1; a=rsa-sha256; c=relaxed/relaxed; d=1e100.net; s=20230601; t=1746676989; x=1747281789; h=references:in-reply-to:cc:to:from:subject:message-id:date :x-gm-message-state:from:to:cc:subject:date:message-id:reply-to; bh=kGWICRZ7HGWtxUoK7BBKFXbNKKbDol2ceBSoJqatjf4=; b=lc6uNUCyXDZdOhALdxK0V1iXI7+kH/NKl22SExUHlOoEKmqShhFX0Iv5oUrTJtAodH 4IYgWRmBxUZmgH/5IkqxcNc7OjCY/fRU3JjAvJV9Y68Eu2BNDC39wYo/oIEYH6r3WMn8 1etNSTgrp4IoUYZuGTErOeQWXNfHbgroMLkOZzPdu6lhF2u1QgKlsXd94WKTT5IA3L5k Hxh+KLnNr0Us1BGyfuaoGVmBFWSjyeFr3L+vuAc6OjX1NpwIGK5gPOZ9xIDHEge4DYpG tdRq+KY9LF8Afx+olECBVsCCQPPHWWgJZuae2DpfiPC5aac+9fR0B/UqcvTPoqOZKdfE 49cg== X-Gm-Message-State: AOJu0Yxa7gPYm9ojhPM3We9XWt2xY/RvGcRmVDBwUnORrO97xPh0hKeU q7mm7g9n3nPAW7biD4Wd1/qNAfUwUu7FK/ElHmJ4MEGC/D/I9iFaHAdB4QMTlKnUq22ZsU9GiOd avAxvopFISz+f6HP2CiU0NgvZmnMGXjcgSWelBZS0Dwo8A8F0gJIfxiyd X-Gm-Gg: ASbGncsXGBQ8vCn/5vwQlqMVUX9jkFvxgV/3YUT9ZmSYCd4Raddj3VuOKrkviEtVp6D wtU0ZEnUyBGZOp8uRjpc+KM0CtU27bXzjKTRph+Bc570Pyhsik/cFZe3zRrPox4aLHDZX0p2nnq hGPvzVFn6nYA+Bjc5aLNQK/+s+sluPPuxrqZfhIpI1gdk8FBOXG1cV8FcOQsNyPKH0VRAFoxUhU 3b3aqOQRRe3zHebRasW12ue6PlUnz/v5hEQhKVOLSSKw3DfLkrEjHUXPMyvSR1ue9I+HrpsOIdf tw85Ua0sgYMOii2cBUoI66XtkDqBlpzjw/zx X-Google-Smtp-Source: AGHT+IFg38DsrtNl9WahtZMeCNtMegf8GQht9WtvsueFfgYTEd4tN7t6sgVhb6X8OvIJ3mgELxD4fOLmQ6cJ X-Received: by 2002:a05:6a00:4406:b0:740:91e4:8107 with SMTP id d2e1a72fcca58-7409cbe6e94mr7435469b3a.0.1746676989443; Wed, 07 May 2025 21:03:09 -0700 (PDT) Received: from postal.iol.unh.edu (postal.iol.unh.edu. [2606:4100:3880:1234::84]) by smtp-relay.gmail.com with ESMTPS id d2e1a72fcca58-74058d881bfsm2308449b3a.1.2025.05.07.21.03.09 (version=TLS1_2 cipher=ECDHE-ECDSA-AES128-GCM-SHA256 bits=128/128); Wed, 07 May 2025 21:03:09 -0700 (PDT) X-Relaying-Domain: iol.unh.edu Date: Wed, 07 May 2025 21:03:09 -0700 (PDT) Message-ID: <681c2cfd.050a0220.19d5d2.5453SMTPIN_ADDED_MISSING@mx.google.com> Received: from [172.21.0.5] (unknown [172.18.0.240]) by postal.iol.unh.edu (Postfix) with ESMTP id 932BD6052471; Thu, 8 May 2025 00:03:08 -0400 (EDT) Subject: |SUCCESS| pw153347 [PATCH] app/test-flow-perf: support testing the f From: dpdklab@iol.unh.edu To: Test Report Cc: dpdk-test-reports@iol.unh.edu In-Reply-To: <20250508023638.37812-1-sunyang.wu@jaguarmicro.com> References: <20250508023638.37812-1-sunyang.wu@jaguarmicro.com> Content-Type: text/plain X-BeenThere: test-report@dpdk.org X-Mailman-Version: 2.1.29 Precedence: list List-Id: automatic DPDK test reports List-Unsubscribe: , List-Archive: List-Post: List-Help: List-Subscribe: , Errors-To: test-report-bounces@dpdk.org Test-Label: iol-unit-arm64-testing Test-Status: SUCCESS http://dpdk.org/patch/153347 _Testing PASS_ Submitter: Sunyang Wu Date: Thursday, May 08 2025 02:36:38 DPDK git baseline: Repo:dpdk Branch: master CommitID:75f179ebe347b6098cf3af26d3d3b7168fe3fe24 153347 --> testing pass Upstream job id: Generic-Unit-Test-DPDK#336329 Test environment and result as below: +-----------------------------+---------------------------+------------------------------+--------------+----------------+ | Environment | cryptodev_sw_zuc_autotest | cryptodev_sw_snow3g_autotest | lpm_autotest | dpdk_unit_test | +=============================+===========================+==============================+==============+================+ | Debian 12 (arm) | PASS | PASS | SKIPPED | PASS | +-----------------------------+---------------------------+------------------------------+--------------+----------------+ | Ubuntu 20.04 ARM SVE | SKIPPED | SKIPPED | PASS | SKIPPED | +-----------------------------+---------------------------+------------------------------+--------------+----------------+ | Fedora 41 (ARM) | SKIPPED | SKIPPED | SKIPPED | PASS | +-----------------------------+---------------------------+------------------------------+--------------+----------------+ | Fedora 41 (ARM Clang) | SKIPPED | SKIPPED | SKIPPED | PASS | +-----------------------------+---------------------------+------------------------------+--------------+----------------+ | CentOS Stream 9 (ARM) | SKIPPED | SKIPPED | SKIPPED | PASS | +-----------------------------+---------------------------+------------------------------+--------------+----------------+ | Fedora 40 (ARM Clang) | SKIPPED | SKIPPED | SKIPPED | PASS | +-----------------------------+---------------------------+------------------------------+--------------+----------------+ | CentOS Stream 10 (ARM) | SKIPPED | SKIPPED | SKIPPED | PASS | +-----------------------------+---------------------------+------------------------------+--------------+----------------+ | RHEL9 (ARM) | SKIPPED | SKIPPED | SKIPPED | PASS | +-----------------------------+---------------------------+------------------------------+--------------+----------------+ | Ubuntu 24.04 (ARM) | SKIPPED | SKIPPED | SKIPPED | PASS | +-----------------------------+---------------------------+------------------------------+--------------+----------------+ | Ubuntu 22.04 (ARM) | SKIPPED | SKIPPED | SKIPPED | PASS | +-----------------------------+---------------------------+------------------------------+--------------+----------------+ | Ubuntu 20.04 (ARM) | SKIPPED | SKIPPED | SKIPPED | PASS | +-----------------------------+---------------------------+------------------------------+--------------+----------------+ | Fedora 40 (ARM) | SKIPPED | SKIPPED | SKIPPED | PASS | +-----------------------------+---------------------------+------------------------------+--------------+----------------+ | 32-bit Ubuntu 22.04.4 (ARM) | SKIPPED | SKIPPED | SKIPPED | PASS | +-----------------------------+---------------------------+------------------------------+--------------+----------------+ Debian 12 (arm) Kernel: Depends on container host Compiler: gcc (Debian 12.2.0-14) 12.2.0 Ubuntu 20.04 ARM SVE Kernel: Depends on container host Compiler: gcc (Ubuntu 10.5.0-1ubuntu1~20.04) 10.5.0 Fedora 41 (ARM) Kernel: Depends on container host Compiler: gcc 14.2.1 20240912 (Red Hat 14.2.1-3) Fedora 41 (ARM Clang) Kernel: Depends on container host Compiler: clang 19.1.5 (Fedora 19.1.5-1.fc41) CentOS Stream 9 (ARM) Kernel: Depends on container host Compiler: gcc 11.5.0 20240719 (Red Hat 11.5.0-2) Fedora 40 (ARM Clang) Kernel: Depends on container host Compiler: clang 18.1.8 (Fedora 18.1.8-1.fc40) CentOS Stream 10 (ARM) Kernel: Depends on container host Compiler: gcc 14.2.1 20241104 (Red Hat 14.2.1-6) RHEL9 (ARM) Kernel: Depends on container host Compiler: gcc 11.5.0 20240719 (Red Hat 11.5.0-2) Ubuntu 24.04 (ARM) Kernel: Depends on container host Compiler: gcc (Ubuntu 13.3.0-6ubuntu2~24.04) 13.3.0 Ubuntu 22.04 (ARM) Kernel: Depends on container host Compiler: gcc (Ubuntu 11.4.0-1ubuntu1~22.04) 11.4.0 Ubuntu 20.04 (ARM) Kernel: Depends on container host Compiler: gcc (Ubuntu 9.4.0-1ubuntu1~20.04.2) 9.4.0 Fedora 40 (ARM) Kernel: Depends on container host Compiler: gcc 14.2.1 20240912 (Red Hat 14.2.1-3) 32-bit Ubuntu 22.04.4 (ARM) Kernel: 5.15.83+ aarch64 Compiler: gcc (Ubuntu 11.4.0-1ubuntu1~22.04) 11.4.0 To view detailed results, visit: https://lab.dpdk.org/results/dashboard/patchsets/33136/ UNH-IOL DPDK Community Lab To manage your email subscriptions, visit: https://lab.dpdk.org/results/dashboard/preferences/subscriptions/