automatic DPDK test reports
 help / color / mirror / Atom feed
From: dpdklab@iol.unh.edu
To: Test Report <test-report@dpdk.org>
Cc: dpdk-test-reports@iol.unh.edu
Subject: |SUCCESS| pw153347 [PATCH] app/test-flow-perf: support testing the f
Date: Wed, 07 May 2025 21:03:19 -0700 (PDT)	[thread overview]
Message-ID: <681c2d07.050a0220.3d7939.9f71SMTPIN_ADDED_MISSING@mx.google.com> (raw)
In-Reply-To: <20250508023638.37812-1-sunyang.wu@jaguarmicro.com>

Test-Label: iol-unit-arm64-testing
Test-Status: SUCCESS
http://dpdk.org/patch/153347

_Testing PASS_

Submitter: Sunyang Wu <sunyang.wu@jaguarmicro.com>
Date: Thursday, May 08 2025 02:36:38 
DPDK git baseline: Repo:dpdk
  Branch: master
  CommitID:75f179ebe347b6098cf3af26d3d3b7168fe3fe24

153347 --> testing pass

Upstream job id: Generic-Unit-Test-DPDK#336317

Test environment and result as below:

+-----------------------------+---------------------------+------------------------------+--------------+----------------+
|         Environment         | cryptodev_sw_zuc_autotest | cryptodev_sw_snow3g_autotest | lpm_autotest | dpdk_unit_test |
+=============================+===========================+==============================+==============+================+
| Debian 12 (arm)             | PASS                      | PASS                         | SKIPPED      | PASS           |
+-----------------------------+---------------------------+------------------------------+--------------+----------------+
| Ubuntu 20.04 ARM SVE        | SKIPPED                   | SKIPPED                      | PASS         | SKIPPED        |
+-----------------------------+---------------------------+------------------------------+--------------+----------------+
| Fedora 41 (ARM)             | SKIPPED                   | SKIPPED                      | SKIPPED      | PASS           |
+-----------------------------+---------------------------+------------------------------+--------------+----------------+
| Fedora 41 (ARM Clang)       | SKIPPED                   | SKIPPED                      | SKIPPED      | PASS           |
+-----------------------------+---------------------------+------------------------------+--------------+----------------+
| CentOS Stream 9 (ARM)       | SKIPPED                   | SKIPPED                      | SKIPPED      | PASS           |
+-----------------------------+---------------------------+------------------------------+--------------+----------------+
| Fedora 40 (ARM Clang)       | SKIPPED                   | SKIPPED                      | SKIPPED      | PASS           |
+-----------------------------+---------------------------+------------------------------+--------------+----------------+
| CentOS Stream 10 (ARM)      | SKIPPED                   | SKIPPED                      | SKIPPED      | PASS           |
+-----------------------------+---------------------------+------------------------------+--------------+----------------+
| RHEL9 (ARM)                 | SKIPPED                   | SKIPPED                      | SKIPPED      | PASS           |
+-----------------------------+---------------------------+------------------------------+--------------+----------------+
| Ubuntu 24.04 (ARM)          | SKIPPED                   | SKIPPED                      | SKIPPED      | PASS           |
+-----------------------------+---------------------------+------------------------------+--------------+----------------+
| Ubuntu 22.04 (ARM)          | SKIPPED                   | SKIPPED                      | SKIPPED      | PASS           |
+-----------------------------+---------------------------+------------------------------+--------------+----------------+
| Ubuntu 20.04 (ARM)          | SKIPPED                   | SKIPPED                      | SKIPPED      | PASS           |
+-----------------------------+---------------------------+------------------------------+--------------+----------------+
| Fedora 40 (ARM)             | SKIPPED                   | SKIPPED                      | SKIPPED      | PASS           |
+-----------------------------+---------------------------+------------------------------+--------------+----------------+
| 32-bit Ubuntu 22.04.4 (ARM) | SKIPPED                   | SKIPPED                      | SKIPPED      | PASS           |
+-----------------------------+---------------------------+------------------------------+--------------+----------------+


Debian 12 (arm)
	Kernel: Depends on container host
	Compiler: gcc (Debian 12.2.0-14) 12.2.0

Ubuntu 20.04 ARM SVE
	Kernel: Depends on container host
	Compiler: gcc (Ubuntu 10.5.0-1ubuntu1~20.04) 10.5.0

Fedora 41 (ARM)
	Kernel: Depends on container host
	Compiler: gcc 14.2.1 20240912 (Red Hat 14.2.1-3)

Fedora 41 (ARM Clang)
	Kernel: Depends on container host
	Compiler: clang 19.1.5 (Fedora 19.1.5-1.fc41)

CentOS Stream 9 (ARM)
	Kernel: Depends on container host
	Compiler: gcc 11.5.0 20240719 (Red Hat 11.5.0-2)

Fedora 40 (ARM Clang)
	Kernel: Depends on container host
	Compiler: clang 18.1.8 (Fedora 18.1.8-1.fc40)

CentOS Stream 10 (ARM)
	Kernel: Depends on container host
	Compiler: gcc 14.2.1 20241104 (Red Hat 14.2.1-6)

RHEL9 (ARM)
	Kernel: Depends on container host
	Compiler: gcc 11.5.0 20240719 (Red Hat 11.5.0-2)

Ubuntu 24.04 (ARM)
	Kernel: Depends on container host
	Compiler: gcc (Ubuntu 13.3.0-6ubuntu2~24.04) 13.3.0

Ubuntu 22.04 (ARM)
	Kernel: Depends on container host
	Compiler: gcc (Ubuntu 11.4.0-1ubuntu1~22.04) 11.4.0

Ubuntu 20.04 (ARM)
	Kernel: Depends on container host
	Compiler: gcc (Ubuntu 9.4.0-1ubuntu1~20.04.2) 9.4.0

Fedora 40 (ARM)
	Kernel: Depends on container host
	Compiler: gcc 14.2.1 20240912 (Red Hat 14.2.1-3)

32-bit Ubuntu 22.04.4 (ARM)
	Kernel: 5.15.83+ aarch64
	Compiler: gcc (Ubuntu 11.4.0-1ubuntu1~22.04) 11.4.0

To view detailed results, visit:
https://lab.dpdk.org/results/dashboard/patchsets/33136/

UNH-IOL DPDK Community Lab

To manage your email subscriptions, visit: 
https://lab.dpdk.org/results/dashboard/preferences/subscriptions/

  parent reply	other threads:[~2025-05-08  4:03 UTC|newest]

Thread overview: 24+ messages / expand[flat|nested]  mbox.gz  Atom feed  top
     [not found] <20250508023638.37812-1-sunyang.wu@jaguarmicro.com>
2025-05-08  2:05 ` |SUCCESS| pw153347 [PATCH] app/test-flow-perf: support testing the flow tables query rate qemudev
2025-05-08  2:09 ` qemudev
2025-05-08  2:37 ` checkpatch
2025-05-08  3:07 ` |PENDING| pw153347 [PATCH] app/test-flow-perf: support testing the f dpdklab
2025-05-08  3:07 ` |SUCCESS| " dpdklab
2025-05-08  3:11 ` |PENDING| " dpdklab
2025-05-08  3:13 ` |SUCCESS| " dpdklab
2025-05-08  3:20 ` |PENDING| " dpdklab
2025-05-08  3:23 ` |SUCCESS| " dpdklab
2025-05-08  3:24 ` dpdklab
2025-05-08  3:29 ` dpdklab
2025-05-08  3:32 ` dpdklab
2025-05-08  3:37 ` |PENDING| " dpdklab
2025-05-08  3:38 ` |SUCCESS| " dpdklab
2025-05-08  3:43 ` |SUCCESS| pw153347 [PATCH] app/test-flow-perf: support testing the flow tables query rate 0-day Robot
2025-05-08  3:53 ` |SUCCESS| pw153347 [PATCH] app/test-flow-perf: support testing the f dpdklab
2025-05-08  4:03 ` dpdklab
2025-05-08  4:03 ` dpdklab [this message]
2025-05-08  4:05 ` dpdklab
2025-05-08  4:36 ` dpdklab
2025-05-08  4:56 ` dpdklab
2025-05-08  5:14 ` dpdklab
2025-05-08  5:16 ` dpdklab
2025-05-08  5:23 ` dpdklab

Reply instructions:

You may reply publicly to this message via plain-text email
using any one of the following methods:

* Save the following mbox file, import it into your mail client,
  and reply-to-all from there: mbox

  Avoid top-posting and favor interleaved quoting:
  https://en.wikipedia.org/wiki/Posting_style#Interleaved_style

* Reply using the --to, --cc, and --in-reply-to
  switches of git-send-email(1):

  git send-email \
    --in-reply-to=681c2d07.050a0220.3d7939.9f71SMTPIN_ADDED_MISSING@mx.google.com \
    --to=dpdklab@iol.unh.edu \
    --cc=dpdk-test-reports@iol.unh.edu \
    --cc=test-report@dpdk.org \
    /path/to/YOUR_REPLY

  https://kernel.org/pub/software/scm/git/docs/git-send-email.html

* If your mail client supports setting the In-Reply-To header
  via mailto: links, try the mailto: link
Be sure your reply has a Subject: header at the top and a blank line before the message body.
This is a public inbox, see mirroring instructions
for how to clone and mirror all data and code used for this inbox;
as well as URLs for NNTP newsgroup(s).