From mboxrd@z Thu Jan 1 00:00:00 1970 Return-Path: Received: from mails.dpdk.org (mails.dpdk.org [217.70.189.124]) by inbox.dpdk.org (Postfix) with ESMTP id 2E999466F0 for ; Thu, 8 May 2025 06:03:22 +0200 (CEST) Received: from mails.dpdk.org (localhost [127.0.0.1]) by mails.dpdk.org (Postfix) with ESMTP id 2A001402D9; Thu, 8 May 2025 06:03:22 +0200 (CEST) Received: from mail-oa1-f97.google.com (mail-oa1-f97.google.com [209.85.160.97]) by mails.dpdk.org (Postfix) with ESMTP id 2463E4025A for ; Thu, 8 May 2025 06:03:20 +0200 (CEST) Received: by mail-oa1-f97.google.com with SMTP id 586e51a60fabf-2d5e5e21b92so450378fac.0 for ; Wed, 07 May 2025 21:03:20 -0700 (PDT) DKIM-Signature: v=1; a=rsa-sha256; c=relaxed/relaxed; d=iol.unh.edu; s=unh-iol; t=1746676999; x=1747281799; darn=dpdk.org; h=references:in-reply-to:cc:to:from:subject:message-id:date:from:to :cc:subject:date:message-id:reply-to; bh=2llMLxChBRSjvF/tjAocySm45J8D6VyrVWQq3C+WpcI=; b=G528gdXYWy0COAURLYuzXV4EXDx1OgPUlX3dS8XCXgshKIzbvPoKq3Rdx5Nq669+21 +Yi2aha3TwwaoXQjpBRRvKR+B/KIQEw9cLnfL3EVil+pPg8XieSuvitP4J2wWuZELqbg z9LgcPJ/p1D2v/PiPis/NRy32Mc004DVhz+SI= X-Google-DKIM-Signature: v=1; a=rsa-sha256; c=relaxed/relaxed; d=1e100.net; s=20230601; t=1746676999; x=1747281799; h=references:in-reply-to:cc:to:from:subject:message-id:date :x-gm-message-state:from:to:cc:subject:date:message-id:reply-to; bh=2llMLxChBRSjvF/tjAocySm45J8D6VyrVWQq3C+WpcI=; b=XXg9tE/iYyoJkVY3Q2OZRKw4Z4mkm0Oq2TAnBI4cEVucnKWp1Jmm3RJjBYB588caFd I7KIIhg6Ad8yIf5XxIIDBQSJuSvDoDxuMFrIAeeD07jRL6zsm6r4+AOZkE9GBHHDV/Qy hHmi1wUJJmAEjW+8qmxYLkpIZgV7OPgvesvNTRIv8PihSoat/bgkId7rAhva8y1AvelC aVdgqa8Mys8Y/fD3+uYgevSzGXZVtX1CMAU2c243aOrMEmlKV551KFPAfSp0vWuq2Bf9 poS4+iv29UzJVwbThtgyrZeLMNxnvBA1p9b8M0KTF+JHXkrjZ2iotqgutiY88GaI3eBb Gxgg== X-Gm-Message-State: AOJu0YyOAtAGx53HcxBrBLlLKCeiYcsBqpgucjuSB/q6d2+3AcM2Hn27 F3xKYz/LyT1inW2B4U4YvgAfdxkfxPXeaOXWDs0vZtKc3Cvm9Ps6pex4weWK6WLwCOd/phwTxNH 9Riw1k1XQx+PlqJeOKdkHXrLGDCMMRoshTNidIWDJiMw0YMRr0HjHMqSz X-Gm-Gg: ASbGncun6nNW2ydWzKfgPZXSliExi3L9IEzfm5opx7ja2Yb6hIxLjiyt2m5HFQR6JKs Y6v8p+Xc8ScDSI5gUnhdqx8MCo6EuBFx4yiZQF00EkKoo0dis7WlwJjq48YnjFvu6lsBN9svvys g8L6Tr+ieAXRtN/csXcvXNVXsb/sTV9l9alXnpU2MuC+eU+eDkIs/REnu+Qf1mDSWXqW4UIZefW fV83ywJUYlTJhqQ1fDp2SdG5ak+j+HMTc90ys7dLB1VURWJt3pyQCRKDP8wi5IwXw1sXeXt+pQ/ tJ62xop1DxHJPLolWfTZANNrRoDLNxbBYhXY X-Google-Smtp-Source: AGHT+IHaobxIFknk8y8Tjv9i9CiAfdsBO+el9Cj2vMzpDR5VhR6gzF6g5+8XHU5rgpVichNzTvE6SDKW3bFp X-Received: by 2002:a05:6870:585:b0:2c2:260:d77b with SMTP id 586e51a60fabf-2db81307be1mr1321210fac.5.1746676999086; Wed, 07 May 2025 21:03:19 -0700 (PDT) Received: from postal.iol.unh.edu (postal.iol.unh.edu. [2606:4100:3880:1234::84]) by smtp-relay.gmail.com with ESMTPS id 586e51a60fabf-2db5cb76743sm171124fac.2.2025.05.07.21.03.18 (version=TLS1_2 cipher=ECDHE-ECDSA-AES128-GCM-SHA256 bits=128/128); Wed, 07 May 2025 21:03:19 -0700 (PDT) X-Relaying-Domain: iol.unh.edu Date: Wed, 07 May 2025 21:03:19 -0700 (PDT) Message-ID: <681c2d07.050a0220.3d7939.9f71SMTPIN_ADDED_MISSING@mx.google.com> Received: from [172.21.0.11] (unknown [172.18.0.240]) by postal.iol.unh.edu (Postfix) with ESMTP id 8C04D6052471; Thu, 8 May 2025 00:03:18 -0400 (EDT) Subject: |SUCCESS| pw153347 [PATCH] app/test-flow-perf: support testing the f From: dpdklab@iol.unh.edu To: Test Report Cc: dpdk-test-reports@iol.unh.edu In-Reply-To: <20250508023638.37812-1-sunyang.wu@jaguarmicro.com> References: <20250508023638.37812-1-sunyang.wu@jaguarmicro.com> Content-Type: text/plain X-BeenThere: test-report@dpdk.org X-Mailman-Version: 2.1.29 Precedence: list List-Id: automatic DPDK test reports List-Unsubscribe: , List-Archive: List-Post: List-Help: List-Subscribe: , Errors-To: test-report-bounces@dpdk.org Test-Label: iol-unit-arm64-testing Test-Status: SUCCESS http://dpdk.org/patch/153347 _Testing PASS_ Submitter: Sunyang Wu Date: Thursday, May 08 2025 02:36:38 DPDK git baseline: Repo:dpdk Branch: master CommitID:75f179ebe347b6098cf3af26d3d3b7168fe3fe24 153347 --> testing pass Upstream job id: Generic-Unit-Test-DPDK#336317 Test environment and result as below: +-----------------------------+---------------------------+------------------------------+--------------+----------------+ | Environment | cryptodev_sw_zuc_autotest | cryptodev_sw_snow3g_autotest | lpm_autotest | dpdk_unit_test | +=============================+===========================+==============================+==============+================+ | Debian 12 (arm) | PASS | PASS | SKIPPED | PASS | +-----------------------------+---------------------------+------------------------------+--------------+----------------+ | Ubuntu 20.04 ARM SVE | SKIPPED | SKIPPED | PASS | SKIPPED | +-----------------------------+---------------------------+------------------------------+--------------+----------------+ | Fedora 41 (ARM) | SKIPPED | SKIPPED | SKIPPED | PASS | +-----------------------------+---------------------------+------------------------------+--------------+----------------+ | Fedora 41 (ARM Clang) | SKIPPED | SKIPPED | SKIPPED | PASS | +-----------------------------+---------------------------+------------------------------+--------------+----------------+ | CentOS Stream 9 (ARM) | SKIPPED | SKIPPED | SKIPPED | PASS | +-----------------------------+---------------------------+------------------------------+--------------+----------------+ | Fedora 40 (ARM Clang) | SKIPPED | SKIPPED | SKIPPED | PASS | +-----------------------------+---------------------------+------------------------------+--------------+----------------+ | CentOS Stream 10 (ARM) | SKIPPED | SKIPPED | SKIPPED | PASS | +-----------------------------+---------------------------+------------------------------+--------------+----------------+ | RHEL9 (ARM) | SKIPPED | SKIPPED | SKIPPED | PASS | +-----------------------------+---------------------------+------------------------------+--------------+----------------+ | Ubuntu 24.04 (ARM) | SKIPPED | SKIPPED | SKIPPED | PASS | +-----------------------------+---------------------------+------------------------------+--------------+----------------+ | Ubuntu 22.04 (ARM) | SKIPPED | SKIPPED | SKIPPED | PASS | +-----------------------------+---------------------------+------------------------------+--------------+----------------+ | Ubuntu 20.04 (ARM) | SKIPPED | SKIPPED | SKIPPED | PASS | +-----------------------------+---------------------------+------------------------------+--------------+----------------+ | Fedora 40 (ARM) | SKIPPED | SKIPPED | SKIPPED | PASS | +-----------------------------+---------------------------+------------------------------+--------------+----------------+ | 32-bit Ubuntu 22.04.4 (ARM) | SKIPPED | SKIPPED | SKIPPED | PASS | +-----------------------------+---------------------------+------------------------------+--------------+----------------+ Debian 12 (arm) Kernel: Depends on container host Compiler: gcc (Debian 12.2.0-14) 12.2.0 Ubuntu 20.04 ARM SVE Kernel: Depends on container host Compiler: gcc (Ubuntu 10.5.0-1ubuntu1~20.04) 10.5.0 Fedora 41 (ARM) Kernel: Depends on container host Compiler: gcc 14.2.1 20240912 (Red Hat 14.2.1-3) Fedora 41 (ARM Clang) Kernel: Depends on container host Compiler: clang 19.1.5 (Fedora 19.1.5-1.fc41) CentOS Stream 9 (ARM) Kernel: Depends on container host Compiler: gcc 11.5.0 20240719 (Red Hat 11.5.0-2) Fedora 40 (ARM Clang) Kernel: Depends on container host Compiler: clang 18.1.8 (Fedora 18.1.8-1.fc40) CentOS Stream 10 (ARM) Kernel: Depends on container host Compiler: gcc 14.2.1 20241104 (Red Hat 14.2.1-6) RHEL9 (ARM) Kernel: Depends on container host Compiler: gcc 11.5.0 20240719 (Red Hat 11.5.0-2) Ubuntu 24.04 (ARM) Kernel: Depends on container host Compiler: gcc (Ubuntu 13.3.0-6ubuntu2~24.04) 13.3.0 Ubuntu 22.04 (ARM) Kernel: Depends on container host Compiler: gcc (Ubuntu 11.4.0-1ubuntu1~22.04) 11.4.0 Ubuntu 20.04 (ARM) Kernel: Depends on container host Compiler: gcc (Ubuntu 9.4.0-1ubuntu1~20.04.2) 9.4.0 Fedora 40 (ARM) Kernel: Depends on container host Compiler: gcc 14.2.1 20240912 (Red Hat 14.2.1-3) 32-bit Ubuntu 22.04.4 (ARM) Kernel: 5.15.83+ aarch64 Compiler: gcc (Ubuntu 11.4.0-1ubuntu1~22.04) 11.4.0 To view detailed results, visit: https://lab.dpdk.org/results/dashboard/patchsets/33136/ UNH-IOL DPDK Community Lab To manage your email subscriptions, visit: https://lab.dpdk.org/results/dashboard/preferences/subscriptions/