From mboxrd@z Thu Jan 1 00:00:00 1970 Return-Path: Received: from mails.dpdk.org (mails.dpdk.org [217.70.189.124]) by inbox.dpdk.org (Postfix) with ESMTP id 9734C466F0 for ; Thu, 8 May 2025 06:05:56 +0200 (CEST) Received: from mails.dpdk.org (localhost [127.0.0.1]) by mails.dpdk.org (Postfix) with ESMTP id 9267C4027C; Thu, 8 May 2025 06:05:56 +0200 (CEST) Received: from mail-ua1-f97.google.com (mail-ua1-f97.google.com [209.85.222.97]) by mails.dpdk.org (Postfix) with ESMTP id BD70A4025A for ; Thu, 8 May 2025 06:05:54 +0200 (CEST) Received: by mail-ua1-f97.google.com with SMTP id a1e0cc1a2514c-86dddba7e0eso168805241.1 for ; Wed, 07 May 2025 21:05:54 -0700 (PDT) DKIM-Signature: v=1; a=rsa-sha256; c=relaxed/relaxed; d=iol.unh.edu; s=unh-iol; t=1746677154; x=1747281954; darn=dpdk.org; h=references:in-reply-to:cc:to:from:subject:message-id:date:from:to :cc:subject:date:message-id:reply-to; bh=9kasDVDFkuWQKlsQYEb5e9KBt4x46rIPhSwgSJaF8fc=; b=JMva7Nnj2xo46rjxlvBS8/IuEI7UbSfW5bvRzq0cB969DkMM1IaExZkqfsgoFEY010 GtFWVE3uYckJ2ImGT6Jvt2Pm9Uci6GnYr9kmeCg9Jr02cJXno/RUecoMg/lx/CLsH30L H01jlJ0Pp9ansWK7dIwbjrktcNJz0dDPnfH9E= X-Google-DKIM-Signature: v=1; a=rsa-sha256; c=relaxed/relaxed; d=1e100.net; s=20230601; t=1746677154; x=1747281954; h=references:in-reply-to:cc:to:from:subject:message-id:date :x-gm-message-state:from:to:cc:subject:date:message-id:reply-to; bh=9kasDVDFkuWQKlsQYEb5e9KBt4x46rIPhSwgSJaF8fc=; b=i3ojj/RxvbMH0/b7SXycZ7EJb4pf+DjzO5cNownk3+j7DttOKg8Wmkg5YciM+9jkbw 7+1oSEhfe4cH/IZwJJpoxXq+wAAQhErI3ZNr/ipsryr9sI+kRJgPmx/1Qf9k7U3ItRre IwDdBFo0ePoysRgcSRNRYu+NkMuFTrUqWI1wDhNCt3nsKQZXzi+t12zpOzU/FWanFvLm 2JsF47TRBwmbcyZ3yVdFd2GNEvQq0E3uplBxMu7Xk7jzUXrpHAIsYTHx2mCPUvxbGbj6 iO3X0JFLRq31sSxDzEAodHDnIu0UTRoNRIbgTATe9d8pUw00+lsbgQteMiTRn8qn6FaP P+1g== X-Gm-Message-State: AOJu0YyyMnGYkbDcNpEq407TggoIRW3BN++c7p4r+0QDV3sc4s6V0Vmd dmuUFoybHofn2cpbp71ruVFXWhXctkoh57f5DCaQjeDLWfShqQtDPZYIT6VGqw2cDdkG6CYl0XS NmuEXl+zlhB5/op+QuVPKGUxILSA0jRCWuzG0CHZH X-Gm-Gg: ASbGncvFX+adPK9YDGpGnzNuUTocfNTtpVDV+FZz0rA9+r/GVVtcmGJaT3yd6v+Ri0k 58+eo1l6js5SQd6IOfp3ei/4A3/BgNnoK+XMP/0haXfD/BajhPRd6yKHfKdarAKBZqNgadqriHs 0p280eGhDI32BJrGT6xAsJQ6r2fku6IxHjSoCdYsr+Jnsjpu6N72jVa+aN4QgBFWqnVKgSJVWQZ 4gKZzWuhkbbyjEtw0Q4RMlpQ1/pn11M5m850Dl0k39WIMSIck0aAfl5Irj/+diALtBZWY6+UjzO XFYLBdqnYNdTN0oxNGOiiItwLuy64cW0iblIZrO+7nuo9pnN2riSK19YYGA= X-Google-Smtp-Source: AGHT+IGKYu7FotkLq3j9Kp3kU3TooVoSo5MYLuwA9Tws5w0XaOHLOyegD82qYLlUnT6zynMhMtjG1IObBCrQ X-Received: by 2002:a67:f082:0:b0:4c3:6215:9f86 with SMTP id ada2fe7eead31-4dc73885d90mr3270876137.19.1746677154083; Wed, 07 May 2025 21:05:54 -0700 (PDT) Received: from postal.iol.unh.edu (postal.iol.unh.edu. [132.177.123.84]) by smtp-relay.gmail.com with ESMTPS id ada2fe7eead31-4daf258830dsm658183137.4.2025.05.07.21.05.54 (version=TLS1_2 cipher=ECDHE-ECDSA-AES128-GCM-SHA256 bits=128/128); Wed, 07 May 2025 21:05:54 -0700 (PDT) X-Relaying-Domain: iol.unh.edu Date: Wed, 07 May 2025 21:05:54 -0700 (PDT) Message-ID: <681c2da2.050a0220.30bfe5.7321SMTPIN_ADDED_MISSING@mx.google.com> Received: from [172.21.0.5] (unknown [172.18.0.240]) by postal.iol.unh.edu (Postfix) with ESMTP id AE5F76052471; Thu, 8 May 2025 00:05:53 -0400 (EDT) Subject: |SUCCESS| pw153347 [PATCH] app/test-flow-perf: support testing the f From: dpdklab@iol.unh.edu To: Test Report Cc: dpdk-test-reports@iol.unh.edu In-Reply-To: <20250508023638.37812-1-sunyang.wu@jaguarmicro.com> References: <20250508023638.37812-1-sunyang.wu@jaguarmicro.com> Content-Type: text/plain X-BeenThere: test-report@dpdk.org X-Mailman-Version: 2.1.29 Precedence: list List-Id: automatic DPDK test reports List-Unsubscribe: , List-Archive: List-Post: List-Help: List-Subscribe: , Errors-To: test-report-bounces@dpdk.org Test-Label: iol-sample-apps-testing Test-Status: SUCCESS http://dpdk.org/patch/153347 _Testing PASS_ Submitter: Sunyang Wu Date: Thursday, May 08 2025 02:36:38 DPDK git baseline: Repo:dpdk Branch: master CommitID:75f179ebe347b6098cf3af26d3d3b7168fe3fe24 153347 --> testing pass Upstream job id: ACVP-FIPS-testing#9750 Test environment and result as below: +--------------------+----------------------+----------------------+ | Environment | dpdk_fips_validation | compressdev_zlib_pmd | +====================+======================+======================+ | Ubuntu 20.04 | PASS | SKIPPED | +--------------------+----------------------+----------------------+ | Ubuntu 22.04 (ARM) | SKIPPED | PASS | +--------------------+----------------------+----------------------+ | Ubuntu 22.04 | SKIPPED | PASS | +--------------------+----------------------+----------------------+ Ubuntu 20.04 Kernel: Depends on container host Compiler: gcc (Ubuntu 9.4.0-1ubuntu1~20.04.2) 9.4.0 Ubuntu 22.04 (ARM) Kernel: 5.15.0-97-generic Compiler: gcc gcc (Ubuntu 11.4.0-1ubuntu1~22.04) 11.4.0 Ubuntu 22.04 Kernel: 5.15.0-100-generic Compiler: gcc gcc (Ubuntu 11.4.0-1ubuntu1~22.04) 11.4.0 To view detailed results, visit: https://lab.dpdk.org/results/dashboard/patchsets/33136/ UNH-IOL DPDK Community Lab To manage your email subscriptions, visit: https://lab.dpdk.org/results/dashboard/preferences/subscriptions/