From mboxrd@z Thu Jan 1 00:00:00 1970 Return-Path: Received: from mails.dpdk.org (mails.dpdk.org [217.70.189.124]) by inbox.dpdk.org (Postfix) with ESMTP id F069A466F0 for ; Thu, 8 May 2025 06:36:32 +0200 (CEST) Received: from mails.dpdk.org (localhost [127.0.0.1]) by mails.dpdk.org (Postfix) with ESMTP id EB0AC4027C; Thu, 8 May 2025 06:36:32 +0200 (CEST) Received: from mail-vs1-f100.google.com (mail-vs1-f100.google.com [209.85.217.100]) by mails.dpdk.org (Postfix) with ESMTP id A69C44025A for ; Thu, 8 May 2025 06:36:31 +0200 (CEST) Received: by mail-vs1-f100.google.com with SMTP id ada2fe7eead31-4c315dd9252so334148137.1 for ; Wed, 07 May 2025 21:36:31 -0700 (PDT) DKIM-Signature: v=1; a=rsa-sha256; c=relaxed/relaxed; d=iol.unh.edu; s=unh-iol; t=1746678991; x=1747283791; darn=dpdk.org; h=references:in-reply-to:cc:to:from:subject:message-id:date:from:to :cc:subject:date:message-id:reply-to; bh=8x9pR5lRhv17NxTDeDVKmgACu4u1vxMQ/sRZuxZOsFQ=; b=VjRwtZHo+Z5ygbHiA2oGMFeVXUVDT3sBIgqb2OymJkWGwtRfh6hyCHQOp2M/CN9qfI ddHlHl10dFRSYj5DJ+/3u4BpgxaJPWoEh/wCWTyLB1m98ieq/2VWE/FJgIbWjnMJc+zq BdTvmCwqameD1Mvv9CMCYQpIx0gVKjIOxrK9M= X-Google-DKIM-Signature: v=1; a=rsa-sha256; c=relaxed/relaxed; d=1e100.net; s=20230601; t=1746678991; x=1747283791; h=references:in-reply-to:cc:to:from:subject:message-id:date :x-gm-message-state:from:to:cc:subject:date:message-id:reply-to; bh=8x9pR5lRhv17NxTDeDVKmgACu4u1vxMQ/sRZuxZOsFQ=; b=cAwU0wBODUcjRPyOvERbGhInsC55G6a7k4vzrIqwv0MFxL1BK8gzVf+RnFM9is0uKs LEYrANaGw+g30jS91Ri5W707d6I0ScVHHsJIX4iJDHCVgtU+PgF81BU88+Npwy5Btma+ r3Je+grC2uf+6ZI8VyaWoS9jxYUAMp+qS3bmHlccBBev3+b3VwtdhVhJhcM8F7XQ5Ujv O5xD7vZwcnd0x28yWNKCha8fhUa9KH3xiFP2cZhsToUNT6rOovclALWGI9qsbZ7z/sZZ F/um9PfLuVUXmrlYiqRrvhdO7aiuIQmp2zbG5T0FevSdw1EJNIAwMQ2gsG2zw3GFigTO oZQg== X-Gm-Message-State: AOJu0YwB/afNl01+uWlqsmtbnwsZ/nt30GublJ2eI7umNorGBxoH/LFH R6EpzjS8EwZBKJ7jzlx7yMZKnrecL8/45DgTgtFgnr4p3kqx1yAr7X5+MXrEWYliYgzspZX4Tw8 sOjqi7LFG3xx/n/J81GbEkbk9bsYO6Tvhp0lpYSON X-Gm-Gg: ASbGncuC4Dlw9a6OaPBR+YyC44ltLkrE/QeAz2yd8gHjCUSMoe7ly7ODy6kkZ5+maXJ nkSVZRjNBSniqYjyhKU3XlXGJwVW2SOEeBiKJxy4QMde52jcnNqPPcYE9LC5e40QmUKBk6g5cmR wRwF/hbexUpJU0sRqO4pIbu8Powd9qYU1qc57laWOk7S51HIpUlVThb7bOKpqzQGe2LgaLm3y/o 6/U7kKmuXtQQU3k/tcj65NRVjqJ7ODwsYZP4cIkHUrklXmCBu6K+Rx/MQXG0gMlYP02VIOWIe1P Ad/T/tNAdgp/ECYySnSDPAKrpSIFxZdEGJtdG3ILEwxkhZOGA9dQmbhvHf8= X-Google-Smtp-Source: AGHT+IHcxihnqd3K5wYCvp7iEsrrp5SQDSkn3z9Ab8IxctRhqPAOWaoQ2yiTzjFJUZi/k6CK+dx8pLD839On X-Received: by 2002:a05:6102:825:b0:4c0:435b:5dd2 with SMTP id ada2fe7eead31-4ddac83476amr1403582137.1.1746678990960; Wed, 07 May 2025 21:36:30 -0700 (PDT) Received: from postal.iol.unh.edu (postal.iol.unh.edu. [132.177.123.84]) by smtp-relay.gmail.com with ESMTPS id a1e0cc1a2514c-8783b4b1093sm117625241.5.2025.05.07.21.36.30 (version=TLS1_2 cipher=ECDHE-ECDSA-AES128-GCM-SHA256 bits=128/128); Wed, 07 May 2025 21:36:30 -0700 (PDT) X-Relaying-Domain: iol.unh.edu Date: Wed, 07 May 2025 21:36:30 -0700 (PDT) Message-ID: <681c34ce.050a0220.145c05.69ecSMTPIN_ADDED_MISSING@mx.google.com> Received: from [172.21.0.11] (unknown [172.18.0.240]) by postal.iol.unh.edu (Postfix) with ESMTP id 72F556052471; Thu, 8 May 2025 00:36:30 -0400 (EDT) Subject: |SUCCESS| pw153347 [PATCH] app/test-flow-perf: support testing the f From: dpdklab@iol.unh.edu To: Test Report Cc: dpdk-test-reports@iol.unh.edu In-Reply-To: <20250508023638.37812-1-sunyang.wu@jaguarmicro.com> References: <20250508023638.37812-1-sunyang.wu@jaguarmicro.com> Content-Type: text/plain X-BeenThere: test-report@dpdk.org X-Mailman-Version: 2.1.29 Precedence: list List-Id: automatic DPDK test reports List-Unsubscribe: , List-Archive: List-Post: List-Help: List-Subscribe: , Errors-To: test-report-bounces@dpdk.org Test-Label: iol-unit-amd64-testing Test-Status: SUCCESS http://dpdk.org/patch/153347 _Testing PASS_ Submitter: Sunyang Wu Date: Thursday, May 08 2025 02:36:38 DPDK git baseline: Repo:dpdk Branch: master CommitID:75f179ebe347b6098cf3af26d3d3b7168fe3fe24 153347 --> testing pass Upstream job id: Generic-Unit-Test-DPDK#336320 Test environment and result as below: +---------------------+----------------+ | Environment | dpdk_unit_test | +=====================+================+ | CentOS Stream 9 | PASS | +---------------------+----------------+ | Ubuntu 24.04 | PASS | +---------------------+----------------+ | Fedora 41 | PASS | +---------------------+----------------+ | RHEL8 | PASS | +---------------------+----------------+ | Fedora 40 | PASS | +---------------------+----------------+ | Fedora 40 (Clang) | PASS | +---------------------+----------------+ | Ubuntu 22.04 | PASS | +---------------------+----------------+ | CentOS Stream 10 | PASS | +---------------------+----------------+ | Debian 12 | PASS | +---------------------+----------------+ | RHEL9 | PASS | +---------------------+----------------+ | Ubuntu 20.04 | PASS | +---------------------+----------------+ | Fedora 41 (Clang) | PASS | +---------------------+----------------+ | Windows Server 2022 | PASS | +---------------------+----------------+ CentOS Stream 9 Kernel: Depends on container host Compiler: gcc 11.5.0 20240719 (Red Hat 11.5.0-2) Ubuntu 24.04 Kernel: Depends on container host Compiler: gcc (Ubuntu 13.3.0-6ubuntu2~24.04) 13.3.0 Fedora 41 Kernel: Depends on container host Compiler: gcc 14.2.1 20240912 (Red Hat 14.2.1-3) RHEL8 Kernel: Depends on container host Compiler: gcc 8.5.0 20210514 (Red Hat 8.5.0-22) Fedora 40 Kernel: Depends on container host Compiler: gcc 14.2.1 20240912 (Red Hat 14.2.1-3) Fedora 40 (Clang) Kernel: Depends on container host Compiler: clang 18.1.8 (Fedora 18.1.8-1.fc40) Ubuntu 22.04 Kernel: Depends on container host Compiler: gcc (Ubuntu 11.4.0-1ubuntu1~22.04) 11.4.0 CentOS Stream 10 Kernel: Depends on container host Compiler: gcc 14.2.1 20241104 (Red Hat 14.2.1-6) Debian 12 Kernel: Depends on container host Compiler: gcc (Debian 12.2.0-14) 12.2.0 RHEL9 Kernel: Depends on container host Compiler: gcc 11.5.0 20240719 (Red Hat 11.5.0-2) Ubuntu 20.04 Kernel: Depends on container host Compiler: gcc (Ubuntu 9.4.0-1ubuntu1~20.04.2) 9.4.0 Fedora 41 (Clang) Kernel: Depends on container host Compiler: clang 19.1.5 (Fedora 19.1.5-1.fc41) Windows Server 2022 Kernel: 10.0.20348.2031 Compiler: clang 15.0.7, gcc 14.1.0 (MinGW), and MSVC VS 19.39.33521 To view detailed results, visit: https://lab.dpdk.org/results/dashboard/patchsets/33136/ UNH-IOL DPDK Community Lab To manage your email subscriptions, visit: https://lab.dpdk.org/results/dashboard/preferences/subscriptions/