From mboxrd@z Thu Jan 1 00:00:00 1970 Return-Path: Received: from mails.dpdk.org (mails.dpdk.org [217.70.189.124]) by inbox.dpdk.org (Postfix) with ESMTP id 42FA9466F0 for ; Thu, 8 May 2025 06:56:46 +0200 (CEST) Received: from mails.dpdk.org (localhost [127.0.0.1]) by mails.dpdk.org (Postfix) with ESMTP id 28ACB4027C; Thu, 8 May 2025 06:56:46 +0200 (CEST) Received: from mail-oo1-f98.google.com (mail-oo1-f98.google.com [209.85.161.98]) by mails.dpdk.org (Postfix) with ESMTP id 81DD94025A for ; Thu, 8 May 2025 06:56:44 +0200 (CEST) Received: by mail-oo1-f98.google.com with SMTP id 006d021491bc7-6065251725bso408354eaf.1 for ; Wed, 07 May 2025 21:56:44 -0700 (PDT) DKIM-Signature: v=1; a=rsa-sha256; c=relaxed/relaxed; d=iol.unh.edu; s=unh-iol; t=1746680203; x=1747285003; darn=dpdk.org; h=references:in-reply-to:cc:to:from:subject:message-id:date:from:to :cc:subject:date:message-id:reply-to; bh=3Kgy93hCSWtZHDTzbMLYxe1WlGRB38bm42Uo06+PlpQ=; b=d7kS8CxjjY8xFZWGO6DcaWBPiM0jpfXNG6udTG5UzUoOn0j2sr3SpaaaJPWrb56r3V zYelhZ6ifR2dyjOUJLv6DQtcS93B2GVVhy/EflRVmug0t/2Gl0n4Hihp6B5dYKMV17Jf dbLAGtypSEs9yA2XkJW4Ar0fMOo7/YI9H2iHM= X-Google-DKIM-Signature: v=1; a=rsa-sha256; c=relaxed/relaxed; d=1e100.net; s=20230601; t=1746680203; x=1747285003; h=references:in-reply-to:cc:to:from:subject:message-id:date :x-gm-message-state:from:to:cc:subject:date:message-id:reply-to; bh=3Kgy93hCSWtZHDTzbMLYxe1WlGRB38bm42Uo06+PlpQ=; b=vrKlJfFbP9NAj6nrtZZVOfMCUmGb5H9MmBzo4hOMKf0IL1TAfjNf+K+3V1TqB2+MIF nJgmvTVeHaKLwDvVT7CdaoY6GeE5KBM+HzAPJ8h1Yp+uisZmhWZ1LcKJP1grAz7WWwOq y6Ya5+TExjZKfjvIN3kFQj5YaOVwFApSNcBApB/Lk6iTfGEYAAVKEfOaYCrFb245UTyI Hwc17fE+Ne5J7yB0jZbAqVUROGLFRuFZrNLsPmSSTOKC9eV5+ouoj6ChbDu+o1VWmqdc e7cG+NfWY6cK0ejEMX6hbooP0xKXeXJNSjgaUhVx48zZ1XxVt9LiCJdrTy4B7KD0B6BA XDyA== X-Gm-Message-State: AOJu0YxrMr0PcJJgjbfhAoYTBQM4qTTNSPAkfqmkL+6t1A1FRQpYCMSH PSPd3xujheZMDtunczX2+8FuUB27h2s1sCtZngcEQD99GpO4kap6uuRzt0DqH9QlHXW38isMoxL J2/uzvfu3ekyOFtIKwk7WwPnhSQFp8BosflGWlLpisErBzGIfMxQymYvh X-Gm-Gg: ASbGncufNT3ajNxWBAw1icLIL4Vvujm+2HxU9pokLivX8kh02YMuxuJYKZmXDGVJgUr 2mSILBzm0LIh5GJy8CM9suQFZ8aMo+pBonECQ6u1Snz9D/nz68hbgYeJRF5iKDfwR4VyhFHDReL l8imUQjk4d5fwsLvOrcJSkJ9bnanlfW4jcZD2e1kYJUjR/po4emCGIGmrWm/cN5U6wW1DGNhSWl pxE8DkAwyaVmq6Y0goG8qvO5JpQlaS+j6+aOOlkKoKLviDzhBjb3/cyBPZxnabjD9OXlzSbcdan v6B9MBW0rm/qOt5qlChotQgJ1yTzaT7iNYr6 X-Google-Smtp-Source: AGHT+IHWbFTTmp1TuY7uBTjQh/TfWoI9j3I5uFdydBHfLuLRQM7l9/asUiTgsIPwdRNsmHmEec+K0YV4Q8sL X-Received: by 2002:a05:6870:d0c2:b0:2d6:7266:a8d8 with SMTP id 586e51a60fabf-2db813186f4mr1158491fac.3.1746680203409; Wed, 07 May 2025 21:56:43 -0700 (PDT) Received: from postal.iol.unh.edu (postal.iol.unh.edu. [2606:4100:3880:1234::84]) by smtp-relay.gmail.com with ESMTPS id 586e51a60fabf-2db5c66b383sm176328fac.0.2025.05.07.21.56.43 (version=TLS1_2 cipher=ECDHE-ECDSA-AES128-GCM-SHA256 bits=128/128); Wed, 07 May 2025 21:56:43 -0700 (PDT) X-Relaying-Domain: iol.unh.edu Date: Wed, 07 May 2025 21:56:43 -0700 (PDT) Message-ID: <681c398b.050a0220.3c9529.9a3aSMTPIN_ADDED_MISSING@mx.google.com> Received: from [172.21.0.5] (unknown [172.18.0.240]) by postal.iol.unh.edu (Postfix) with ESMTP id 9EFF36052471; Thu, 8 May 2025 00:56:42 -0400 (EDT) Subject: |SUCCESS| pw153347 [PATCH] app/test-flow-perf: support testing the f From: dpdklab@iol.unh.edu To: Test Report Cc: dpdk-test-reports@iol.unh.edu In-Reply-To: <20250508023638.37812-1-sunyang.wu@jaguarmicro.com> References: <20250508023638.37812-1-sunyang.wu@jaguarmicro.com> Content-Type: text/plain X-BeenThere: test-report@dpdk.org X-Mailman-Version: 2.1.29 Precedence: list List-Id: automatic DPDK test reports List-Unsubscribe: , List-Archive: List-Post: List-Help: List-Subscribe: , Errors-To: test-report-bounces@dpdk.org Test-Label: iol-compile-amd64-testing Test-Status: SUCCESS http://dpdk.org/patch/153347 _Testing PASS_ Submitter: Sunyang Wu Date: Thursday, May 08 2025 02:36:38 DPDK git baseline: Repo:dpdk Branch: master CommitID:75f179ebe347b6098cf3af26d3d3b7168fe3fe24 153347 --> testing pass Upstream job id: Generic-DPDK-Compile-Meson#386243 Test environment and result as below: +-----------------------------------+--------------------+-------------------+------------------+-------------------------+-------------------+----------------------+ | Environment | dpdk_meson_compile | dpdk_compile_spdk | dpdk_compile_ovs | dpdk_llvm_clang_compile | dpdk_msvc_compile | dpdk_mingw64_compile | +===================================+====================+===================+==================+=========================+===================+======================+ | CentOS Stream 9 | PASS | PASS | SKIPPED | SKIPPED | SKIPPED | SKIPPED | +-----------------------------------+--------------------+-------------------+------------------+-------------------------+-------------------+----------------------+ | Fedora 40 (Clang) | PASS | PASS | SKIPPED | SKIPPED | SKIPPED | SKIPPED | +-----------------------------------+--------------------+-------------------+------------------+-------------------------+-------------------+----------------------+ | Debian 12 | PASS | PASS | SKIPPED | SKIPPED | SKIPPED | SKIPPED | +-----------------------------------+--------------------+-------------------+------------------+-------------------------+-------------------+----------------------+ | CentOS Stream 10 | PASS | SKIPPED | SKIPPED | SKIPPED | SKIPPED | SKIPPED | +-----------------------------------+--------------------+-------------------+------------------+-------------------------+-------------------+----------------------+ | Fedora 41 (Clang) | PASS | PASS | PASS | SKIPPED | SKIPPED | SKIPPED | +-----------------------------------+--------------------+-------------------+------------------+-------------------------+-------------------+----------------------+ | Fedora 40 | PASS | PASS | SKIPPED | SKIPPED | SKIPPED | SKIPPED | +-----------------------------------+--------------------+-------------------+------------------+-------------------------+-------------------+----------------------+ | Fedora 41 | PASS | PASS | PASS | SKIPPED | SKIPPED | SKIPPED | +-----------------------------------+--------------------+-------------------+------------------+-------------------------+-------------------+----------------------+ | openSUSE Leap 15 | PASS | SKIPPED | SKIPPED | SKIPPED | SKIPPED | SKIPPED | +-----------------------------------+--------------------+-------------------+------------------+-------------------------+-------------------+----------------------+ | RHEL8 | PASS | SKIPPED | SKIPPED | SKIPPED | SKIPPED | SKIPPED | +-----------------------------------+--------------------+-------------------+------------------+-------------------------+-------------------+----------------------+ | Ubuntu 20.04 | PASS | SKIPPED | SKIPPED | SKIPPED | SKIPPED | SKIPPED | +-----------------------------------+--------------------+-------------------+------------------+-------------------------+-------------------+----------------------+ | Ubuntu 22.04 | PASS | PASS | SKIPPED | SKIPPED | SKIPPED | SKIPPED | +-----------------------------------+--------------------+-------------------+------------------+-------------------------+-------------------+----------------------+ | Ubuntu 24.04 | PASS | PASS | PASS | SKIPPED | SKIPPED | SKIPPED | +-----------------------------------+--------------------+-------------------+------------------+-------------------------+-------------------+----------------------+ | Ubuntu 24.04 32 Bit Cross Compile | PASS | SKIPPED | SKIPPED | SKIPPED | SKIPPED | SKIPPED | +-----------------------------------+--------------------+-------------------+------------------+-------------------------+-------------------+----------------------+ | Alpine | PASS | SKIPPED | SKIPPED | SKIPPED | SKIPPED | SKIPPED | +-----------------------------------+--------------------+-------------------+------------------+-------------------------+-------------------+----------------------+ | FreeBSD 13.5 | PASS | SKIPPED | SKIPPED | SKIPPED | SKIPPED | SKIPPED | +-----------------------------------+--------------------+-------------------+------------------+-------------------------+-------------------+----------------------+ | FreeBSD 14.2 | PASS | SKIPPED | SKIPPED | SKIPPED | SKIPPED | SKIPPED | +-----------------------------------+--------------------+-------------------+------------------+-------------------------+-------------------+----------------------+ | RHEL9 | PASS | SKIPPED | SKIPPED | SKIPPED | SKIPPED | SKIPPED | +-----------------------------------+--------------------+-------------------+------------------+-------------------------+-------------------+----------------------+ | Windows Server 2022 | SKIPPED | SKIPPED | SKIPPED | PASS | PASS | PASS | +-----------------------------------+--------------------+-------------------+------------------+-------------------------+-------------------+----------------------+ CentOS Stream 9 Kernel: Depends on container host Compiler: gcc 11.5.0 20240719 (Red Hat 11.5.0-2) Fedora 40 (Clang) Kernel: Depends on container host Compiler: clang 18.1.8 (Fedora 18.1.8-1.fc40) Debian 12 Kernel: Depends on container host Compiler: gcc (Debian 12.2.0-14) 12.2.0 CentOS Stream 10 Kernel: Depends on container host Compiler: gcc 14.2.1 20241104 (Red Hat 14.2.1-6) Fedora 41 (Clang) Kernel: Depends on container host Compiler: clang 19.1.5 (Fedora 19.1.5-1.fc41) Fedora 40 Kernel: Depends on container host Compiler: gcc 14.2.1 20240912 (Red Hat 14.2.1-3) Fedora 41 Kernel: Depends on container host Compiler: gcc 14.2.1 20240912 (Red Hat 14.2.1-3) openSUSE Leap 15 Kernel: Depends on container host Compiler: gcc (SUSE Linux) 7.5.0 RHEL8 Kernel: Depends on container host Compiler: gcc 8.5.0 20210514 (Red Hat 8.5.0-22) Ubuntu 20.04 Kernel: Depends on container host Compiler: gcc (Ubuntu 9.4.0-1ubuntu1~20.04.2) 9.4.0 Ubuntu 22.04 Kernel: Depends on container host Compiler: gcc (Ubuntu 11.4.0-1ubuntu1~22.04) 11.4.0 Ubuntu 24.04 Kernel: Depends on container host Compiler: gcc (Ubuntu 13.3.0-6ubuntu2~24.04) 13.3.0 Ubuntu 24.04 32 Bit Cross Compile Kernel: Depends on container host Compiler: gcc (Ubuntu 13.3.0-6ubuntu2~24.04) 13.3.0 Alpine Kernel: Depends on container host Compiler: gcc (Alpine 14.2.0) 14.2.0 FreeBSD 13.5 Kernel: 13.5-RELEASE Compiler: clang 19.1.7 FreeBSD 14.2 Kernel: 14.2-RELEASE Compiler: clang 18.1.6 RHEL9 Kernel: Depends on container host Compiler: gcc 11.5.0 20240719 (Red Hat 11.5.0-2) Windows Server 2022 Kernel: 10.0.20348.2031 Compiler: clang 15.0.7, gcc 14.1.0 (MinGW), and MSVC VS 19.39.33521 To view detailed results, visit: https://lab.dpdk.org/results/dashboard/patchsets/33136/ UNH-IOL DPDK Community Lab To manage your email subscriptions, visit: https://lab.dpdk.org/results/dashboard/preferences/subscriptions/