From mboxrd@z Thu Jan 1 00:00:00 1970 Return-Path: Received: from mails.dpdk.org (mails.dpdk.org [217.70.189.124]) by inbox.dpdk.org (Postfix) with ESMTP id 19293466F0 for ; Thu, 8 May 2025 07:16:21 +0200 (CEST) Received: from mails.dpdk.org (localhost [127.0.0.1]) by mails.dpdk.org (Postfix) with ESMTP id 12FFF4027C; Thu, 8 May 2025 07:16:21 +0200 (CEST) Received: from mail-ot1-f97.google.com (mail-ot1-f97.google.com [209.85.210.97]) by mails.dpdk.org (Postfix) with ESMTP id 8806D4025A for ; Thu, 8 May 2025 07:16:20 +0200 (CEST) Received: by mail-ot1-f97.google.com with SMTP id 46e09a7af769-7306482f958so445559a34.0 for ; Wed, 07 May 2025 22:16:20 -0700 (PDT) DKIM-Signature: v=1; a=rsa-sha256; c=relaxed/relaxed; d=iol.unh.edu; s=unh-iol; t=1746681380; x=1747286180; darn=dpdk.org; h=references:in-reply-to:cc:to:from:subject:message-id:date:from:to :cc:subject:date:message-id:reply-to; bh=wwbl8q6oHHlcMpgx021yqqR36eDFnSSz5XRuN60GDWY=; b=fRNFycAGUyzFpSm0kVY1lws9wrwny7f3E6ETDxJytnbxW9TesCJ1K9mTIem2+HLIef 8JbEzUjTre/mD/FA7s/1NMLbXzlFEAB9FBoL8TgcSVqkClSGnS7qKPFgJ2YbeeqaGord A4IRyl5c2vmfRpmsrdEaKRfB30Zl7yQgHPycg= X-Google-DKIM-Signature: v=1; a=rsa-sha256; c=relaxed/relaxed; d=1e100.net; s=20230601; t=1746681380; x=1747286180; h=references:in-reply-to:cc:to:from:subject:message-id:date :x-gm-message-state:from:to:cc:subject:date:message-id:reply-to; bh=wwbl8q6oHHlcMpgx021yqqR36eDFnSSz5XRuN60GDWY=; b=qyyhRRNHG9eQ+nnBnanhqUMniwFYe3s6GxFKaWEFebyeNWcF+egFowLw6cdfOvrQdC luKTJnbzx1wPJ/6vQHrQXcs5lSzeh9EZgSQmOkZFwol5v/UcscLk9TwiDYvadsZ8l079 55wRE1y32We5BKQG9EvbxhaGBxUtXLWHapNpRdpVxhWuGkcA4dF0O81U2P3DwxjLFAyF +GsVqsDlD624SOX0ll3xZE5A7V7XOLrhtYXmn34ipoyfo/wyezz6bP6u6QyUyutZKdDD 9K3sIPQab6qiCffR6y6XNtI1brzMhlIwF02aZIJ+BAedM231XmuPVrQkn6KfZ2SPvi/x unAA== X-Gm-Message-State: AOJu0YyjYbaRHC1AKt7EykAAQ8SNqY48KDRPj0JZImP97BnOrEgfiIIR FgOMl1UsWl+8PvMRmBXQLbd1Vja1a/DJkXDtyo6j6Kg4NzRO41XqgJRYmv4yzziODh/lwYdRS6E X+lGKlmuDiS0jU8RCyLIwKSiztT1QUEShGPux3Ano X-Gm-Gg: ASbGncthatksUWzWH8dVZEwJh29hZbUhm/ALF7LvyVjjQACnHt9r0bxX55nFxCeSPml bK/7PNXSpdTU6R2HfNkxtaXOV6j1kNQztg9UlZJO66X0DBYhKZ3GTLc0kxj8DNmfkkghzM6jGn/ iH+36OkvJ95GqKh2MDYywMdomW0MtuLzDoBlzPiLnqgeQVjcKrgxZecdNa3l2yuu7Nz/P7N3A7A zRB89wrR9AYwop/uR8SxKjUwEEvvh17tpZPIfKM8FCVQZmKorADyb/c+MGRyfsKOBPX3ULmd91X PJoxp4A/2tCTzsc6KukU2ce3Giej75l8X3toEQ920Zz8I3yx3PFgEWEHjCo= X-Google-Smtp-Source: AGHT+IF6jQKNjjL4NdpbvAPb6OonPt5lYcXw1T9g1T/sYWpnIJ4P/oCWeFna9oB2DPGuhmO5THwA4WfRbtw9 X-Received: by 2002:ad4:5c8e:0:b0:6f5:3a79:a4b2 with SMTP id 6a1803df08f44-6f5429fffcemr92000846d6.14.1746681369332; Wed, 07 May 2025 22:16:09 -0700 (PDT) Received: from postal.iol.unh.edu (postal.iol.unh.edu. [132.177.123.84]) by smtp-relay.gmail.com with ESMTPS id 6a1803df08f44-6f542695954sm1873906d6.42.2025.05.07.22.16.09 (version=TLS1_2 cipher=ECDHE-ECDSA-AES128-GCM-SHA256 bits=128/128); Wed, 07 May 2025 22:16:09 -0700 (PDT) X-Relaying-Domain: iol.unh.edu Date: Wed, 07 May 2025 22:16:09 -0700 (PDT) Message-ID: <681c3e19.050a0220.178e70.a26aSMTPIN_ADDED_MISSING@mx.google.com> Received: from [172.21.0.5] (unknown [172.18.0.240]) by postal.iol.unh.edu (Postfix) with ESMTP id EEF966052471; Thu, 8 May 2025 01:16:08 -0400 (EDT) Subject: |SUCCESS| pw153347 [PATCH] app/test-flow-perf: support testing the f From: dpdklab@iol.unh.edu To: Test Report Cc: dpdk-test-reports@iol.unh.edu In-Reply-To: <20250508023638.37812-1-sunyang.wu@jaguarmicro.com> References: <20250508023638.37812-1-sunyang.wu@jaguarmicro.com> Content-Type: text/plain X-BeenThere: test-report@dpdk.org X-Mailman-Version: 2.1.29 Precedence: list List-Id: automatic DPDK test reports List-Unsubscribe: , List-Archive: List-Post: List-Help: List-Subscribe: , Errors-To: test-report-bounces@dpdk.org Test-Label: iol-abi-testing Test-Status: SUCCESS http://dpdk.org/patch/153347 _Testing PASS_ Submitter: Sunyang Wu Date: Thursday, May 08 2025 02:36:38 DPDK git baseline: Repo:dpdk Branch: master CommitID:75f179ebe347b6098cf3af26d3d3b7168fe3fe24 153347 --> testing pass Upstream job id: Generic-DPDK-Compile-ABI#125685 Test environment and result as below: +-------------------+----------+ | Environment | abi_test | +===================+==========+ | CentOS Stream 10 | PASS | +-------------------+----------+ | CentOS Stream 9 | PASS | +-------------------+----------+ | Debian 12 | PASS | +-------------------+----------+ | Fedora 40 | PASS | +-------------------+----------+ | Fedora 41 | PASS | +-------------------+----------+ | Fedora 41 (Clang) | PASS | +-------------------+----------+ | Fedora 40 (Clang) | PASS | +-------------------+----------+ | Ubuntu 24.04 | PASS | +-------------------+----------+ | RHEL8 | PASS | +-------------------+----------+ | openSUSE Leap 15 | PASS | +-------------------+----------+ | RHEL9 | PASS | +-------------------+----------+ | Ubuntu 22.04 | PASS | +-------------------+----------+ CentOS Stream 10 Kernel: Depends on container host Compiler: gcc 14.2.1 20241104 (Red Hat 14.2.1-6) CentOS Stream 9 Kernel: Depends on container host Compiler: gcc 11.5.0 20240719 (Red Hat 11.5.0-2) Debian 12 Kernel: Depends on container host Compiler: gcc (Debian 12.2.0-14) 12.2.0 Fedora 40 Kernel: Depends on container host Compiler: gcc 14.2.1 20240912 (Red Hat 14.2.1-3) Fedora 41 Kernel: Depends on container host Compiler: gcc 14.2.1 20240912 (Red Hat 14.2.1-3) Fedora 41 (Clang) Kernel: Depends on container host Compiler: clang 19.1.5 (Fedora 19.1.5-1.fc41) Fedora 40 (Clang) Kernel: Depends on container host Compiler: clang 18.1.8 (Fedora 18.1.8-1.fc40) Ubuntu 24.04 Kernel: Depends on container host Compiler: gcc (Ubuntu 13.3.0-6ubuntu2~24.04) 13.3.0 RHEL8 Kernel: Depends on container host Compiler: gcc 8.5.0 20210514 (Red Hat 8.5.0-22) openSUSE Leap 15 Kernel: Depends on container host Compiler: gcc (SUSE Linux) 7.5.0 RHEL9 Kernel: Depends on container host Compiler: gcc 11.5.0 20240719 (Red Hat 11.5.0-2) Ubuntu 22.04 Kernel: Depends on container host Compiler: gcc (Ubuntu 11.4.0-1ubuntu1~22.04) 11.4.0 To view detailed results, visit: https://lab.dpdk.org/results/dashboard/patchsets/33136/ UNH-IOL DPDK Community Lab To manage your email subscriptions, visit: https://lab.dpdk.org/results/dashboard/preferences/subscriptions/