From mboxrd@z Thu Jan 1 00:00:00 1970 Return-Path: Received: from mails.dpdk.org (mails.dpdk.org [217.70.189.124]) by inbox.dpdk.org (Postfix) with ESMTP id 010CB466F0 for ; Thu, 8 May 2025 07:20:54 +0200 (CEST) Received: from mails.dpdk.org (localhost [127.0.0.1]) by mails.dpdk.org (Postfix) with ESMTP id EFA234027C; Thu, 8 May 2025 07:20:53 +0200 (CEST) Received: from mail-qv1-f97.google.com (mail-qv1-f97.google.com [209.85.219.97]) by mails.dpdk.org (Postfix) with ESMTP id B89584025A for ; Thu, 8 May 2025 07:20:52 +0200 (CEST) Received: by mail-qv1-f97.google.com with SMTP id 6a1803df08f44-6f53d271b7cso6217296d6.2 for ; Wed, 07 May 2025 22:20:52 -0700 (PDT) DKIM-Signature: v=1; a=rsa-sha256; c=relaxed/relaxed; d=iol.unh.edu; s=unh-iol; t=1746681652; x=1747286452; darn=dpdk.org; h=references:in-reply-to:cc:to:from:subject:message-id:date:from:to :cc:subject:date:message-id:reply-to; bh=HVJOecHIgcSvzkODJfIJLG5tD/07oE1JitfIQ688GL8=; b=Zd1iEw5Rr3MEWtI+qF6hH64OJHI/3BoOJXuTbU33x7D1hszqSLqEjXer3grt5G82ZR 3VDKEeKfa9fR2/0uW14Yo2oZ4ESWjZfYn4atpj1GO3IR9RqDwO4DQm2V7odnjTm2Xkqm bikkroOytaznP1iejvVZnNUHMPf2SClnl3YKg= X-Google-DKIM-Signature: v=1; a=rsa-sha256; c=relaxed/relaxed; d=1e100.net; s=20230601; t=1746681652; x=1747286452; h=references:in-reply-to:cc:to:from:subject:message-id:date :x-gm-message-state:from:to:cc:subject:date:message-id:reply-to; bh=HVJOecHIgcSvzkODJfIJLG5tD/07oE1JitfIQ688GL8=; b=PlrbXqGz+BBfYtWEw6kjfcitV/NSVpv4/Ea0eFpBaIiqnu02MAV14W8aGiMQPvUq2i uHP5Qj8j215NjnNryDyu0MLKU1TGeZU1nvb+uZ8qh5Yq4/YBhL3NjgoP+Wu+/LQ1CW/Q ojsA3brJ2U1KSh5tIMTD4zoaQvUJINWqMshzVW4SGBnU7P7XmgWsVhqZ0tzSZyMAj2PG 7Mpqa02iVj50nB8d0uWvNioZNtLMiLDqnXxkm60VDXcLVdWfyQknfhktbnattBRUoube Q6av1yKI7drk6bQMsM233xtDLKEJnezW7ouaTh1fA2y4kBfg3Uvla+dq5S7wKCzYxUzT Hfgg== X-Gm-Message-State: AOJu0Yz7rMUZSE8hlwQHnu5tf29rTS3aihlEoR84BuUHqoo16KD9LVx5 n6U3ez50jKR1xBXepT5SNjqu5sJGoCSoRQRkHRmluDLi0KR6wZ30Pna8C2RUsorjcxeDxpNrfqu dMLR309/WHSoS2gp5yJJFRZ/cSnvBp4U0A8Cwooa/ X-Gm-Gg: ASbGncsoGKouK67DeHq2ZjzsMY4RWL3r2I7EslADl3pht2KRBOFA4znDLyXGpRu0K8v ZXQ5dEcWiHvdnzG/MieJBH57ej0/4Lgv5A3kj2SZA7h2y8QvjovmdT9Twdve0nFNsVxTn2FAlI1 YCijflGkm1Vr0GD3AtC6ChV7mjk0exWNHh4SL8Rp/PtpCgBWeUaklnNiPKtgF9AR4AEbXlIDSCm exS1LNpINRmt/pjoi1nepoSJnnX2wPFsfTT7BbobJh7EThlQmMB9evs8HgsrQT24Q+M5lkqWOwu hU/OGQ8aFIM6oMNlP8Gik2WiRYD9lU1VJs1HlbA+w5NPVmFpWD1nNPRXtdY= X-Google-Smtp-Source: AGHT+IGFEKYzicM3FJi1lBJaCu+faLrYj055HSMDXrMoPRB9617j4KwkpaU9JtVwuR3IPnx2jaR+ArzucXsb X-Received: by 2002:ad4:574c:0:b0:6f5:ea0:3c1e with SMTP id 6a1803df08f44-6f542a3d225mr94886126d6.23.1746681652127; Wed, 07 May 2025 22:20:52 -0700 (PDT) Received: from postal.iol.unh.edu (postal.iol.unh.edu. [132.177.123.84]) by smtp-relay.gmail.com with ESMTPS id 6a1803df08f44-6f542b1e3f1sm1879606d6.43.2025.05.07.22.20.52 (version=TLS1_2 cipher=ECDHE-ECDSA-AES128-GCM-SHA256 bits=128/128); Wed, 07 May 2025 22:20:52 -0700 (PDT) X-Relaying-Domain: iol.unh.edu Date: Wed, 07 May 2025 22:20:52 -0700 (PDT) Message-ID: <681c3f34.0c0a0220.2c270.a5f5SMTPIN_ADDED_MISSING@mx.google.com> Received: from [172.21.0.5] (unknown [172.18.0.240]) by postal.iol.unh.edu (Postfix) with ESMTP id BD3F56052471; Thu, 8 May 2025 01:20:51 -0400 (EDT) Subject: |SUCCESS| pw153346 [PATCH] ethdev: optimize how the values of the fl From: dpdklab@iol.unh.edu To: Test Report Cc: dpdk-test-reports@iol.unh.edu In-Reply-To: <20250508023334.28416-1-sunyang.wu@jaguarmicro.com> References: <20250508023334.28416-1-sunyang.wu@jaguarmicro.com> Content-Type: text/plain X-BeenThere: test-report@dpdk.org X-Mailman-Version: 2.1.29 Precedence: list List-Id: automatic DPDK test reports List-Unsubscribe: , List-Archive: List-Post: List-Help: List-Subscribe: , Errors-To: test-report-bounces@dpdk.org Test-Label: iol-unit-arm64-testing Test-Status: SUCCESS http://dpdk.org/patch/153346 _Testing PASS_ Submitter: Sunyang Wu Date: Thursday, May 08 2025 02:33:34 DPDK git baseline: Repo:dpdk Branch: master CommitID:ff05ee3e3f8fb4ce958a2ce6461e8141aea959c6 153346 --> testing pass Upstream job id: Generic-Unit-Test-DPDK#336366 Test environment and result as below: +-----------------------------+----------------+------------------------------+--------------+---------------------------+ | Environment | dpdk_unit_test | cryptodev_sw_snow3g_autotest | lpm_autotest | cryptodev_sw_zuc_autotest | +=============================+================+==============================+==============+===========================+ | CentOS Stream 10 (ARM) | PASS | SKIPPED | SKIPPED | SKIPPED | +-----------------------------+----------------+------------------------------+--------------+---------------------------+ | CentOS Stream 9 (ARM) | PASS | SKIPPED | SKIPPED | SKIPPED | +-----------------------------+----------------+------------------------------+--------------+---------------------------+ | Debian 12 (arm) | PASS | PASS | SKIPPED | PASS | +-----------------------------+----------------+------------------------------+--------------+---------------------------+ | Ubuntu 20.04 (ARM) | PASS | SKIPPED | SKIPPED | SKIPPED | +-----------------------------+----------------+------------------------------+--------------+---------------------------+ | Fedora 40 (ARM) | PASS | SKIPPED | SKIPPED | SKIPPED | +-----------------------------+----------------+------------------------------+--------------+---------------------------+ | Fedora 41 (ARM) | PASS | SKIPPED | SKIPPED | SKIPPED | +-----------------------------+----------------+------------------------------+--------------+---------------------------+ | Fedora 41 (ARM Clang) | PASS | SKIPPED | SKIPPED | SKIPPED | +-----------------------------+----------------+------------------------------+--------------+---------------------------+ | Fedora 40 (ARM Clang) | PASS | SKIPPED | SKIPPED | SKIPPED | +-----------------------------+----------------+------------------------------+--------------+---------------------------+ | RHEL9 (ARM) | PASS | SKIPPED | SKIPPED | SKIPPED | +-----------------------------+----------------+------------------------------+--------------+---------------------------+ | Ubuntu 22.04 (ARM) | PASS | SKIPPED | SKIPPED | SKIPPED | +-----------------------------+----------------+------------------------------+--------------+---------------------------+ | Ubuntu 24.04 (ARM) | PASS | SKIPPED | SKIPPED | SKIPPED | +-----------------------------+----------------+------------------------------+--------------+---------------------------+ | 32-bit Ubuntu 22.04.4 (ARM) | PASS | SKIPPED | SKIPPED | SKIPPED | +-----------------------------+----------------+------------------------------+--------------+---------------------------+ | Ubuntu 20.04 ARM SVE | SKIPPED | SKIPPED | PASS | SKIPPED | +-----------------------------+----------------+------------------------------+--------------+---------------------------+ CentOS Stream 10 (ARM) Kernel: Depends on container host Compiler: gcc 14.2.1 20241104 (Red Hat 14.2.1-6) CentOS Stream 9 (ARM) Kernel: Depends on container host Compiler: gcc 11.5.0 20240719 (Red Hat 11.5.0-2) Debian 12 (arm) Kernel: Depends on container host Compiler: gcc (Debian 12.2.0-14) 12.2.0 Ubuntu 20.04 (ARM) Kernel: Depends on container host Compiler: gcc (Ubuntu 9.4.0-1ubuntu1~20.04.2) 9.4.0 Fedora 40 (ARM) Kernel: Depends on container host Compiler: gcc 14.2.1 20240912 (Red Hat 14.2.1-3) Fedora 41 (ARM) Kernel: Depends on container host Compiler: gcc 14.2.1 20240912 (Red Hat 14.2.1-3) Fedora 41 (ARM Clang) Kernel: Depends on container host Compiler: clang 19.1.5 (Fedora 19.1.5-1.fc41) Fedora 40 (ARM Clang) Kernel: Depends on container host Compiler: clang 18.1.8 (Fedora 18.1.8-1.fc40) RHEL9 (ARM) Kernel: Depends on container host Compiler: gcc 11.5.0 20240719 (Red Hat 11.5.0-2) Ubuntu 22.04 (ARM) Kernel: Depends on container host Compiler: gcc (Ubuntu 11.4.0-1ubuntu1~22.04) 11.4.0 Ubuntu 24.04 (ARM) Kernel: Depends on container host Compiler: gcc (Ubuntu 13.3.0-6ubuntu2~24.04) 13.3.0 32-bit Ubuntu 22.04.4 (ARM) Kernel: 5.15.83+ aarch64 Compiler: gcc (Ubuntu 11.4.0-1ubuntu1~22.04) 11.4.0 Ubuntu 20.04 ARM SVE Kernel: Depends on container host Compiler: gcc (Ubuntu 10.5.0-1ubuntu1~20.04) 10.5.0 To view detailed results, visit: https://lab.dpdk.org/results/dashboard/patchsets/33135/ UNH-IOL DPDK Community Lab To manage your email subscriptions, visit: https://lab.dpdk.org/results/dashboard/preferences/subscriptions/