From mboxrd@z Thu Jan 1 00:00:00 1970 Return-Path: Received: from mails.dpdk.org (mails.dpdk.org [217.70.189.124]) by inbox.dpdk.org (Postfix) with ESMTP id 10C61466F0 for ; Thu, 8 May 2025 07:21:03 +0200 (CEST) Received: from mails.dpdk.org (localhost [127.0.0.1]) by mails.dpdk.org (Postfix) with ESMTP id 0B87F4027C; Thu, 8 May 2025 07:21:03 +0200 (CEST) Received: from mail-pf1-f225.google.com (mail-pf1-f225.google.com [209.85.210.225]) by mails.dpdk.org (Postfix) with ESMTP id 063FE4025A for ; Thu, 8 May 2025 07:21:02 +0200 (CEST) Received: by mail-pf1-f225.google.com with SMTP id d2e1a72fcca58-736b0c68092so566696b3a.0 for ; Wed, 07 May 2025 22:21:01 -0700 (PDT) DKIM-Signature: v=1; a=rsa-sha256; c=relaxed/relaxed; d=iol.unh.edu; s=unh-iol; t=1746681661; x=1747286461; darn=dpdk.org; h=references:in-reply-to:cc:to:from:subject:message-id:date:from:to :cc:subject:date:message-id:reply-to; bh=+U70cpxrfF/q06WBld1PAfgWNyHaHmJq4rkBg71VnF0=; b=e+GbS3VyxtcKExwhvlFr90GscQ2hIsps8gNzZbPIpB2fO1CZ5zrBFF3photIooIvCQ imygtBx4ook2NJ7i9x2/2wjl7GTfZ6qbAUcy17rMn5t9avPKoRG89DzWCzLdURSgT3hk kJZ/4dWXiNOfEtdgSi0EWkg/bhgTHDZMc2bjQ= X-Google-DKIM-Signature: v=1; a=rsa-sha256; c=relaxed/relaxed; d=1e100.net; s=20230601; t=1746681661; x=1747286461; h=references:in-reply-to:cc:to:from:subject:message-id:date :x-gm-message-state:from:to:cc:subject:date:message-id:reply-to; bh=+U70cpxrfF/q06WBld1PAfgWNyHaHmJq4rkBg71VnF0=; b=O0ih3Hy3CbnIo+mbqbKyOn9/dnaRIHmZ8kmNXNDkvl7zHEZPV6WO8D8YiEH1Eg6s+p DX8Pd3q8nS4er/lGFg6q/S7GZ3i4ihrWo0vvFARd8aFcUl3HmYnVFydX6PK1O08T0VZU 5Iwdz+scASaWhvqKmf8AN+s4D807yC6Ary7tQfbkO1zmbH5khLt+oAf5g97btsanTOhi dvPtubbDpLb9pAmRNG+0chyzcE6l7noRlS2JOCRrjpoNgTVgMcWDdqbnFFTD2TKa2tOA DtJgpVqSNmzq9LQeGco+G4ha9iEH5Q6v3ieD7F1ziwrk1Sz4gEQuByyfYUYHWTT1yHRG +uSw== X-Gm-Message-State: AOJu0YwP90AVHx9AupL2/LUgcpvvronoShqatnbUwNFAe/+iQQoS02vw o2RF2funXKBLpCSq3vcgzaXHsCNle5WvR2Ol5XZnIlPJFtJ0pkQ2Lrk9wh+tat+BftXQK9rCI7w Yb+5EToPqhGWFp/x8joWPHR68f9FNHrlLbYmDrWjIy0VNjneg4VInoVmN X-Gm-Gg: ASbGncu7uynDyNxrS8HVKNztQncBZD3uMeTk9h1qKgvZaZiV4qizwthDSBKAONs1IFQ Jx82YU8Slz1rCg01Td25rnqIrJNYSBHZJlNkDI+D0B+JGyX0NdQhbuz8+EDfCJf76UziLO0dY00 ECxAlK0X+lpQbNQEvXHS5FLTQ4ZPOEZznU/MakAVagOI3OT6osX8D+TtmzNCEpXrh+9YzpeMe3W Bv9lS8N+7o7j8iVuzhWVgtiBhpTNT9YV44vGDARl/OicV/XbIxLcBEA/B3LIzqN8jlyibVgOc5Z FHoOImfjXDuThyhKYNm6IkX3q0y0HjyUREGl X-Google-Smtp-Source: AGHT+IH1qsu6viNvDxpm9b7+uj68IMV4VOM6NB3drvqEMsX463hGB5O7vacbAmJKk05MHn6URWt0hxrCfwj2 X-Received: by 2002:a05:6a00:298d:b0:736:ab1d:83c4 with SMTP id d2e1a72fcca58-7409cbf336bmr8973633b3a.0.1746681660996; Wed, 07 May 2025 22:21:00 -0700 (PDT) Received: from postal.iol.unh.edu (postal.iol.unh.edu. [2606:4100:3880:1234::84]) by smtp-relay.gmail.com with ESMTPS id d2e1a72fcca58-74058d881bfsm2314347b3a.1.2025.05.07.22.21.00 (version=TLS1_2 cipher=ECDHE-ECDSA-AES128-GCM-SHA256 bits=128/128); Wed, 07 May 2025 22:21:00 -0700 (PDT) X-Relaying-Domain: iol.unh.edu Date: Wed, 07 May 2025 22:21:00 -0700 (PDT) Message-ID: <681c3f3c.050a0220.19d5d2.594fSMTPIN_ADDED_MISSING@mx.google.com> Received: from [172.21.0.11] (unknown [172.18.0.240]) by postal.iol.unh.edu (Postfix) with ESMTP id 0BF3E6052471; Thu, 8 May 2025 01:21:00 -0400 (EDT) Subject: |SUCCESS| pw153346 [PATCH] ethdev: optimize how the values of the fl From: dpdklab@iol.unh.edu To: Test Report Cc: dpdk-test-reports@iol.unh.edu In-Reply-To: <20250508023334.28416-1-sunyang.wu@jaguarmicro.com> References: <20250508023334.28416-1-sunyang.wu@jaguarmicro.com> Content-Type: text/plain X-BeenThere: test-report@dpdk.org X-Mailman-Version: 2.1.29 Precedence: list List-Id: automatic DPDK test reports List-Unsubscribe: , List-Archive: List-Post: List-Help: List-Subscribe: , Errors-To: test-report-bounces@dpdk.org Test-Label: iol-unit-arm64-testing Test-Status: SUCCESS http://dpdk.org/patch/153346 _Testing PASS_ Submitter: Sunyang Wu Date: Thursday, May 08 2025 02:33:34 DPDK git baseline: Repo:dpdk Branch: master CommitID:ff05ee3e3f8fb4ce958a2ce6461e8141aea959c6 153346 --> testing pass Upstream job id: Aarch32-Unit-Test#6171 Test environment and result as below: +-----------------------------+----------------+------------------------------+--------------+---------------------------+ | Environment | dpdk_unit_test | cryptodev_sw_snow3g_autotest | lpm_autotest | cryptodev_sw_zuc_autotest | +=============================+================+==============================+==============+===========================+ | CentOS Stream 10 (ARM) | PASS | SKIPPED | SKIPPED | SKIPPED | +-----------------------------+----------------+------------------------------+--------------+---------------------------+ | CentOS Stream 9 (ARM) | PASS | SKIPPED | SKIPPED | SKIPPED | +-----------------------------+----------------+------------------------------+--------------+---------------------------+ | Debian 12 (arm) | PASS | PASS | SKIPPED | PASS | +-----------------------------+----------------+------------------------------+--------------+---------------------------+ | Ubuntu 20.04 (ARM) | PASS | SKIPPED | SKIPPED | SKIPPED | +-----------------------------+----------------+------------------------------+--------------+---------------------------+ | Fedora 40 (ARM) | PASS | SKIPPED | SKIPPED | SKIPPED | +-----------------------------+----------------+------------------------------+--------------+---------------------------+ | Fedora 41 (ARM) | PASS | SKIPPED | SKIPPED | SKIPPED | +-----------------------------+----------------+------------------------------+--------------+---------------------------+ | Fedora 41 (ARM Clang) | PASS | SKIPPED | SKIPPED | SKIPPED | +-----------------------------+----------------+------------------------------+--------------+---------------------------+ | Fedora 40 (ARM Clang) | PASS | SKIPPED | SKIPPED | SKIPPED | +-----------------------------+----------------+------------------------------+--------------+---------------------------+ | RHEL9 (ARM) | PASS | SKIPPED | SKIPPED | SKIPPED | +-----------------------------+----------------+------------------------------+--------------+---------------------------+ | Ubuntu 22.04 (ARM) | PASS | SKIPPED | SKIPPED | SKIPPED | +-----------------------------+----------------+------------------------------+--------------+---------------------------+ | Ubuntu 24.04 (ARM) | PASS | SKIPPED | SKIPPED | SKIPPED | +-----------------------------+----------------+------------------------------+--------------+---------------------------+ | 32-bit Ubuntu 22.04.4 (ARM) | PASS | SKIPPED | SKIPPED | SKIPPED | +-----------------------------+----------------+------------------------------+--------------+---------------------------+ | Ubuntu 20.04 ARM SVE | SKIPPED | SKIPPED | PASS | SKIPPED | +-----------------------------+----------------+------------------------------+--------------+---------------------------+ CentOS Stream 10 (ARM) Kernel: Depends on container host Compiler: gcc 14.2.1 20241104 (Red Hat 14.2.1-6) CentOS Stream 9 (ARM) Kernel: Depends on container host Compiler: gcc 11.5.0 20240719 (Red Hat 11.5.0-2) Debian 12 (arm) Kernel: Depends on container host Compiler: gcc (Debian 12.2.0-14) 12.2.0 Ubuntu 20.04 (ARM) Kernel: Depends on container host Compiler: gcc (Ubuntu 9.4.0-1ubuntu1~20.04.2) 9.4.0 Fedora 40 (ARM) Kernel: Depends on container host Compiler: gcc 14.2.1 20240912 (Red Hat 14.2.1-3) Fedora 41 (ARM) Kernel: Depends on container host Compiler: gcc 14.2.1 20240912 (Red Hat 14.2.1-3) Fedora 41 (ARM Clang) Kernel: Depends on container host Compiler: clang 19.1.5 (Fedora 19.1.5-1.fc41) Fedora 40 (ARM Clang) Kernel: Depends on container host Compiler: clang 18.1.8 (Fedora 18.1.8-1.fc40) RHEL9 (ARM) Kernel: Depends on container host Compiler: gcc 11.5.0 20240719 (Red Hat 11.5.0-2) Ubuntu 22.04 (ARM) Kernel: Depends on container host Compiler: gcc (Ubuntu 11.4.0-1ubuntu1~22.04) 11.4.0 Ubuntu 24.04 (ARM) Kernel: Depends on container host Compiler: gcc (Ubuntu 13.3.0-6ubuntu2~24.04) 13.3.0 32-bit Ubuntu 22.04.4 (ARM) Kernel: 5.15.83+ aarch64 Compiler: gcc (Ubuntu 11.4.0-1ubuntu1~22.04) 11.4.0 Ubuntu 20.04 ARM SVE Kernel: Depends on container host Compiler: gcc (Ubuntu 10.5.0-1ubuntu1~20.04) 10.5.0 To view detailed results, visit: https://lab.dpdk.org/results/dashboard/patchsets/33135/ UNH-IOL DPDK Community Lab To manage your email subscriptions, visit: https://lab.dpdk.org/results/dashboard/preferences/subscriptions/