From mboxrd@z Thu Jan 1 00:00:00 1970 Return-Path: Received: from mails.dpdk.org (mails.dpdk.org [217.70.189.124]) by inbox.dpdk.org (Postfix) with ESMTP id 66CDB466F0 for ; Thu, 8 May 2025 07:23:35 +0200 (CEST) Received: from mails.dpdk.org (localhost [127.0.0.1]) by mails.dpdk.org (Postfix) with ESMTP id 5CA254027C; Thu, 8 May 2025 07:23:35 +0200 (CEST) Received: from mail-pg1-f226.google.com (mail-pg1-f226.google.com [209.85.215.226]) by mails.dpdk.org (Postfix) with ESMTP id 8A57D4025A for ; Thu, 8 May 2025 07:23:34 +0200 (CEST) Received: by mail-pg1-f226.google.com with SMTP id 41be03b00d2f7-b041afe0ee1so463999a12.1 for ; Wed, 07 May 2025 22:23:34 -0700 (PDT) DKIM-Signature: v=1; a=rsa-sha256; c=relaxed/relaxed; d=iol.unh.edu; s=unh-iol; t=1746681813; x=1747286613; darn=dpdk.org; h=references:in-reply-to:cc:to:from:subject:message-id:date:from:to :cc:subject:date:message-id:reply-to; bh=AtrW8/n+t/KhZMFJ/3OwuD2eXsYxdLcsl6R014gBrkM=; b=OZPQrkTwvwZ47n/DIDs4BlV8jIcV4OoFmaLKePilCbG6rD04v4jcnviG5Lf6pspw9R ktMtk3v4tZjtEs/NYlaNJZGNkGGPQvd1IkgHuAwjiSjQySVyQotX43i0B2AphpgiSWzl ko50BoWVSoKGhbbb331QYrRLpkuc2NKxXv/jU= X-Google-DKIM-Signature: v=1; a=rsa-sha256; c=relaxed/relaxed; d=1e100.net; s=20230601; t=1746681813; x=1747286613; h=references:in-reply-to:cc:to:from:subject:message-id:date :x-gm-message-state:from:to:cc:subject:date:message-id:reply-to; bh=AtrW8/n+t/KhZMFJ/3OwuD2eXsYxdLcsl6R014gBrkM=; b=gnWoKr433YVVvUqgPBMJjM/tUbv3/gKg3uovAwtDFw+IolBQ/iOOnTjIoPlD1dtYPL X0QRY22UXK7EQS0Puj+yWGaVVUma8EC8hW8cPbSjZMSnQnJn8vSyiHkCDOO4zHRzV2Y/ cCT0WrEoxrMJI/pM57el4pWq5tOZrR9Yt0sdSbghGXkMzjCmjhDiBiHAmsUr6jPvdb7C DSLEkJez7VSneGOF9h5SR8dM9aAprcOxKnT5iiZ5NUefIYZJx6yRVPRngtUcxpglpfLB Gsl0bI7uvV5rOjQ2XI5WjrM6MfhF14KvW2FOm53iZfSFgOK/DmmWOMOcssjSQ4L4r0qz rcFQ== X-Gm-Message-State: AOJu0YxAiav/unTI3lRqqVq/YzubY9ZeJjVC3c4NOhT/z0ZIXNHROhYw xJop9uZxOY+xr8E+8hOfOjiD9R1+tD5ldhD4xILJXf+QEF1aevv/juy2GXmefzNLQJyik1WmZuO rHHFIR3I0zOV01tTakhG7jIYga3sTs7YBH8ATT9eVxy1qX/KLFkqaafRd X-Gm-Gg: ASbGncsOdXELT/e4T+FtRlq79IRACa93ZnxPUGkDVOrEmy7YU/MLj0modRk1hQ/be0a OFdcVur2gwq8MaGsoM5LZqWGyfzc6cuytk9x7c6/E9bJmqx23s3XPmEVkEjWz3svcZ9YqohEDtO COIBXfG0+soaCHM52pbM8lggskdwa9l6TCrWoFlYhZw0pnh+Zrqa+pYwtHGXLxBK1nm/d7Sv3Rx w3cEduBgewjIatR2HW1T322oZ0sx6KJd2JPg3mtEzRtzAZSETAJGSiZEXqnkBGqPTWl8nIKAHK0 LvGT1aFKo4zlZS18578BMytNn19KRm08w7E9 X-Google-Smtp-Source: AGHT+IHu9VRlg5cqpASfIC25i4XXtpLWf5UnTFZelXUyeAXviZWxdk9mNRHcScdEDe0S+86Cx8MVBFBSQUGV X-Received: by 2002:a17:90b:4fc5:b0:2fe:b907:562f with SMTP id 98e67ed59e1d1-30aac19dcd0mr11263175a91.14.1746681813426; Wed, 07 May 2025 22:23:33 -0700 (PDT) Received: from postal.iol.unh.edu (postal.iol.unh.edu. [2606:4100:3880:1234::84]) by smtp-relay.gmail.com with ESMTPS id 98e67ed59e1d1-30ad4f45301sm102033a91.7.2025.05.07.22.23.33 (version=TLS1_2 cipher=ECDHE-ECDSA-AES128-GCM-SHA256 bits=128/128); Wed, 07 May 2025 22:23:33 -0700 (PDT) X-Relaying-Domain: iol.unh.edu Date: Wed, 07 May 2025 22:23:33 -0700 (PDT) Message-ID: <681c3fd5.170a0220.a51c6.57d1SMTPIN_ADDED_MISSING@mx.google.com> Received: from [172.21.0.6] (unknown [172.18.0.240]) by postal.iol.unh.edu (Postfix) with ESMTP id 8D7B06052471; Thu, 8 May 2025 01:23:32 -0400 (EDT) Subject: |SUCCESS| pw153347 [PATCH] app/test-flow-perf: support testing the f From: dpdklab@iol.unh.edu To: Test Report Cc: dpdk-test-reports@iol.unh.edu In-Reply-To: <20250508023638.37812-1-sunyang.wu@jaguarmicro.com> References: <20250508023638.37812-1-sunyang.wu@jaguarmicro.com> Content-Type: text/plain X-BeenThere: test-report@dpdk.org X-Mailman-Version: 2.1.29 Precedence: list List-Id: automatic DPDK test reports List-Unsubscribe: , List-Archive: List-Post: List-Help: List-Subscribe: , Errors-To: test-report-bounces@dpdk.org Test-Label: iol-compile-arm64-testing Test-Status: SUCCESS http://dpdk.org/patch/153347 _Testing PASS_ Submitter: Sunyang Wu Date: Thursday, May 08 2025 02:36:38 DPDK git baseline: Repo:dpdk Branch: master CommitID:75f179ebe347b6098cf3af26d3d3b7168fe3fe24 153347 --> testing pass Upstream job id: Generic-DPDK-Compile-Meson#386251 Test environment and result as below: +----------------------------------------+--------------------+ | Environment | dpdk_meson_compile | +========================================+====================+ | RHEL9 (ARM) | PASS | +----------------------------------------+--------------------+ | Ubuntu 20.04 ARM GCC Cross Compile | PASS | +----------------------------------------+--------------------+ | Ubuntu 20.04 ARM SVE | PASS | +----------------------------------------+--------------------+ | Debian 12 with MUSDK | PASS | +----------------------------------------+--------------------+ | Fedora 40 (ARM) | PASS | +----------------------------------------+--------------------+ | Fedora 40 (ARM Clang) | PASS | +----------------------------------------+--------------------+ | Fedora 41 (ARM) | PASS | +----------------------------------------+--------------------+ | Fedora 41 (ARM Clang) | PASS | +----------------------------------------+--------------------+ | Ubuntu 20.04 (ARM) | PASS | +----------------------------------------+--------------------+ | Ubuntu 22.04 (ARM) | PASS | +----------------------------------------+--------------------+ | Ubuntu 24.04 (ARM) | PASS | +----------------------------------------+--------------------+ | CentOS Stream 9 (ARM) | PASS | +----------------------------------------+--------------------+ | Debian 12 (arm) | PASS | +----------------------------------------+--------------------+ | CentOS Stream 10 (ARM) | PASS | +----------------------------------------+--------------------+ | Ubuntu 20.04 ARM Clang Cross Compile | PASS | +----------------------------------------+--------------------+ | Ubuntu 20.04 aarch32 GCC Cross Compile | PASS | +----------------------------------------+--------------------+ RHEL9 (ARM) Kernel: Depends on container host Compiler: gcc 11.5.0 20240719 (Red Hat 11.5.0-2) Ubuntu 20.04 ARM GCC Cross Compile Kernel: Depends on container host Compiler: aarch64-linux-gnu-gcc (Ubuntu 9.4.0-1ubuntu1~20.04.2) 9.4.0 Ubuntu 20.04 ARM SVE Kernel: Depends on container host Compiler: gcc (Ubuntu 10.5.0-1ubuntu1~20.04) 10.5.0 Debian 12 with MUSDK Kernel: Depends on container host Compiler: gcc (Debian 12.2.0-14) 12.2.0 Fedora 40 (ARM) Kernel: Depends on container host Compiler: gcc 14.2.1 20240912 (Red Hat 14.2.1-3) Fedora 40 (ARM Clang) Kernel: Depends on container host Compiler: clang 18.1.8 (Fedora 18.1.8-1.fc40) Fedora 41 (ARM) Kernel: Depends on container host Compiler: gcc 14.2.1 20240912 (Red Hat 14.2.1-3) Fedora 41 (ARM Clang) Kernel: Depends on container host Compiler: clang 19.1.5 (Fedora 19.1.5-1.fc41) Ubuntu 20.04 (ARM) Kernel: Depends on container host Compiler: gcc (Ubuntu 9.4.0-1ubuntu1~20.04.2) 9.4.0 Ubuntu 22.04 (ARM) Kernel: Depends on container host Compiler: gcc (Ubuntu 11.4.0-1ubuntu1~22.04) 11.4.0 Ubuntu 24.04 (ARM) Kernel: Depends on container host Compiler: gcc (Ubuntu 13.3.0-6ubuntu2~24.04) 13.3.0 CentOS Stream 9 (ARM) Kernel: Depends on container host Compiler: gcc 11.5.0 20240719 (Red Hat 11.5.0-2) Debian 12 (arm) Kernel: Depends on container host Compiler: gcc (Debian 12.2.0-14) 12.2.0 CentOS Stream 10 (ARM) Kernel: Depends on container host Compiler: gcc 14.2.1 20241104 (Red Hat 14.2.1-6) Ubuntu 20.04 ARM Clang Cross Compile Kernel: Depends on container host Compiler: clang 10.0.0-4ubuntu1 Ubuntu 20.04 aarch32 GCC Cross Compile Kernel: Depends on container host Compiler: gcc 9.4.0 To view detailed results, visit: https://lab.dpdk.org/results/dashboard/patchsets/33136/ UNH-IOL DPDK Community Lab To manage your email subscriptions, visit: https://lab.dpdk.org/results/dashboard/preferences/subscriptions/