From mboxrd@z Thu Jan 1 00:00:00 1970 Return-Path: Received: from mails.dpdk.org (mails.dpdk.org [217.70.189.124]) by inbox.dpdk.org (Postfix) with ESMTP id 8740F466F0 for ; Thu, 8 May 2025 07:37:58 +0200 (CEST) Received: from mails.dpdk.org (localhost [127.0.0.1]) by mails.dpdk.org (Postfix) with ESMTP id 812034027C; Thu, 8 May 2025 07:37:58 +0200 (CEST) Received: from mail-io1-f97.google.com (mail-io1-f97.google.com [209.85.166.97]) by mails.dpdk.org (Postfix) with ESMTP id B68384025A for ; Thu, 8 May 2025 07:37:57 +0200 (CEST) Received: by mail-io1-f97.google.com with SMTP id ca18e2360f4ac-85e1b1f08a5so16237439f.2 for ; Wed, 07 May 2025 22:37:57 -0700 (PDT) DKIM-Signature: v=1; a=rsa-sha256; c=relaxed/relaxed; d=iol.unh.edu; s=unh-iol; t=1746682677; x=1747287477; darn=dpdk.org; h=references:in-reply-to:cc:to:from:subject:message-id:date:from:to :cc:subject:date:message-id:reply-to; bh=bKWh+Vbur/HDo4L1aYh7qWh1cGGUZlU/OZwUhZWP7r4=; b=eMkiveZrRBWMGBWFIacVLcxwbpqsSQX4P89EXtGo4d8cO1OJlKmXoierwAHKEWtmOU xwkrkc05/lCf1oYxyT7ocyLkCqG9xIOHUoR+Bmu6HgBkYtKZxkp/r7ntr/CpZI0E/gQN spJYPJ+RkoN2uklq78D6KaZNQo9vILh19ILyY= X-Google-DKIM-Signature: v=1; a=rsa-sha256; c=relaxed/relaxed; d=1e100.net; s=20230601; t=1746682677; x=1747287477; h=references:in-reply-to:cc:to:from:subject:message-id:date :x-gm-message-state:from:to:cc:subject:date:message-id:reply-to; bh=bKWh+Vbur/HDo4L1aYh7qWh1cGGUZlU/OZwUhZWP7r4=; b=Ds8Ss+su0pv7OO6SPzDn+SoN1XaO+F2n83RB4hxttvZfVi4uL05O/WGcgHleMVsRR0 Uh9zPH0u14Nd3AgPxGVi2BTBBldh/P9EWteqXSOjhOTmwePOAeZekZkg1psw1CJVikkD ux36iIUpmTG5KMxmau17gJkZd/lyxRTO5DBnHfvXpc/7n83NYGkvkIcTuHVZaOxK0ZqB 9xCskDT5ByQsIDIJvmjlZZRTMoVu2xK5x+UCz78HHB2n4efERohd+Qla6hl9+FBmqjOG rBct+De0ldhGBVFJZzjob0aWLrcqVRzgDCk2I8FrXOCfzqxJj9mQYQ7a6SDnMPe6QFTI 8Jmg== X-Gm-Message-State: AOJu0YxwzzTP4y8aGfwQsgkVuyWK5UI/ddFXCZiN3vl2SadFQ73VRJwm p9AUtSRQ7NfYnlAwXY+2RiP1oivJOiHU5etEuk9pfgP9KtSJgaIZGL3WU2Z/1v9Zy/3nPndEXTe 7PJ1ADog7EvpGTGndfktcO0hMN1FvDhXVDCajFqhb X-Gm-Gg: ASbGnctMjXL+HgSQV9WVe26dFu21ewKqlYkfzwT2zv80uPs3/89XO40d5rlDv0mucTx m8LmcTS5OirlNeM36PR1mKfH5iTm4DNipJwt+lK6bAkAZCvIJ5saadvX/BAy6NB8+Zhg3fuTlUm BAdew/DpTmVmJ0uVR51AablulpxpOSFUma5RYPgqffts0NasgMDVdQdgYh74m8SuXfLZ/LwxHtw E3NwbDt0QRTONXlnAKtJQsIm8IQ9Hmd0OiacVzeQ1IH0OB3BWCQgaF0uG+N9A3vMrSzA+isCEiU eDu0V1iJkAz55KvnZsDA5X4GOlrYtY2lkkvlUIPlZt7nD8RNbrrRPbd8umg= X-Google-Smtp-Source: AGHT+IGuO3YJhy2F9GU8nxglCIaWtoxJVFVyKYHNzEkBM/5mjonrNreUC3+Tbe7OH4iz0eX2Mtwtpn6vjEEf X-Received: by 2002:a05:6602:1514:b0:85d:b054:6eb9 with SMTP id ca18e2360f4ac-867474133b7mr797586939f.14.1746682677090; Wed, 07 May 2025 22:37:57 -0700 (PDT) Received: from postal.iol.unh.edu (postal.iol.unh.edu. [132.177.123.84]) by smtp-relay.gmail.com with ESMTPS id 8926c6da1cb9f-4f88a8cdc22sm2277788173.4.2025.05.07.22.37.57 (version=TLS1_2 cipher=ECDHE-ECDSA-AES128-GCM-SHA256 bits=128/128); Wed, 07 May 2025 22:37:57 -0700 (PDT) X-Relaying-Domain: iol.unh.edu Date: Wed, 07 May 2025 22:37:57 -0700 (PDT) Message-ID: <681c4335.050a0220.297055.2cf1SMTPIN_ADDED_MISSING@mx.google.com> Received: from [172.21.0.5] (unknown [172.18.0.240]) by postal.iol.unh.edu (Postfix) with ESMTP id 9AC726052471; Thu, 8 May 2025 01:37:56 -0400 (EDT) Subject: |SUCCESS| pw153346 [PATCH] ethdev: optimize how the values of the fl From: dpdklab@iol.unh.edu To: Test Report Cc: dpdk-test-reports@iol.unh.edu In-Reply-To: <20250508023334.28416-1-sunyang.wu@jaguarmicro.com> References: <20250508023334.28416-1-sunyang.wu@jaguarmicro.com> Content-Type: text/plain X-BeenThere: test-report@dpdk.org X-Mailman-Version: 2.1.29 Precedence: list List-Id: automatic DPDK test reports List-Unsubscribe: , List-Archive: List-Post: List-Help: List-Subscribe: , Errors-To: test-report-bounces@dpdk.org Test-Label: iol-unit-amd64-testing Test-Status: SUCCESS http://dpdk.org/patch/153346 _Testing PASS_ Submitter: Sunyang Wu Date: Thursday, May 08 2025 02:33:34 DPDK git baseline: Repo:dpdk Branch: master CommitID:ff05ee3e3f8fb4ce958a2ce6461e8141aea959c6 153346 --> testing pass Upstream job id: Generic-Unit-Test-DPDK#336364 Test environment and result as below: +---------------------+----------------+ | Environment | dpdk_unit_test | +=====================+================+ | Fedora 40 | PASS | +---------------------+----------------+ | Fedora 40 (Clang) | PASS | +---------------------+----------------+ | CentOS Stream 10 | PASS | +---------------------+----------------+ | RHEL8 | PASS | +---------------------+----------------+ | Ubuntu 20.04 | PASS | +---------------------+----------------+ | CentOS Stream 9 | PASS | +---------------------+----------------+ | Debian 12 | PASS | +---------------------+----------------+ | RHEL9 | PASS | +---------------------+----------------+ | Ubuntu 22.04 | PASS | +---------------------+----------------+ | Fedora 41 | PASS | +---------------------+----------------+ | Fedora 41 (Clang) | PASS | +---------------------+----------------+ | Ubuntu 24.04 | PASS | +---------------------+----------------+ | Windows Server 2022 | PASS | +---------------------+----------------+ Fedora 40 Kernel: Depends on container host Compiler: gcc 14.2.1 20240912 (Red Hat 14.2.1-3) Fedora 40 (Clang) Kernel: Depends on container host Compiler: clang 18.1.8 (Fedora 18.1.8-1.fc40) CentOS Stream 10 Kernel: Depends on container host Compiler: gcc 14.2.1 20241104 (Red Hat 14.2.1-6) RHEL8 Kernel: Depends on container host Compiler: gcc 8.5.0 20210514 (Red Hat 8.5.0-22) Ubuntu 20.04 Kernel: Depends on container host Compiler: gcc (Ubuntu 9.4.0-1ubuntu1~20.04.2) 9.4.0 CentOS Stream 9 Kernel: Depends on container host Compiler: gcc 11.5.0 20240719 (Red Hat 11.5.0-2) Debian 12 Kernel: Depends on container host Compiler: gcc (Debian 12.2.0-14) 12.2.0 RHEL9 Kernel: Depends on container host Compiler: gcc 11.5.0 20240719 (Red Hat 11.5.0-2) Ubuntu 22.04 Kernel: Depends on container host Compiler: gcc (Ubuntu 11.4.0-1ubuntu1~22.04) 11.4.0 Fedora 41 Kernel: Depends on container host Compiler: gcc 14.2.1 20240912 (Red Hat 14.2.1-3) Fedora 41 (Clang) Kernel: Depends on container host Compiler: clang 19.1.5 (Fedora 19.1.5-1.fc41) Ubuntu 24.04 Kernel: Depends on container host Compiler: gcc (Ubuntu 13.3.0-6ubuntu2~24.04) 13.3.0 Windows Server 2022 Kernel: 10.0.20348.2031 Compiler: clang 15.0.7, gcc 14.1.0 (MinGW), and MSVC VS 19.39.33521 To view detailed results, visit: https://lab.dpdk.org/results/dashboard/patchsets/33135/ UNH-IOL DPDK Community Lab To manage your email subscriptions, visit: https://lab.dpdk.org/results/dashboard/preferences/subscriptions/