From mboxrd@z Thu Jan 1 00:00:00 1970 Return-Path: Received: from mails.dpdk.org (mails.dpdk.org [217.70.189.124]) by inbox.dpdk.org (Postfix) with ESMTP id C1223466F0 for ; Thu, 8 May 2025 07:49:10 +0200 (CEST) Received: from mails.dpdk.org (localhost [127.0.0.1]) by mails.dpdk.org (Postfix) with ESMTP id B738A4027C; Thu, 8 May 2025 07:49:10 +0200 (CEST) Received: from mail-qv1-f97.google.com (mail-qv1-f97.google.com [209.85.219.97]) by mails.dpdk.org (Postfix) with ESMTP id CA6064025A for ; Thu, 8 May 2025 07:49:09 +0200 (CEST) Received: by mail-qv1-f97.google.com with SMTP id 6a1803df08f44-6f53d1cb94eso6614306d6.2 for ; Wed, 07 May 2025 22:49:09 -0700 (PDT) DKIM-Signature: v=1; a=rsa-sha256; c=relaxed/relaxed; d=iol.unh.edu; s=unh-iol; t=1746683349; x=1747288149; darn=dpdk.org; h=references:in-reply-to:cc:to:from:subject:message-id:date:from:to :cc:subject:date:message-id:reply-to; bh=9yFVcl06avTlG4EW7v5ylRf0Ymat5kRMoDqMgHQ1lPc=; b=EpWMk0vK2r5Hx4gOuj4cCYXmA+ELLWvJJsVA7kKvh2KMLqoyiNZC/4quYtVNatVDEL 8N+qiAhCKZHLY04nQKYhn/5aodQK9UeenaXHsObKk4rcpB3X1cFyP1Kbb3w6+ttAJSBB p50V9K8qmGRmACvkMhBB6JG58rNMmggDbUpAQ= X-Google-DKIM-Signature: v=1; a=rsa-sha256; c=relaxed/relaxed; d=1e100.net; s=20230601; t=1746683349; x=1747288149; h=references:in-reply-to:cc:to:from:subject:message-id:date :x-gm-message-state:from:to:cc:subject:date:message-id:reply-to; bh=9yFVcl06avTlG4EW7v5ylRf0Ymat5kRMoDqMgHQ1lPc=; b=I/viSWXDeMJvaLSxfiRbprPYQU9iNR7OPu5HQZWXN8ADuLhjGDewxx8QHpzqnZf9v7 0DDvHoB7c1m/C0wxLPQy1lKAAuxBMIuVzALrgErEwSvwzsXOHO4MEdLjs8Wti/psb4OR 19nuwT1WJEaEO5FL3xi47/ahYPMcmWK69ptLgb+oYtQoysO+eREFd7mzMZ8LjyDAX3cm e0V20w91ulqfndM/Toshf5J+xRz1O690W3+vlXG0/Usj8NPm41yWugMLaNCuGqER/4cA 9OD0ix+HVtxagJ/OzRd/at5Mj6AVpP6o0HStWRbuInwAHZZS6I/ThOgwYJ2cg/OJ4fMK 9Sww== X-Gm-Message-State: AOJu0YzJAe+M87a5Z1jBIApkXjicTrPAeE6GlPWyiJU9KWPK4lBebHV0 P1+17CCGPgeA3F0tvSZsybrv4str3izQ1u7y26yCh12IjA8NINK/rhgS6F8dd+QLyg5a1/Br/+t G7ROmgDtV5kaHKsIBQY53DiuMWt7V03nH5J/zca9xwdhwFs/a90d7+W/i X-Gm-Gg: ASbGncvVtb/wP0+HWFXuA+KqcNR/imKy0n/vpQK3HbufVxFaWDhPemjnwxk9QEY8LSm 3S4k4haKwj3WaBfjWgRwIjzrh9PstfCL64CkvmFTZUlWjN+fdLMOw5ZOXIYli04YiF/lpm8BIVd xy1tEr9k320kNalXdawP34tUtEV82YBnmNghmcFBpB5w/M6jnG+VBTh0gtGV8Lk61q5UyiPLHdo 9DSIndVeWlywAyZnCSuPmvA+VOil4C6OMigGdcF5Ccvj5pKoS/ESo3uhW2O3fHCDk7AbOsK1gQi x9xU3sgOZGn70kNdGhejLQ6AqT+09jeZ6Svk X-Google-Smtp-Source: AGHT+IFnLCH7rkB+T4zA09DHUQAibxp+40ok//oO3LUf9Sbh8SpP2Ed3NaCPGlHxfpmxpHdE2QHbq86QXl3L X-Received: by 2002:ad4:5ca5:0:b0:6e8:9dfa:d932 with SMTP id 6a1803df08f44-6f542a5994emr89869466d6.15.1746683349169; Wed, 07 May 2025 22:49:09 -0700 (PDT) Received: from postal.iol.unh.edu (postal.iol.unh.edu. [2606:4100:3880:1234::84]) by smtp-relay.gmail.com with ESMTPS id 6a1803df08f44-6f5426415e8sm1893386d6.15.2025.05.07.22.49.09 (version=TLS1_2 cipher=ECDHE-ECDSA-AES128-GCM-SHA256 bits=128/128); Wed, 07 May 2025 22:49:09 -0700 (PDT) X-Relaying-Domain: iol.unh.edu Date: Wed, 07 May 2025 22:49:09 -0700 (PDT) Message-ID: <681c45d5.050a0220.2a58a5.a3dfSMTPIN_ADDED_MISSING@mx.google.com> Received: from [172.21.0.6] (unknown [172.18.0.240]) by postal.iol.unh.edu (Postfix) with ESMTP id D71056052471; Thu, 8 May 2025 01:49:08 -0400 (EDT) Subject: |SUCCESS| pw153346 [PATCH] ethdev: optimize how the values of the fl From: dpdklab@iol.unh.edu To: Test Report Cc: dpdk-test-reports@iol.unh.edu In-Reply-To: <20250508023334.28416-1-sunyang.wu@jaguarmicro.com> References: <20250508023334.28416-1-sunyang.wu@jaguarmicro.com> Content-Type: text/plain X-BeenThere: test-report@dpdk.org X-Mailman-Version: 2.1.29 Precedence: list List-Id: automatic DPDK test reports List-Unsubscribe: , List-Archive: List-Post: List-Help: List-Subscribe: , Errors-To: test-report-bounces@dpdk.org Test-Label: iol-compile-amd64-testing Test-Status: SUCCESS http://dpdk.org/patch/153346 _Testing PASS_ Submitter: Sunyang Wu Date: Thursday, May 08 2025 02:33:34 DPDK git baseline: Repo:dpdk Branch: master CommitID:ff05ee3e3f8fb4ce958a2ce6461e8141aea959c6 153346 --> testing pass Upstream job id: Generic-DPDK-Compile-Meson#386274 Test environment and result as below: +-----------------------------------+--------------------+-------------------+------------------+-------------------------+-------------------+----------------------+ | Environment | dpdk_meson_compile | dpdk_compile_spdk | dpdk_compile_ovs | dpdk_llvm_clang_compile | dpdk_msvc_compile | dpdk_mingw64_compile | +===================================+====================+===================+==================+=========================+===================+======================+ | CentOS Stream 9 | PASS | PASS | SKIPPED | SKIPPED | SKIPPED | SKIPPED | +-----------------------------------+--------------------+-------------------+------------------+-------------------------+-------------------+----------------------+ | CentOS Stream 10 | PASS | SKIPPED | SKIPPED | SKIPPED | SKIPPED | SKIPPED | +-----------------------------------+--------------------+-------------------+------------------+-------------------------+-------------------+----------------------+ | Debian 12 | PASS | PASS | SKIPPED | SKIPPED | SKIPPED | SKIPPED | +-----------------------------------+--------------------+-------------------+------------------+-------------------------+-------------------+----------------------+ | Fedora 40 (Clang) | PASS | PASS | SKIPPED | SKIPPED | SKIPPED | SKIPPED | +-----------------------------------+--------------------+-------------------+------------------+-------------------------+-------------------+----------------------+ | Fedora 41 (Clang) | PASS | PASS | PASS | SKIPPED | SKIPPED | SKIPPED | +-----------------------------------+--------------------+-------------------+------------------+-------------------------+-------------------+----------------------+ | Fedora 40 | PASS | PASS | SKIPPED | SKIPPED | SKIPPED | SKIPPED | +-----------------------------------+--------------------+-------------------+------------------+-------------------------+-------------------+----------------------+ | Fedora 41 | PASS | PASS | PASS | SKIPPED | SKIPPED | SKIPPED | +-----------------------------------+--------------------+-------------------+------------------+-------------------------+-------------------+----------------------+ | openSUSE Leap 15 | PASS | SKIPPED | SKIPPED | SKIPPED | SKIPPED | SKIPPED | +-----------------------------------+--------------------+-------------------+------------------+-------------------------+-------------------+----------------------+ | RHEL8 | PASS | SKIPPED | SKIPPED | SKIPPED | SKIPPED | SKIPPED | +-----------------------------------+--------------------+-------------------+------------------+-------------------------+-------------------+----------------------+ | Ubuntu 20.04 | PASS | SKIPPED | SKIPPED | SKIPPED | SKIPPED | SKIPPED | +-----------------------------------+--------------------+-------------------+------------------+-------------------------+-------------------+----------------------+ | Ubuntu 22.04 | PASS | PASS | SKIPPED | SKIPPED | SKIPPED | SKIPPED | +-----------------------------------+--------------------+-------------------+------------------+-------------------------+-------------------+----------------------+ | RHEL9 | PASS | SKIPPED | SKIPPED | SKIPPED | SKIPPED | SKIPPED | +-----------------------------------+--------------------+-------------------+------------------+-------------------------+-------------------+----------------------+ | Ubuntu 24.04 | PASS | PASS | PASS | SKIPPED | SKIPPED | SKIPPED | +-----------------------------------+--------------------+-------------------+------------------+-------------------------+-------------------+----------------------+ | Alpine | PASS | SKIPPED | SKIPPED | SKIPPED | SKIPPED | SKIPPED | +-----------------------------------+--------------------+-------------------+------------------+-------------------------+-------------------+----------------------+ | Ubuntu 24.04 32 Bit Cross Compile | PASS | SKIPPED | SKIPPED | SKIPPED | SKIPPED | SKIPPED | +-----------------------------------+--------------------+-------------------+------------------+-------------------------+-------------------+----------------------+ | FreeBSD 13.5 | PASS | SKIPPED | SKIPPED | SKIPPED | SKIPPED | SKIPPED | +-----------------------------------+--------------------+-------------------+------------------+-------------------------+-------------------+----------------------+ | FreeBSD 14.2 | PASS | SKIPPED | SKIPPED | SKIPPED | SKIPPED | SKIPPED | +-----------------------------------+--------------------+-------------------+------------------+-------------------------+-------------------+----------------------+ | Windows Server 2022 | SKIPPED | SKIPPED | SKIPPED | PASS | PASS | PASS | +-----------------------------------+--------------------+-------------------+------------------+-------------------------+-------------------+----------------------+ CentOS Stream 9 Kernel: Depends on container host Compiler: gcc 11.5.0 20240719 (Red Hat 11.5.0-2) CentOS Stream 10 Kernel: Depends on container host Compiler: gcc 14.2.1 20241104 (Red Hat 14.2.1-6) Debian 12 Kernel: Depends on container host Compiler: gcc (Debian 12.2.0-14) 12.2.0 Fedora 40 (Clang) Kernel: Depends on container host Compiler: clang 18.1.8 (Fedora 18.1.8-1.fc40) Fedora 41 (Clang) Kernel: Depends on container host Compiler: clang 19.1.5 (Fedora 19.1.5-1.fc41) Fedora 40 Kernel: Depends on container host Compiler: gcc 14.2.1 20240912 (Red Hat 14.2.1-3) Fedora 41 Kernel: Depends on container host Compiler: gcc 14.2.1 20240912 (Red Hat 14.2.1-3) openSUSE Leap 15 Kernel: Depends on container host Compiler: gcc (SUSE Linux) 7.5.0 RHEL8 Kernel: Depends on container host Compiler: gcc 8.5.0 20210514 (Red Hat 8.5.0-22) Ubuntu 20.04 Kernel: Depends on container host Compiler: gcc (Ubuntu 9.4.0-1ubuntu1~20.04.2) 9.4.0 Ubuntu 22.04 Kernel: Depends on container host Compiler: gcc (Ubuntu 11.4.0-1ubuntu1~22.04) 11.4.0 RHEL9 Kernel: Depends on container host Compiler: gcc 11.5.0 20240719 (Red Hat 11.5.0-2) Ubuntu 24.04 Kernel: Depends on container host Compiler: gcc (Ubuntu 13.3.0-6ubuntu2~24.04) 13.3.0 Alpine Kernel: Depends on container host Compiler: gcc (Alpine 14.2.0) 14.2.0 Ubuntu 24.04 32 Bit Cross Compile Kernel: Depends on container host Compiler: gcc (Ubuntu 13.3.0-6ubuntu2~24.04) 13.3.0 FreeBSD 13.5 Kernel: 13.5-RELEASE Compiler: clang 19.1.7 FreeBSD 14.2 Kernel: 14.2-RELEASE Compiler: clang 18.1.6 Windows Server 2022 Kernel: 10.0.20348.2031 Compiler: clang 15.0.7, gcc 14.1.0 (MinGW), and MSVC VS 19.39.33521 To view detailed results, visit: https://lab.dpdk.org/results/dashboard/patchsets/33135/ UNH-IOL DPDK Community Lab To manage your email subscriptions, visit: https://lab.dpdk.org/results/dashboard/preferences/subscriptions/