From mboxrd@z Thu Jan 1 00:00:00 1970 Return-Path: Received: from mails.dpdk.org (mails.dpdk.org [217.70.189.124]) by inbox.dpdk.org (Postfix) with ESMTP id 92D0F4669D for ; Thu, 8 May 2025 08:12:57 +0200 (CEST) Received: from mails.dpdk.org (localhost [127.0.0.1]) by mails.dpdk.org (Postfix) with ESMTP id 7DDD14027C; Thu, 8 May 2025 08:12:57 +0200 (CEST) Received: from mail-io1-f98.google.com (mail-io1-f98.google.com [209.85.166.98]) by mails.dpdk.org (Postfix) with ESMTP id 3501F4025A for ; Thu, 8 May 2025 08:12:56 +0200 (CEST) Received: by mail-io1-f98.google.com with SMTP id ca18e2360f4ac-85e46f5c50fso52499139f.3 for ; Wed, 07 May 2025 23:12:56 -0700 (PDT) DKIM-Signature: v=1; a=rsa-sha256; c=relaxed/relaxed; d=iol.unh.edu; s=unh-iol; t=1746684775; x=1747289575; darn=dpdk.org; h=references:in-reply-to:cc:to:from:subject:message-id:date:from:to :cc:subject:date:message-id:reply-to; bh=uJ5z5TNRla/b8U3y0+ypT/Lu5OF9nsOtWj8zJqE4t7k=; b=F6MnylVr5JMKdi4gBE21zy5I8ddemke4Oy7FknGgeHdo4mfDZPHA58QcsQVijecns9 ZfkpFejv89kFTk5XHlT78Mviq92fv49qKggHSq80EQdJJSD3d2Orr4Ks20R+bfPsrExY vJw4pQQGw7YEH3293ch1wUrLXIpHmDJByKJGM= X-Google-DKIM-Signature: v=1; a=rsa-sha256; c=relaxed/relaxed; d=1e100.net; s=20230601; t=1746684775; x=1747289575; h=references:in-reply-to:cc:to:from:subject:message-id:date :x-gm-message-state:from:to:cc:subject:date:message-id:reply-to; bh=uJ5z5TNRla/b8U3y0+ypT/Lu5OF9nsOtWj8zJqE4t7k=; b=gZEr2iGA1iiTedzSdUacYsmdSO3rNI7MSFa1Qt6GZU5m9KMAf79NDG1+1fpoQHE3tD VC+WHydGKq+Z/RmCckHkW5g4W28ZEHNTMJVr0Ivruw11ALdB/oKGSmo1MHylk3Yh6vJ9 TyVDhW8+UttdIrfTGqK4R4X0XE7QCVYTJs97i9FkRRE4Rv+fFGUC78zQ4p1YcGGuT9VH zO5dPyg3ZJhgLK4+f6IXMQDhmdy7dYuN26W5gYdKszevtS+lW0QdvljpciYEAODSCy2G iLLUNDNW0O1Km0yZxjOtwcRnXGxxxAWf+gS5uADef8t3vQnAkoMi67y/Y6cse0sjJOnE ydGQ== X-Gm-Message-State: AOJu0YyUF5opya7eEbmlgcHd8b60fnipjFf8Or3jC5GwjstUOicXkYA3 Sq7vNeKQAJY/PF2wACc+aFvTtEBSw2Pj4S7LuuiMrwOTynOcucGoWGCzkCfKIj98YbsLwj0lTR8 tEACzTgYYwe2TLkCi86ngKfxVqxVE8Lf0vv63I79DJyiAVCHjFOFD54xQ X-Gm-Gg: ASbGnct+CHdSkSZQ833JwrPGJhOShcRlNrRCHQzKJ0btMUVXd3cpNCwt9Bpdv3I16Mq y3bs72PKTkzKOmGmkVR2F1pomX4N3yBOJ/GP91vaYJi1ORNiirg29F4cjWB9ZsCF3WDbJDMy+IA pShfsgj0HnLVdZQNl9me4JuMP3leMVWRbrt6iqLZ16XxPlJfZagg53r6Cm2bazCCCBn5g7MiAIW EdeQS97lEYiaOKE4VR1tUCDqKRUigpsaBMkDBYRHjKQV2oK24IPU2/UemtI9Nh9u+3wRZ+Sxd7d 5d9PC7PGI2J8i4Eb7tZSijC49Snl8Qn+3LdC X-Google-Smtp-Source: AGHT+IGgNUSlxmfRbRhPH3UMdgQQC5XPGvMyc90FgRuleGJnXzpm48wLrQ//IpLJ8mJZUK8QSE0lSpw+8ZpS X-Received: by 2002:a05:6602:6d02:b0:867:4f85:5262 with SMTP id ca18e2360f4ac-86754fcc72cmr280220639f.1.1746684775215; Wed, 07 May 2025 23:12:55 -0700 (PDT) Received: from postal.iol.unh.edu (postal.iol.unh.edu. [2606:4100:3880:1234::84]) by smtp-relay.gmail.com with ESMTPS id 8926c6da1cb9f-4f88a93e6dbsm2246249173.32.2025.05.07.23.12.55 (version=TLS1_2 cipher=ECDHE-ECDSA-AES128-GCM-SHA256 bits=128/128); Wed, 07 May 2025 23:12:55 -0700 (PDT) X-Relaying-Domain: iol.unh.edu Date: Wed, 07 May 2025 23:12:55 -0700 (PDT) Message-ID: <681c4b67.050a0220.7b359.1272SMTPIN_ADDED_MISSING@mx.google.com> Received: from [172.21.0.5] (unknown [172.18.0.240]) by postal.iol.unh.edu (Postfix) with ESMTP id ADFBE6052471; Thu, 8 May 2025 02:12:54 -0400 (EDT) Subject: |SUCCESS| pw153343-153345 [PATCH] [v5,3/3] app/testpmd: add sleep co From: dpdklab@iol.unh.edu To: Test Report Cc: dpdk-test-reports@iol.unh.edu In-Reply-To: <4674606a09d854277ac01b0ccd86a4eb559e565f.1746631324.git.anatoly.burakov@intel.com> References: <4674606a09d854277ac01b0ccd86a4eb559e565f.1746631324.git.anatoly.burakov@intel.com> Content-Type: text/plain X-BeenThere: test-report@dpdk.org X-Mailman-Version: 2.1.29 Precedence: list List-Id: automatic DPDK test reports List-Unsubscribe: , List-Archive: List-Post: List-Help: List-Subscribe: , Errors-To: test-report-bounces@dpdk.org Test-Label: iol-unit-amd64-testing Test-Status: SUCCESS http://dpdk.org/patch/153345 _Testing PASS_ Submitter: Anatoly Burakov Date: Wednesday, May 07 2025 15:22:12 DPDK git baseline: Repo:dpdk Branch: master CommitID:75f179ebe347b6098cf3af26d3d3b7168fe3fe24 153343-153345 --> testing pass Upstream job id: Generic-Unit-Test-DPDK#336384 Test environment and result as below: +-------------------+----------------+ | Environment | dpdk_unit_test | +===================+================+ | Fedora 40 (Clang) | PASS | +-------------------+----------------+ | CentOS Stream 9 | PASS | +-------------------+----------------+ | Fedora 40 | PASS | +-------------------+----------------+ | CentOS Stream 10 | PASS | +-------------------+----------------+ | Debian 12 | PASS | +-------------------+----------------+ | Fedora 41 | PASS | +-------------------+----------------+ | Fedora 41 (Clang) | PASS | +-------------------+----------------+ | RHEL9 | PASS | +-------------------+----------------+ | RHEL8 | PASS | +-------------------+----------------+ | Ubuntu 20.04 | PASS | +-------------------+----------------+ | Ubuntu 22.04 | PASS | +-------------------+----------------+ | Ubuntu 24.04 | PASS | +-------------------+----------------+ Fedora 40 (Clang) Kernel: Depends on container host Compiler: clang 18.1.8 (Fedora 18.1.8-1.fc40) CentOS Stream 9 Kernel: Depends on container host Compiler: gcc 11.5.0 20240719 (Red Hat 11.5.0-2) Fedora 40 Kernel: Depends on container host Compiler: gcc 14.2.1 20240912 (Red Hat 14.2.1-3) CentOS Stream 10 Kernel: Depends on container host Compiler: gcc 14.2.1 20241104 (Red Hat 14.2.1-6) Debian 12 Kernel: Depends on container host Compiler: gcc (Debian 12.2.0-14) 12.2.0 Fedora 41 Kernel: Depends on container host Compiler: gcc 14.2.1 20240912 (Red Hat 14.2.1-3) Fedora 41 (Clang) Kernel: Depends on container host Compiler: clang 19.1.5 (Fedora 19.1.5-1.fc41) RHEL9 Kernel: Depends on container host Compiler: gcc 11.5.0 20240719 (Red Hat 11.5.0-2) RHEL8 Kernel: Depends on container host Compiler: gcc 8.5.0 20210514 (Red Hat 8.5.0-22) Ubuntu 20.04 Kernel: Depends on container host Compiler: gcc (Ubuntu 9.4.0-1ubuntu1~20.04.2) 9.4.0 Ubuntu 22.04 Kernel: Depends on container host Compiler: gcc (Ubuntu 11.4.0-1ubuntu1~22.04) 11.4.0 Ubuntu 24.04 Kernel: Depends on container host Compiler: gcc (Ubuntu 13.3.0-6ubuntu2~24.04) 13.3.0 To view detailed results, visit: https://lab.dpdk.org/results/dashboard/patchsets/33134/ UNH-IOL DPDK Community Lab To manage your email subscriptions, visit: https://lab.dpdk.org/results/dashboard/preferences/subscriptions/