From mboxrd@z Thu Jan 1 00:00:00 1970 Return-Path: Received: from mails.dpdk.org (mails.dpdk.org [217.70.189.124]) by inbox.dpdk.org (Postfix) with ESMTP id CCB17466F2 for ; Thu, 8 May 2025 08:31:16 +0200 (CEST) Received: from mails.dpdk.org (localhost [127.0.0.1]) by mails.dpdk.org (Postfix) with ESMTP id A4F714042E; Thu, 8 May 2025 08:31:16 +0200 (CEST) Received: from mail-pl1-f228.google.com (mail-pl1-f228.google.com [209.85.214.228]) by mails.dpdk.org (Postfix) with ESMTP id 048754027C for ; Thu, 8 May 2025 08:31:15 +0200 (CEST) Received: by mail-pl1-f228.google.com with SMTP id d9443c01a7336-22e4db05fe8so7365045ad.0 for ; Wed, 07 May 2025 23:31:14 -0700 (PDT) DKIM-Signature: v=1; a=rsa-sha256; c=relaxed/relaxed; d=iol.unh.edu; s=unh-iol; t=1746685874; x=1747290674; darn=dpdk.org; h=references:in-reply-to:cc:to:from:subject:message-id:date:from:to :cc:subject:date:message-id:reply-to; bh=HSKXVnK7CjzZf+e3lzfjDSBYoJ4jKYkbO2ExjSufW/o=; b=cmW9NjUWFA53puWZmX1xvvhi6W0qd734pd2KOQdAdjdWogtiTgs0pPwLe/oYVLg2wt +nr4KoV2ywTNxMJyxE5ieZ9dL+IKajRAtftRDQtAy4t8Y9eqNi6YAvpXTurBeK0c7O5V 5KxJz0R1bWyBBRkQdaJT4g26lBVdMb5BDDp8M= X-Google-DKIM-Signature: v=1; a=rsa-sha256; c=relaxed/relaxed; d=1e100.net; s=20230601; t=1746685874; x=1747290674; h=references:in-reply-to:cc:to:from:subject:message-id:date :x-gm-message-state:from:to:cc:subject:date:message-id:reply-to; bh=HSKXVnK7CjzZf+e3lzfjDSBYoJ4jKYkbO2ExjSufW/o=; b=j9SRQgecVWmHsl9mDJ1NtFpU4MX9ZfTp28LUswRLp4HqWHP8W18H1Ki8bv1khldCZu ItPNvVBzZqxDAxqgdX97rSrzVZ3xmemZvDJLHLy1Ub0ko0FaiTtcnRuV1aOrM49d+BHU WAVxOaOlGKazaecEkQaxKGh0/PlPRc78V0CGJPHRAfidRFS2j6hBlbE2fbBCXb2H8R71 QrYY7sGnqqKvVdrkXYv8o+aLCDBmyVNvUbcIy9I4cVeOVR10tMRrYAhWswD/d3tZXl9Y HJAxBDGo30YG7nnMDZPKM0Twb7K61MiiFDFVwEr/1TQ0pPSl9/Nd8Q/HHn4tFLLI1yBk qA5Q== X-Gm-Message-State: AOJu0Yw4OTygSPutUSKGVvUWmY7h7nuyTMfy/xmEljaj/O7JOWjH1JIW YBqX427gj5Z439VdUkFBZMXhnX469uxOE5hX79prk/3BxVEo4kco6yotUKlxRP5yD6lovdKa0jS 2U7YebvcGKF2uzR1ChfskWcEWc84f8+90rzwHu/0zt1MWq4MZIAxi/YCM X-Gm-Gg: ASbGnct7wO3KafPXpzTQm4zrzgAqsa10d+c+TpT2mNoQ1bwc93VBj28zY912ZZvynhG HIoj3dPuJcsbZiHf3RamhM9oPB+m2k0xMx3WT/EkK0Sv7v4T8vIl3l96SZf5if4p93u7mgfoKJM M/Zbik/Qm2NU7GqbglaeVAhQMA6T3MFSGxQf9FBuiUQ3YBOM8XDsxVwSnYnRuuFWWWzD+tGmnmc eZdC87Bd3x8Ujt+6gsIefXQeiQ2+SHVuuf00UNG4ajAynTuGP2O1dy2QwuiEe12WzzpB6iQBGKV b5zvHfX/kJDPYexhURnNYL8+GdqJuhVr7ecW X-Google-Smtp-Source: AGHT+IE3LgPqFstsULkDfIsxx0I1GCnrqjg9MxT08JzPwjJRmvxvLy9x7rnuk2TfRnZvt/413lcA3v0GKkvN X-Received: by 2002:a17:902:e54c:b0:22d:e458:96a5 with SMTP id d9443c01a7336-22e5ecc5a8emr86002355ad.38.1746685874055; Wed, 07 May 2025 23:31:14 -0700 (PDT) Received: from postal.iol.unh.edu (postal.iol.unh.edu. [2606:4100:3880:1234::84]) by smtp-relay.gmail.com with ESMTPS id d9443c01a7336-22e16cb23e2sm18526915ad.30.2025.05.07.23.31.13 (version=TLS1_2 cipher=ECDHE-ECDSA-AES128-GCM-SHA256 bits=128/128); Wed, 07 May 2025 23:31:14 -0700 (PDT) X-Relaying-Domain: iol.unh.edu Date: Wed, 07 May 2025 23:31:14 -0700 (PDT) Message-ID: <681c4fb2.170a0220.333789.d684SMTPIN_ADDED_MISSING@mx.google.com> Received: from [172.21.0.11] (unknown [172.18.0.240]) by postal.iol.unh.edu (Postfix) with ESMTP id F1A526052471; Thu, 8 May 2025 02:31:12 -0400 (EDT) Subject: |SUCCESS| pw153343-153345 [PATCH] [v5,3/3] app/testpmd: add sleep co From: dpdklab@iol.unh.edu To: Test Report Cc: dpdk-test-reports@iol.unh.edu In-Reply-To: <4674606a09d854277ac01b0ccd86a4eb559e565f.1746631324.git.anatoly.burakov@intel.com> References: <4674606a09d854277ac01b0ccd86a4eb559e565f.1746631324.git.anatoly.burakov@intel.com> Content-Type: text/plain X-BeenThere: test-report@dpdk.org X-Mailman-Version: 2.1.29 Precedence: list List-Id: automatic DPDK test reports List-Unsubscribe: , List-Archive: List-Post: List-Help: List-Subscribe: , Errors-To: test-report-bounces@dpdk.org Test-Label: iol-abi-testing Test-Status: SUCCESS http://dpdk.org/patch/153345 _Testing PASS_ Submitter: Anatoly Burakov Date: Wednesday, May 07 2025 15:22:12 DPDK git baseline: Repo:dpdk Branch: master CommitID:75f179ebe347b6098cf3af26d3d3b7168fe3fe24 153343-153345 --> testing pass Upstream job id: Generic-DPDK-Compile-ABI#125709 Test environment and result as below: +-------------------+----------+ | Environment | abi_test | +===================+==========+ | CentOS Stream 9 | PASS | +-------------------+----------+ | CentOS Stream 10 | PASS | +-------------------+----------+ | Debian 12 | PASS | +-------------------+----------+ | Fedora 40 (Clang) | PASS | +-------------------+----------+ | Fedora 41 | PASS | +-------------------+----------+ | Ubuntu 22.04 | PASS | +-------------------+----------+ | RHEL9 | PASS | +-------------------+----------+ | RHEL8 | PASS | +-------------------+----------+ | openSUSE Leap 15 | PASS | +-------------------+----------+ | Ubuntu 24.04 | PASS | +-------------------+----------+ | Fedora 41 (Clang) | PASS | +-------------------+----------+ CentOS Stream 9 Kernel: Depends on container host Compiler: gcc 11.5.0 20240719 (Red Hat 11.5.0-2) CentOS Stream 10 Kernel: Depends on container host Compiler: gcc 14.2.1 20241104 (Red Hat 14.2.1-6) Debian 12 Kernel: Depends on container host Compiler: gcc (Debian 12.2.0-14) 12.2.0 Fedora 40 (Clang) Kernel: Depends on container host Compiler: clang 18.1.8 (Fedora 18.1.8-1.fc40) Fedora 41 Kernel: Depends on container host Compiler: gcc 14.2.1 20240912 (Red Hat 14.2.1-3) Ubuntu 22.04 Kernel: Depends on container host Compiler: gcc (Ubuntu 11.4.0-1ubuntu1~22.04) 11.4.0 RHEL9 Kernel: Depends on container host Compiler: gcc 11.5.0 20240719 (Red Hat 11.5.0-2) RHEL8 Kernel: Depends on container host Compiler: gcc 8.5.0 20210514 (Red Hat 8.5.0-22) openSUSE Leap 15 Kernel: Depends on container host Compiler: gcc (SUSE Linux) 7.5.0 Ubuntu 24.04 Kernel: Depends on container host Compiler: gcc (Ubuntu 13.3.0-6ubuntu2~24.04) 13.3.0 Fedora 41 (Clang) Kernel: Depends on container host Compiler: clang 19.1.5 (Fedora 19.1.5-1.fc41) To view detailed results, visit: https://lab.dpdk.org/results/dashboard/patchsets/33134/ UNH-IOL DPDK Community Lab To manage your email subscriptions, visit: https://lab.dpdk.org/results/dashboard/preferences/subscriptions/