From mboxrd@z Thu Jan 1 00:00:00 1970 Return-Path: Received: from mails.dpdk.org (mails.dpdk.org [217.70.189.124]) by inbox.dpdk.org (Postfix) with ESMTP id DE654466F2 for ; Thu, 8 May 2025 08:32:55 +0200 (CEST) Received: from mails.dpdk.org (localhost [127.0.0.1]) by mails.dpdk.org (Postfix) with ESMTP id D77104042E; Thu, 8 May 2025 08:32:55 +0200 (CEST) Received: from mail-pf1-f226.google.com (mail-pf1-f226.google.com [209.85.210.226]) by mails.dpdk.org (Postfix) with ESMTP id 172FE4027C for ; Thu, 8 May 2025 08:32:54 +0200 (CEST) Received: by mail-pf1-f226.google.com with SMTP id d2e1a72fcca58-7369ce5d323so609367b3a.1 for ; Wed, 07 May 2025 23:32:54 -0700 (PDT) DKIM-Signature: v=1; a=rsa-sha256; c=relaxed/relaxed; d=iol.unh.edu; s=unh-iol; t=1746685973; x=1747290773; darn=dpdk.org; h=references:in-reply-to:cc:to:from:subject:message-id:date:from:to :cc:subject:date:message-id:reply-to; bh=5BP4/at8cuktriF5Y/hZxXPqO351BIr+/C+bKiSg2c0=; b=NjPLqDtHIq5OrFfLmNjiSbSVZn4lk/YU61jQwh+ItQcKJYwc69GTtWGOW7ek7O4GLC GePt9K+VT9mw44ICy8M7vFHg7rKcVtd/KoMpSKDRFyBNFgxpvODDEj3ifPw0lvr06TR2 ES6kwgxFl62vP5AwRlZvyFDJ6vam7Ch9z1ApQ= X-Google-DKIM-Signature: v=1; a=rsa-sha256; c=relaxed/relaxed; d=1e100.net; s=20230601; t=1746685973; x=1747290773; h=references:in-reply-to:cc:to:from:subject:message-id:date :x-gm-message-state:from:to:cc:subject:date:message-id:reply-to; bh=5BP4/at8cuktriF5Y/hZxXPqO351BIr+/C+bKiSg2c0=; b=KNMmGzRqX0lznhcx6FQ2EcpNjYk69V+VTeqAWRkbpPUQL83b9gy4Pq9FAEX5H/IA6P k7kf7ZT4OWqyocEsrgbCkWYFA1I7/fsm34HWmZFxCXAPz7DkmXhevpBvTt8INX9yLAmp V342Yo61Mg0L0yzx8N7Xjn6Nvy4bwTz/ZR4J6n8y/0uR+Vp/ui2gdeCh1EgDvilUehRb dizylqoHSuHm5gYApBFvnRZeY62x9tBGt8ySeQ9qd9fRPoAhSvHRs7HVuE1yGntKfy2h vuhdWW8FL73tv4kGkF49g8A4o2Z5WouUI4or5ycor0i3pZqieP2j8hlypqFdLlPXKp2z Z9bQ== X-Gm-Message-State: AOJu0YwKqOtzlJ0F3HLiRIV+uah86fUFPySTKB5dctkYuDhu/GX8/yrw Wlr3x0p47g+hi+YA5F3e8SQi0TlktJZRHJwBLnlNQkvPeNd8TI/GC3FCAxxoJa+LkeKvDyDQ5pY PYUATHp/In9ii+sEhGOWU3p4BMMWSoB7nM4cuXbd+ X-Gm-Gg: ASbGncumk3rkUAR1LsVXrtkjIU5/pT16G35d68mo+5z1WV45nNCjwvDFtxeXmaV27hu P1g0zeW8aSww3x3UDW33S5AiceWcPEstxIoBovbnZK5KFy1Gsb9FKojXo351Vt4rVfyU19ONBdd o8yu+ysK/bN9mgBRlAGy5QnWigflV3zFZQB7S1WQddTdq8T8Q3bso/HU88zm2frAlAHtNHNMf5V iPXf+eQQeGnWpl8uorIFCjLDpKsEYf0TA4hEkpZ7Xhyj/cbyLR9KCNxVaHK2p1eR2Y4bPkPc7ey ORek7ZB2QjAkS7hsei835bOMH8kg+pIu7M/UFau28rOWzIuRd9vPPu/VKh4= X-Google-Smtp-Source: AGHT+IFEpbfqpA0dWapNrUgg8Fhx7jDlckQg97anrwJfo4wCxdVYkRuGvW38ufRFklDNHgeAV3jiPHsy8F/m X-Received: by 2002:a05:6a20:c681:b0:1f5:7d57:8322 with SMTP id adf61e73a8af0-2159b01c9e7mr3063169637.26.1746685971890; Wed, 07 May 2025 23:32:51 -0700 (PDT) Received: from postal.iol.unh.edu (postal.iol.unh.edu. [132.177.123.84]) by smtp-relay.gmail.com with ESMTPS id 41be03b00d2f7-b1fb3c72445sm1257151a12.22.2025.05.07.23.32.51 (version=TLS1_2 cipher=ECDHE-ECDSA-AES128-GCM-SHA256 bits=128/128); Wed, 07 May 2025 23:32:51 -0700 (PDT) X-Relaying-Domain: iol.unh.edu Date: Wed, 07 May 2025 23:32:51 -0700 (PDT) Message-ID: <681c5013.050a0220.1a21e9.00f7SMTPIN_ADDED_MISSING@mx.google.com> Received: from [172.21.0.6] (unknown [172.18.0.240]) by postal.iol.unh.edu (Postfix) with ESMTP id 0FC326052471; Thu, 8 May 2025 02:32:51 -0400 (EDT) Subject: |SUCCESS| pw153343-153345 [PATCH] [v5,3/3] app/testpmd: add sleep co From: dpdklab@iol.unh.edu To: Test Report Cc: dpdk-test-reports@iol.unh.edu In-Reply-To: <4674606a09d854277ac01b0ccd86a4eb559e565f.1746631324.git.anatoly.burakov@intel.com> References: <4674606a09d854277ac01b0ccd86a4eb559e565f.1746631324.git.anatoly.burakov@intel.com> Content-Type: text/plain X-BeenThere: test-report@dpdk.org X-Mailman-Version: 2.1.29 Precedence: list List-Id: automatic DPDK test reports List-Unsubscribe: , List-Archive: List-Post: List-Help: List-Subscribe: , Errors-To: test-report-bounces@dpdk.org Test-Label: iol-abi-testing Test-Status: SUCCESS http://dpdk.org/patch/153345 _Testing PASS_ Submitter: Anatoly Burakov Date: Wednesday, May 07 2025 15:22:12 DPDK git baseline: Repo:dpdk Branch: master CommitID:75f179ebe347b6098cf3af26d3d3b7168fe3fe24 153343-153345 --> testing pass Upstream job id: Generic-DPDK-Compile-ABI#125706 Test environment and result as below: +-------------------+----------+ | Environment | abi_test | +===================+==========+ | CentOS Stream 9 | PASS | +-------------------+----------+ | CentOS Stream 10 | PASS | +-------------------+----------+ | Debian 12 | PASS | +-------------------+----------+ | Fedora 40 (Clang) | PASS | +-------------------+----------+ | Fedora 41 | PASS | +-------------------+----------+ | Ubuntu 22.04 | PASS | +-------------------+----------+ | RHEL9 | PASS | +-------------------+----------+ | RHEL8 | PASS | +-------------------+----------+ | openSUSE Leap 15 | PASS | +-------------------+----------+ | Ubuntu 24.04 | PASS | +-------------------+----------+ | Fedora 41 (Clang) | PASS | +-------------------+----------+ CentOS Stream 9 Kernel: Depends on container host Compiler: gcc 11.5.0 20240719 (Red Hat 11.5.0-2) CentOS Stream 10 Kernel: Depends on container host Compiler: gcc 14.2.1 20241104 (Red Hat 14.2.1-6) Debian 12 Kernel: Depends on container host Compiler: gcc (Debian 12.2.0-14) 12.2.0 Fedora 40 (Clang) Kernel: Depends on container host Compiler: clang 18.1.8 (Fedora 18.1.8-1.fc40) Fedora 41 Kernel: Depends on container host Compiler: gcc 14.2.1 20240912 (Red Hat 14.2.1-3) Ubuntu 22.04 Kernel: Depends on container host Compiler: gcc (Ubuntu 11.4.0-1ubuntu1~22.04) 11.4.0 RHEL9 Kernel: Depends on container host Compiler: gcc 11.5.0 20240719 (Red Hat 11.5.0-2) RHEL8 Kernel: Depends on container host Compiler: gcc 8.5.0 20210514 (Red Hat 8.5.0-22) openSUSE Leap 15 Kernel: Depends on container host Compiler: gcc (SUSE Linux) 7.5.0 Ubuntu 24.04 Kernel: Depends on container host Compiler: gcc (Ubuntu 13.3.0-6ubuntu2~24.04) 13.3.0 Fedora 41 (Clang) Kernel: Depends on container host Compiler: clang 19.1.5 (Fedora 19.1.5-1.fc41) To view detailed results, visit: https://lab.dpdk.org/results/dashboard/patchsets/33134/ UNH-IOL DPDK Community Lab To manage your email subscriptions, visit: https://lab.dpdk.org/results/dashboard/preferences/subscriptions/