From mboxrd@z Thu Jan 1 00:00:00 1970 Return-Path: Received: from mails.dpdk.org (mails.dpdk.org [217.70.189.124]) by inbox.dpdk.org (Postfix) with ESMTP id F25C5466F2 for ; Thu, 8 May 2025 08:33:07 +0200 (CEST) Received: from mails.dpdk.org (localhost [127.0.0.1]) by mails.dpdk.org (Postfix) with ESMTP id ECC004042E; Thu, 8 May 2025 08:33:07 +0200 (CEST) Received: from mail-yw1-f226.google.com (mail-yw1-f226.google.com [209.85.128.226]) by mails.dpdk.org (Postfix) with ESMTP id 819774027C for ; Thu, 8 May 2025 08:33:06 +0200 (CEST) Received: by mail-yw1-f226.google.com with SMTP id 00721157ae682-70842dc27easo6778357b3.1 for ; Wed, 07 May 2025 23:33:06 -0700 (PDT) DKIM-Signature: v=1; a=rsa-sha256; c=relaxed/relaxed; d=iol.unh.edu; s=unh-iol; t=1746685986; x=1747290786; darn=dpdk.org; h=references:in-reply-to:cc:to:from:subject:message-id:date:from:to :cc:subject:date:message-id:reply-to; bh=AqttlxcH/6UleU0140UzwSK++2wpvR3w2s0s+bHVYMI=; b=Vp+jI9Tj3t+SMw//dVvzjY6QgtY6iVlG81t1R6jAALOb/NdUZmdD8v1RAqFewS5wPy MH44F6nAkaT28JcLnakw9D1PDE+GHBIMPtgcSP9Nkc/rJyH8a76aTWUOJJ4bxdXUNsQj gbJcA+HcR//po+O2/z/ZtaE8FmwIOrd8IKjIE= X-Google-DKIM-Signature: v=1; a=rsa-sha256; c=relaxed/relaxed; d=1e100.net; s=20230601; t=1746685986; x=1747290786; h=references:in-reply-to:cc:to:from:subject:message-id:date :x-gm-message-state:from:to:cc:subject:date:message-id:reply-to; bh=AqttlxcH/6UleU0140UzwSK++2wpvR3w2s0s+bHVYMI=; b=W0cSOvf24TlqFQIs6fAj9tIgiSAm9LD9whSPXHNNo4bqXQf7l/tNfkrZL27m7tjwJK ipzcUef9VPCNz377J3htOOSNNHmRgZ7h6y1KN3P1UITZz0Y+PcZFeLHaD0KKCNqE84JO dZFXqGjrN6RRgfV9hTMcSBVXJ1VhpBm2gjU3jrXHbL5awYVLZ+gD79TAotWA2HbDKLOy 5g9fdecsdnGxOPDG23LRX52/u6sywW5n5RUEZpcVLc0J8oDvh5AwHx5fXVHNSi2SxKTR 2OsTm/y9coeF8dhqamHNDDX//Dr9ltnl351nGs/4sqDL/yGQVVy2oWisIvUAwCnIRVE9 1UCw== X-Gm-Message-State: AOJu0YxEk9IOro1RNypkpqn7fEHczCUc32Ssc4aJq7VRminz7q+YqJwq htfoJ6R1c7K7y3uBLGbQNDF7SgwqXWG1t7eiQfTBkR3lg0vZbQNVeREfUe5GY9vvjTI1iiqTrcM 3g2bts53TkvE+tdMq8MHGcQEvYddRyKmfq1gdYXkN X-Gm-Gg: ASbGnctySuoa8KID55uUtpXd6doFmiZF0NIoJgojO4geVFp5OALDRBmSvVLx7rGHKFg kkSbA6IUU/r0J72ez03/3DUPpIMNVSiqiOQsexgocNyR5RsnF1fHxfuZY/gSHZYqoJHUCjqdVzW +opqTUnm+J+2mZDR+SzN8r1FWExAelEcU+9D3saYHByYwYgsogvzO6AoI42F4W8KQwFtj9UhMUQ 2C3/DAKpdcamesprEWVLST9tGRJrhPBJeEPQPms2CxqnucsZtZSunHru8ncvoho0pmmGzsHehok 1PIFZSHiHz76zsWVqBZCAhS9oIyoQ1AZK3Q8CEyj9crFaGRJOzHWUlm2XF0= X-Google-Smtp-Source: AGHT+IGwJ9HFW7dArbHZD3V4y99j68QtqiF7JMQh32L7LT+RXqJO03krWu4YnGaHH/iBDH/Wm2P7aUVSzDpP X-Received: by 2002:a05:690c:6012:b0:6fd:a226:fb24 with SMTP id 00721157ae682-70a1da0e27amr83562567b3.10.1746685985876; Wed, 07 May 2025 23:33:05 -0700 (PDT) Received: from postal.iol.unh.edu (postal.iol.unh.edu. [132.177.123.84]) by smtp-relay.gmail.com with ESMTPS id 00721157ae682-708c3f110aasm21243347b3.14.2025.05.07.23.33.05 (version=TLS1_2 cipher=ECDHE-ECDSA-AES128-GCM-SHA256 bits=128/128); Wed, 07 May 2025 23:33:05 -0700 (PDT) X-Relaying-Domain: iol.unh.edu Date: Wed, 07 May 2025 23:33:05 -0700 (PDT) Message-ID: <681c5021.050a0220.213cf1.b914SMTPIN_ADDED_MISSING@mx.google.com> Received: from [172.21.0.5] (unknown [172.18.0.240]) by postal.iol.unh.edu (Postfix) with ESMTP id 906846052471; Thu, 8 May 2025 02:33:05 -0400 (EDT) Subject: |SUCCESS| pw153343-153345 [PATCH] [v5,3/3] app/testpmd: add sleep co From: dpdklab@iol.unh.edu To: Test Report Cc: dpdk-test-reports@iol.unh.edu In-Reply-To: <4674606a09d854277ac01b0ccd86a4eb559e565f.1746631324.git.anatoly.burakov@intel.com> References: <4674606a09d854277ac01b0ccd86a4eb559e565f.1746631324.git.anatoly.burakov@intel.com> Content-Type: text/plain X-BeenThere: test-report@dpdk.org X-Mailman-Version: 2.1.29 Precedence: list List-Id: automatic DPDK test reports List-Unsubscribe: , List-Archive: List-Post: List-Help: List-Subscribe: , Errors-To: test-report-bounces@dpdk.org Test-Label: iol-abi-testing Test-Status: SUCCESS http://dpdk.org/patch/153345 _Testing PASS_ Submitter: Anatoly Burakov Date: Wednesday, May 07 2025 15:22:12 DPDK git baseline: Repo:dpdk Branch: master CommitID:75f179ebe347b6098cf3af26d3d3b7168fe3fe24 153343-153345 --> testing pass Upstream job id: Generic-DPDK-Compile-ABI#125703 Test environment and result as below: +-------------------+----------+ | Environment | abi_test | +===================+==========+ | CentOS Stream 9 | PASS | +-------------------+----------+ | CentOS Stream 10 | PASS | +-------------------+----------+ | Debian 12 | PASS | +-------------------+----------+ | Fedora 40 (Clang) | PASS | +-------------------+----------+ | Fedora 41 | PASS | +-------------------+----------+ | Ubuntu 22.04 | PASS | +-------------------+----------+ | RHEL9 | PASS | +-------------------+----------+ | RHEL8 | PASS | +-------------------+----------+ | openSUSE Leap 15 | PASS | +-------------------+----------+ | Ubuntu 24.04 | PASS | +-------------------+----------+ | Fedora 41 (Clang) | PASS | +-------------------+----------+ CentOS Stream 9 Kernel: Depends on container host Compiler: gcc 11.5.0 20240719 (Red Hat 11.5.0-2) CentOS Stream 10 Kernel: Depends on container host Compiler: gcc 14.2.1 20241104 (Red Hat 14.2.1-6) Debian 12 Kernel: Depends on container host Compiler: gcc (Debian 12.2.0-14) 12.2.0 Fedora 40 (Clang) Kernel: Depends on container host Compiler: clang 18.1.8 (Fedora 18.1.8-1.fc40) Fedora 41 Kernel: Depends on container host Compiler: gcc 14.2.1 20240912 (Red Hat 14.2.1-3) Ubuntu 22.04 Kernel: Depends on container host Compiler: gcc (Ubuntu 11.4.0-1ubuntu1~22.04) 11.4.0 RHEL9 Kernel: Depends on container host Compiler: gcc 11.5.0 20240719 (Red Hat 11.5.0-2) RHEL8 Kernel: Depends on container host Compiler: gcc 8.5.0 20210514 (Red Hat 8.5.0-22) openSUSE Leap 15 Kernel: Depends on container host Compiler: gcc (SUSE Linux) 7.5.0 Ubuntu 24.04 Kernel: Depends on container host Compiler: gcc (Ubuntu 13.3.0-6ubuntu2~24.04) 13.3.0 Fedora 41 (Clang) Kernel: Depends on container host Compiler: clang 19.1.5 (Fedora 19.1.5-1.fc41) To view detailed results, visit: https://lab.dpdk.org/results/dashboard/patchsets/33134/ UNH-IOL DPDK Community Lab To manage your email subscriptions, visit: https://lab.dpdk.org/results/dashboard/preferences/subscriptions/