From mboxrd@z Thu Jan 1 00:00:00 1970 Return-Path: Received: from mails.dpdk.org (mails.dpdk.org [217.70.189.124]) by inbox.dpdk.org (Postfix) with ESMTP id 9FD4B466F2 for ; Thu, 8 May 2025 08:38:30 +0200 (CEST) Received: from mails.dpdk.org (localhost [127.0.0.1]) by mails.dpdk.org (Postfix) with ESMTP id 998784042E; Thu, 8 May 2025 08:38:30 +0200 (CEST) Received: from mail-pf1-f227.google.com (mail-pf1-f227.google.com [209.85.210.227]) by mails.dpdk.org (Postfix) with ESMTP id 933B040608 for ; Thu, 8 May 2025 08:38:29 +0200 (CEST) Received: by mail-pf1-f227.google.com with SMTP id d2e1a72fcca58-736ad42dfd6so530685b3a.3 for ; Wed, 07 May 2025 23:38:29 -0700 (PDT) DKIM-Signature: v=1; a=rsa-sha256; c=relaxed/relaxed; d=iol.unh.edu; s=unh-iol; t=1746686308; x=1747291108; darn=dpdk.org; h=references:in-reply-to:cc:to:from:subject:message-id:date:from:to :cc:subject:date:message-id:reply-to; bh=DJEYxzXse9Ew0lS2eernKLOMMAhB8Ulfu77J+TaKxG8=; b=KGY+oojX7Mepog+w3sKcSDYmxEW365Yl/BbkFBw20M4xwz92OP+0hajbkRwsSi7uLV OwjmodLjxdVouOiiHyIxiaJneqJbdrVLK4diYvPaSS1TVoNEz2Sqvz6ktFV0mDgQXELc gDfogTVYuCW2E0eK+gFk1eGOuQEW7N2bwBVAo= X-Google-DKIM-Signature: v=1; a=rsa-sha256; c=relaxed/relaxed; d=1e100.net; s=20230601; t=1746686308; x=1747291108; h=references:in-reply-to:cc:to:from:subject:message-id:date :x-gm-message-state:from:to:cc:subject:date:message-id:reply-to; bh=DJEYxzXse9Ew0lS2eernKLOMMAhB8Ulfu77J+TaKxG8=; b=AH6dJUK27ha7rNVJW8Va0yDxpYbp8ryJgqSRzfVynIJ6LnPwb3yfXz1EhJRw5QBF2Y 5FRTSfQ09r11iP20qyNvpzJnokHbAH9271aZ9WheolZKTSsu4yWjcu7EYvHlxEqOY3OJ 1NVkKAvKwDNIix0eQ+yT5EUPL3eH1fnLC53KpbDSTVbzmWto5+HmmILtmtTfd5cf4jV/ YIOGfp0PL8dVvpW8QHuJYUADWaG3EXfF1of/qTnr3ZitHVgLQVnTdllLT71FiF9RWWXZ Y1Ak22B54PBp0MQUYsag3Wu1TrhET/gGgnnqU3qSDliMmzpUwJUEOhkSWgrIMSoE8u9e ElQQ== X-Gm-Message-State: AOJu0YwOL+nTrALhy3lGI41bNvhNvdU4eIx+4FBgGwFQY0Rk/aDvEBy/ HLPnL36lx24tM7tzGu9r7rkZKIzm+qrp0xFBJLbHD0A8rH/vjdGURhjvSXyOqdYn8UkY+to5PBY 5sBpe6jsD+BNZGScc8fPcyWanxboc+WSIKBlgWAjN X-Gm-Gg: ASbGnctdc9V8lxIlClwbvv3iScCTtw30iG5k++oaWXcoV30desWxpnDOqUaf/b0YmQ3 XpeFHyUyj794KaQdYGk+GV8mn/8HrnBIzEZPUtKP12lI+LfXatPbSbHjsVtdCnpNuYCOdE/IENb 035cwpxXJzOhttxyX0aphrltf9MwDYTIKpFjllKCahyidq+ldiOHQsOs+8xjUSY4TIEzNXnITMU fd3u4FRNEGWO+frA/ScKp0UzdQ8+cCnHOXQlNUSFxlLT/TRMbaHM1HZ1jnk0U288vUBYqI4YCoy vI8EkQho4YkYMgSaVrSHIz5r1ufCJzA4jUNh698qfte003vXdJ6CcXZJs/c= X-Google-Smtp-Source: AGHT+IGH0fbC4pfpL+ZRorGjT3kNpcZIWJE6ZLvvneH8fBdvOc3+iX+l9Bg1B9kK+cLAwk63e214u0pC+bZA X-Received: by 2002:a05:6a21:9002:b0:1f5:7873:3041 with SMTP id adf61e73a8af0-2148bc0fccamr9917645637.18.1746686308289; Wed, 07 May 2025 23:38:28 -0700 (PDT) Received: from postal.iol.unh.edu (postal.iol.unh.edu. [132.177.123.84]) by smtp-relay.gmail.com with ESMTPS id d2e1a72fcca58-740590223f8sm2296159b3a.19.2025.05.07.23.38.28 (version=TLS1_2 cipher=ECDHE-ECDSA-AES128-GCM-SHA256 bits=128/128); Wed, 07 May 2025 23:38:28 -0700 (PDT) X-Relaying-Domain: iol.unh.edu Date: Wed, 07 May 2025 23:38:28 -0700 (PDT) Message-ID: <681c5164.050a0220.191b10.4f7eSMTPIN_ADDED_MISSING@mx.google.com> Received: from [172.21.0.6] (unknown [172.18.0.240]) by postal.iol.unh.edu (Postfix) with ESMTP id 6E9C56052471; Thu, 8 May 2025 02:38:27 -0400 (EDT) Subject: |SUCCESS| pw153343-153345 [PATCH] [v5,3/3] app/testpmd: add sleep co From: dpdklab@iol.unh.edu To: Test Report Cc: dpdk-test-reports@iol.unh.edu In-Reply-To: <4674606a09d854277ac01b0ccd86a4eb559e565f.1746631324.git.anatoly.burakov@intel.com> References: <4674606a09d854277ac01b0ccd86a4eb559e565f.1746631324.git.anatoly.burakov@intel.com> Content-Type: text/plain X-BeenThere: test-report@dpdk.org X-Mailman-Version: 2.1.29 Precedence: list List-Id: automatic DPDK test reports List-Unsubscribe: , List-Archive: List-Post: List-Help: List-Subscribe: , Errors-To: test-report-bounces@dpdk.org Test-Label: iol-unit-arm64-testing Test-Status: SUCCESS http://dpdk.org/patch/153345 _Testing PASS_ Submitter: Anatoly Burakov Date: Wednesday, May 07 2025 15:22:12 DPDK git baseline: Repo:dpdk Branch: master CommitID:75f179ebe347b6098cf3af26d3d3b7168fe3fe24 153343-153345 --> testing pass Upstream job id: Aarch32-Unit-Test#6172 Test environment and result as below: +-----------------------------+----------------+--------------+---------------------------+------------------------------+ | Environment | dpdk_unit_test | lpm_autotest | cryptodev_sw_zuc_autotest | cryptodev_sw_snow3g_autotest | +=============================+================+==============+===========================+==============================+ | CentOS Stream 9 (ARM) | PASS | SKIPPED | SKIPPED | SKIPPED | +-----------------------------+----------------+--------------+---------------------------+------------------------------+ | Debian 12 (arm) | PASS | SKIPPED | PASS | PASS | +-----------------------------+----------------+--------------+---------------------------+------------------------------+ | CentOS Stream 10 (ARM) | PASS | SKIPPED | SKIPPED | SKIPPED | +-----------------------------+----------------+--------------+---------------------------+------------------------------+ | Fedora 40 (ARM Clang) | PASS | SKIPPED | SKIPPED | SKIPPED | +-----------------------------+----------------+--------------+---------------------------+------------------------------+ | Fedora 40 (ARM) | PASS | SKIPPED | SKIPPED | SKIPPED | +-----------------------------+----------------+--------------+---------------------------+------------------------------+ | Fedora 41 (ARM) | PASS | SKIPPED | SKIPPED | SKIPPED | +-----------------------------+----------------+--------------+---------------------------+------------------------------+ | Fedora 41 (ARM Clang) | PASS | SKIPPED | SKIPPED | SKIPPED | +-----------------------------+----------------+--------------+---------------------------+------------------------------+ | RHEL9 (ARM) | PASS | SKIPPED | SKIPPED | SKIPPED | +-----------------------------+----------------+--------------+---------------------------+------------------------------+ | Ubuntu 20.04 (ARM) | PASS | SKIPPED | SKIPPED | SKIPPED | +-----------------------------+----------------+--------------+---------------------------+------------------------------+ | Ubuntu 22.04 (ARM) | PASS | SKIPPED | SKIPPED | SKIPPED | +-----------------------------+----------------+--------------+---------------------------+------------------------------+ | Ubuntu 24.04 (ARM) | PASS | SKIPPED | SKIPPED | SKIPPED | +-----------------------------+----------------+--------------+---------------------------+------------------------------+ | 32-bit Ubuntu 22.04.4 (ARM) | PASS | SKIPPED | SKIPPED | SKIPPED | +-----------------------------+----------------+--------------+---------------------------+------------------------------+ | Ubuntu 20.04 ARM SVE | SKIPPED | PASS | SKIPPED | SKIPPED | +-----------------------------+----------------+--------------+---------------------------+------------------------------+ CentOS Stream 9 (ARM) Kernel: Depends on container host Compiler: gcc 11.5.0 20240719 (Red Hat 11.5.0-2) Debian 12 (arm) Kernel: Depends on container host Compiler: gcc (Debian 12.2.0-14) 12.2.0 CentOS Stream 10 (ARM) Kernel: Depends on container host Compiler: gcc 14.2.1 20241104 (Red Hat 14.2.1-6) Fedora 40 (ARM Clang) Kernel: Depends on container host Compiler: clang 18.1.8 (Fedora 18.1.8-1.fc40) Fedora 40 (ARM) Kernel: Depends on container host Compiler: gcc 14.2.1 20240912 (Red Hat 14.2.1-3) Fedora 41 (ARM) Kernel: Depends on container host Compiler: gcc 14.2.1 20240912 (Red Hat 14.2.1-3) Fedora 41 (ARM Clang) Kernel: Depends on container host Compiler: clang 19.1.5 (Fedora 19.1.5-1.fc41) RHEL9 (ARM) Kernel: Depends on container host Compiler: gcc 11.5.0 20240719 (Red Hat 11.5.0-2) Ubuntu 20.04 (ARM) Kernel: Depends on container host Compiler: gcc (Ubuntu 9.4.0-1ubuntu1~20.04.2) 9.4.0 Ubuntu 22.04 (ARM) Kernel: Depends on container host Compiler: gcc (Ubuntu 11.4.0-1ubuntu1~22.04) 11.4.0 Ubuntu 24.04 (ARM) Kernel: Depends on container host Compiler: gcc (Ubuntu 13.3.0-6ubuntu2~24.04) 13.3.0 32-bit Ubuntu 22.04.4 (ARM) Kernel: 5.15.83+ aarch64 Compiler: gcc (Ubuntu 11.4.0-1ubuntu1~22.04) 11.4.0 Ubuntu 20.04 ARM SVE Kernel: Depends on container host Compiler: gcc (Ubuntu 10.5.0-1ubuntu1~20.04) 10.5.0 To view detailed results, visit: https://lab.dpdk.org/results/dashboard/patchsets/33134/ UNH-IOL DPDK Community Lab To manage your email subscriptions, visit: https://lab.dpdk.org/results/dashboard/preferences/subscriptions/