From mboxrd@z Thu Jan 1 00:00:00 1970 Return-Path: Received: from mails.dpdk.org (mails.dpdk.org [217.70.189.124]) by inbox.dpdk.org (Postfix) with ESMTP id B504C466F2 for ; Thu, 8 May 2025 08:57:06 +0200 (CEST) Received: from mails.dpdk.org (localhost [127.0.0.1]) by mails.dpdk.org (Postfix) with ESMTP id AC7514027C; Thu, 8 May 2025 08:57:06 +0200 (CEST) Received: from mail-pl1-f225.google.com (mail-pl1-f225.google.com [209.85.214.225]) by mails.dpdk.org (Postfix) with ESMTP id 75ADD4025A for ; Thu, 8 May 2025 08:57:05 +0200 (CEST) Received: by mail-pl1-f225.google.com with SMTP id d9443c01a7336-22e331215dbso14544415ad.1 for ; Wed, 07 May 2025 23:57:05 -0700 (PDT) DKIM-Signature: v=1; a=rsa-sha256; c=relaxed/relaxed; d=iol.unh.edu; s=unh-iol; t=1746687424; x=1747292224; darn=dpdk.org; h=references:in-reply-to:cc:to:from:subject:message-id:date:from:to :cc:subject:date:message-id:reply-to; bh=PkYivmHCGw13BwoEpSYyYd1uEqq7yWcnpSe30ZvMGps=; b=Gu28QrddDxCav9hNvafd7WXgnGBUaXoTtTIknb75MEnPKnbkWEstOGXa1geRlkyL8z 0u3NunlkCF92i8c1TAyAG2w7qG4fKWFhIRY756yx7P8aDc9nWKydjzUAk5haT6PxRZc/ LDXjBuGDc8QK7DxiMUIjjRxMbZtbODlTKCqrs= X-Google-DKIM-Signature: v=1; a=rsa-sha256; c=relaxed/relaxed; d=1e100.net; s=20230601; t=1746687424; x=1747292224; h=references:in-reply-to:cc:to:from:subject:message-id:date :x-gm-message-state:from:to:cc:subject:date:message-id:reply-to; bh=PkYivmHCGw13BwoEpSYyYd1uEqq7yWcnpSe30ZvMGps=; b=BSehxV3G2gpygbqqLug8mfKtul6EdXTOXrCrmR49ZFNKTjkDp7ByF+rYRL+aby87KE 1tYKymJfkvJtI9yUFKP+wB03oenLZqC0ERBmwUZ5c32iB6F8M6zp//afoqqeVpEinSRv Ac+EWX1NatH/dhODcgDcgjTH4CYE85EjFtWlxo37spnpIckpVPRIlIv15ckNku7tWyqx fKcVcUPgo/X/A/Pbx58fExomRWQ4yk7f/U6lDuldB/zQ0t5ZbpRUnxkPouFjKxpf3W3N gk26qClW1Ei7wjsVXYtn5lRjodBxDRSJQir4FTSM1nbK7Kdf6DVkhV3aXAisBKiFCuML 9+Aw== X-Gm-Message-State: AOJu0Yyt9GVgdTNIjLfQlBF/LsCDbhciTt7wh3/jFrYxuLOe2DteSjCA jm5nrECc+JA2Atn+bmvOxiPDnPGzVeD2TMuw6WUgKVJrWPhcLeLvhBv6giSxws8k4lZKaLWmXQg FVamQIc5Oj2zN+ARpducuyou70gGW2qwUeoCpcgZNrR+EB0JZBkurHHoH X-Gm-Gg: ASbGnctWC7cfKO+w5EM9YQ7ZsO3STIfM9WCvIwPsnUb0kjouO5iCVMczUDbl1xlTV+r PD4ow98Dyo1jFZ+TKEu3gp/uhc0CoYMpMj/SpQeKl3/N95qOYtectXTDxuo3b80fMPBRxIAb9V9 N15Q+wweqdi1f2hQ34QTvDJ6fjwijcU1sPdIwRY9usucmaZzqpkaerfiJ69WbN1cDM8hnIbOss8 ytHQa7ybEVyrrXUzbmOOGToT5NG/iLcUtuaQ6J+iJCp09nXI6RgtbMnXqufBwRDG+31aRQXb5gd gwf+K66VXkt8Nv9fpw1/nZcPPnOlKgsYmgoX X-Google-Smtp-Source: AGHT+IH+znpJYder/42Pl46Rd+HTKYnOdWO6Mk5FJf3D54HUqanxlUIsj14d8nnKDFwEJRlL1YHZM0ZQYyM1 X-Received: by 2002:a17:902:ccc3:b0:22d:c846:3e32 with SMTP id d9443c01a7336-22e847d1733mr29448105ad.25.1746687424726; Wed, 07 May 2025 23:57:04 -0700 (PDT) Received: from postal.iol.unh.edu (postal.iol.unh.edu. [2606:4100:3880:1234::84]) by smtp-relay.gmail.com with ESMTPS id 41be03b00d2f7-b1fb3c7252bsm1255001a12.21.2025.05.07.23.57.04 (version=TLS1_2 cipher=ECDHE-ECDSA-AES128-GCM-SHA256 bits=128/128); Wed, 07 May 2025 23:57:04 -0700 (PDT) X-Relaying-Domain: iol.unh.edu Date: Wed, 07 May 2025 23:57:04 -0700 (PDT) Message-ID: <681c55c0.050a0220.299a6b.f022SMTPIN_ADDED_MISSING@mx.google.com> Received: from [172.21.0.5] (unknown [172.18.0.240]) by postal.iol.unh.edu (Postfix) with ESMTP id E04AE6052471; Thu, 8 May 2025 02:57:03 -0400 (EDT) Subject: |SUCCESS| pw153343-153345 [PATCH] [v5,3/3] app/testpmd: add sleep co From: dpdklab@iol.unh.edu To: Test Report Cc: dpdk-test-reports@iol.unh.edu In-Reply-To: <4674606a09d854277ac01b0ccd86a4eb559e565f.1746631324.git.anatoly.burakov@intel.com> References: <4674606a09d854277ac01b0ccd86a4eb559e565f.1746631324.git.anatoly.burakov@intel.com> Content-Type: text/plain X-BeenThere: test-report@dpdk.org X-Mailman-Version: 2.1.29 Precedence: list List-Id: automatic DPDK test reports List-Unsubscribe: , List-Archive: List-Post: List-Help: List-Subscribe: , Errors-To: test-report-bounces@dpdk.org Test-Label: iol-unit-amd64-testing Test-Status: SUCCESS http://dpdk.org/patch/153345 _Testing PASS_ Submitter: Anatoly Burakov Date: Wednesday, May 07 2025 15:22:12 DPDK git baseline: Repo:dpdk Branch: master CommitID:75f179ebe347b6098cf3af26d3d3b7168fe3fe24 153343-153345 --> testing pass Upstream job id: Generic-VM-Unit-Test-DPDK#28403 Test environment and result as below: +---------------------+----------------+ | Environment | dpdk_unit_test | +=====================+================+ | Fedora 40 (Clang) | PASS | +---------------------+----------------+ | CentOS Stream 9 | PASS | +---------------------+----------------+ | Fedora 40 | PASS | +---------------------+----------------+ | CentOS Stream 10 | PASS | +---------------------+----------------+ | Debian 12 | PASS | +---------------------+----------------+ | Fedora 41 | PASS | +---------------------+----------------+ | Fedora 41 (Clang) | PASS | +---------------------+----------------+ | RHEL9 | PASS | +---------------------+----------------+ | RHEL8 | PASS | +---------------------+----------------+ | Ubuntu 20.04 | PASS | +---------------------+----------------+ | Ubuntu 22.04 | PASS | +---------------------+----------------+ | Ubuntu 24.04 | PASS | +---------------------+----------------+ | Windows Server 2022 | PASS | +---------------------+----------------+ Fedora 40 (Clang) Kernel: Depends on container host Compiler: clang 18.1.8 (Fedora 18.1.8-1.fc40) CentOS Stream 9 Kernel: Depends on container host Compiler: gcc 11.5.0 20240719 (Red Hat 11.5.0-2) Fedora 40 Kernel: Depends on container host Compiler: gcc 14.2.1 20240912 (Red Hat 14.2.1-3) CentOS Stream 10 Kernel: Depends on container host Compiler: gcc 14.2.1 20241104 (Red Hat 14.2.1-6) Debian 12 Kernel: Depends on container host Compiler: gcc (Debian 12.2.0-14) 12.2.0 Fedora 41 Kernel: Depends on container host Compiler: gcc 14.2.1 20240912 (Red Hat 14.2.1-3) Fedora 41 (Clang) Kernel: Depends on container host Compiler: clang 19.1.5 (Fedora 19.1.5-1.fc41) RHEL9 Kernel: Depends on container host Compiler: gcc 11.5.0 20240719 (Red Hat 11.5.0-2) RHEL8 Kernel: Depends on container host Compiler: gcc 8.5.0 20210514 (Red Hat 8.5.0-22) Ubuntu 20.04 Kernel: Depends on container host Compiler: gcc (Ubuntu 9.4.0-1ubuntu1~20.04.2) 9.4.0 Ubuntu 22.04 Kernel: Depends on container host Compiler: gcc (Ubuntu 11.4.0-1ubuntu1~22.04) 11.4.0 Ubuntu 24.04 Kernel: Depends on container host Compiler: gcc (Ubuntu 13.3.0-6ubuntu2~24.04) 13.3.0 Windows Server 2022 Kernel: 10.0.20348.2031 Compiler: clang 15.0.7, gcc 14.1.0 (MinGW), and MSVC VS 19.39.33521 To view detailed results, visit: https://lab.dpdk.org/results/dashboard/patchsets/33134/ UNH-IOL DPDK Community Lab To manage your email subscriptions, visit: https://lab.dpdk.org/results/dashboard/preferences/subscriptions/