From mboxrd@z Thu Jan 1 00:00:00 1970 Return-Path: Received: from mails.dpdk.org (mails.dpdk.org [217.70.189.124]) by inbox.dpdk.org (Postfix) with ESMTP id 59B89466F2 for ; Thu, 8 May 2025 09:11:03 +0200 (CEST) Received: from mails.dpdk.org (localhost [127.0.0.1]) by mails.dpdk.org (Postfix) with ESMTP id 317D84027C; Thu, 8 May 2025 09:11:03 +0200 (CEST) Received: from mail-oa1-f100.google.com (mail-oa1-f100.google.com [209.85.160.100]) by mails.dpdk.org (Postfix) with ESMTP id 63B9A4025A for ; Thu, 8 May 2025 09:11:01 +0200 (CEST) Received: by mail-oa1-f100.google.com with SMTP id 586e51a60fabf-2c873231e7bso608899fac.3 for ; Thu, 08 May 2025 00:11:01 -0700 (PDT) DKIM-Signature: v=1; a=rsa-sha256; c=relaxed/relaxed; d=iol.unh.edu; s=unh-iol; t=1746688260; x=1747293060; darn=dpdk.org; h=cc:to:from:subject:message-id:date:from:to:cc:subject:date :message-id:reply-to; bh=SBmDcjFJ0LAKqIqN3lH8S0zXSap6GSHfE3omu4KRR1o=; b=B9/n9hjaij+EVP4RYRlUAf5+cvlNY+754oyCshUOPwPtcZ2oEHu5Rky870KvWDm1cX DpPValaG1wAbRCct4uBRCmqiCPwr6jK3icO967pV5+a5hRv0kmsG7+zAR1M0t3lDxA4e SlhWDXrIhxlC7qC9hvCjQL0WXWX84bBvZVCII= X-Google-DKIM-Signature: v=1; a=rsa-sha256; c=relaxed/relaxed; d=1e100.net; s=20230601; t=1746688260; x=1747293060; h=cc:to:from:subject:message-id:date:x-gm-message-state:from:to:cc :subject:date:message-id:reply-to; bh=SBmDcjFJ0LAKqIqN3lH8S0zXSap6GSHfE3omu4KRR1o=; b=tAygF/HOMBdKUVd2NyYVI3yMX5M5M3cuBjh2q2dD2agPabOMaqhYCZLTwHWw/ckPyd k9Cfgw9GSc0QIeq1AZS/npxx9zc34C0ubP5PYnNMiCc6iGORlCDU3Wu+fCh33xB1vSLX H8Pcgqlh11G3/Bo7j78fK2InM4MGz8Pc/vWQYNGZOHNfrXhJmQqJSWifRZNutu5SUVfH LmKuVVR4yaK1LnX8RUK68TGRE0YtOPqsiWvLRQoFhBNLaPNlXEhxnO8lggLPXbV7KSMq 1izpq9T+nD0UusUanqiRvCX6SnkCUtLsD/wjHwx8ehdPgKVKJKx7MeFNn4uxdWGb4Y37 /+rA== X-Gm-Message-State: AOJu0Yw/x8es6ihkdqKB4Yc0fSkoUIKEX4IZNA4rT/Vq1Komz8QhaABv vePJ+BB8Qpd3Hw2DR+ph+jTztNCIXNIU5/LKl8PLrTd69xoHPygw53sD0wL7bxfq7lR3s9CM1vQ cVacOuqwBHkIp1QF0jrdjp69GhsUsZdydRrus06yAM4FGcuMi X-Gm-Gg: ASbGncsu0fXyeaG/ECpfSF7Ku6691HUEFiuxpT+xmRfzIbi7p4a97Cp50vTUv28r60m 4mCKMgWh9jrqw9jjHr/k7K8Z8hKfnnhOvZDUdcK22oyqoJk2J/2CkpJx1J4d9C55gMfJ5zq+sJu V6aRPp39Qy4syw/dKgCsMUjNnSPPMDmRoW9638LKcLUVhEy7VsQyiQMindj1/i9mQr3wUyp5GMz IusdgE4siKCshtJh5myar1/z2iGO4mb+EAFPr5I5EJHtiHN+GjG6JVmh4sJApEX2BKQlC68EVJs F4yq0Q4oVDcZEnVpvhqJlF7llrneasGsi8tv X-Google-Smtp-Source: AGHT+IHIXv4ov/Q8eZviLQ2jq7S8r0qx1gX8HFf6YMX1QAjQrbmODqxt5wWnqXBl5FMEPTfBDuA/AzLlJ95Z X-Received: by 2002:a05:6870:238c:b0:2c1:6663:f603 with SMTP id 586e51a60fabf-2db5bec44f1mr3741408fac.19.1746688260403; Thu, 08 May 2025 00:11:00 -0700 (PDT) Received: from postal.iol.unh.edu (postal.iol.unh.edu. [2606:4100:3880:1234::84]) by smtp-relay.gmail.com with ESMTPS id 586e51a60fabf-2db5cd93124sm187383fac.19.2025.05.08.00.11.00 (version=TLS1_2 cipher=ECDHE-ECDSA-AES128-GCM-SHA256 bits=128/128); Thu, 08 May 2025 00:11:00 -0700 (PDT) X-Relaying-Domain: iol.unh.edu Date: Thu, 08 May 2025 00:11:00 -0700 (PDT) Message-ID: <681c5904.050a0220.3d7606.a629SMTPIN_ADDED_MISSING@mx.google.com> Received: from [172.21.0.5] (unknown [172.18.0.240]) by postal.iol.unh.edu (Postfix) with ESMTP id D5E396052471; Thu, 8 May 2025 03:10:59 -0400 (EDT) Subject: |SUCCESS| [GIT MASTER] 4c5634de9f933555bab9c64a533d3dca999071cd From: dpdklab@iol.unh.edu To: Test Report Cc: dpdk-test-reports@iol.unh.edu, Xueming Li , Christian Ehrhardt , Kevin Traynor , Luca Boccassi Content-Type: text/plain X-BeenThere: test-report@dpdk.org X-Mailman-Version: 2.1.29 Precedence: list List-Id: automatic DPDK test reports List-Unsubscribe: , List-Archive: List-Post: List-Help: List-Subscribe: , Errors-To: test-report-bounces@dpdk.org _Testing PASS_ Branch: tags/v24.11 4c5634de9f933555bab9c64a533d3dca999071cd --> testing pass Upstream job id: Generic-DPDK-Compile-ABI#125719 Test environment and result as below: +-------------------+----------+ | Environment | abi_test | +===================+==========+ | RHEL8 | PASS | +-------------------+----------+ | CentOS Stream 10 | PASS | +-------------------+----------+ | Ubuntu 24.04 | PASS | +-------------------+----------+ | Debian 12 | PASS | +-------------------+----------+ | RHEL9 | PASS | +-------------------+----------+ | CentOS Stream 9 | PASS | +-------------------+----------+ | Fedora 40 | PASS | +-------------------+----------+ | Fedora 40 (Clang) | PASS | +-------------------+----------+ | Fedora 41 (Clang) | PASS | +-------------------+----------+ | Fedora 41 | PASS | +-------------------+----------+ | openSUSE Leap 15 | PASS | +-------------------+----------+ | Ubuntu 22.04 | PASS | +-------------------+----------+ RHEL8 Kernel: Depends on container host Compiler: gcc 8.5.0 20210514 (Red Hat 8.5.0-22) CentOS Stream 10 Kernel: Depends on container host Compiler: gcc 14.2.1 20241104 (Red Hat 14.2.1-6) Ubuntu 24.04 Kernel: Depends on container host Compiler: gcc (Ubuntu 13.3.0-6ubuntu2~24.04) 13.3.0 Debian 12 Kernel: Depends on container host Compiler: gcc (Debian 12.2.0-14) 12.2.0 RHEL9 Kernel: Depends on container host Compiler: gcc 11.5.0 20240719 (Red Hat 11.5.0-2) CentOS Stream 9 Kernel: Depends on container host Compiler: gcc 11.5.0 20240719 (Red Hat 11.5.0-2) Fedora 40 Kernel: Depends on container host Compiler: gcc 14.2.1 20240912 (Red Hat 14.2.1-3) Fedora 40 (Clang) Kernel: Depends on container host Compiler: clang 18.1.8 (Fedora 18.1.8-1.fc40) Fedora 41 (Clang) Kernel: Depends on container host Compiler: clang 19.1.5 (Fedora 19.1.5-1.fc41) Fedora 41 Kernel: Depends on container host Compiler: gcc 14.2.1 20240912 (Red Hat 14.2.1-3) openSUSE Leap 15 Kernel: Depends on container host Compiler: gcc (SUSE Linux) 7.5.0 Ubuntu 22.04 Kernel: Depends on container host Compiler: gcc (Ubuntu 11.4.0-1ubuntu1~22.04) 11.4.0 To view detailed results, visit: https://lab.dpdk.org/results/dashboard/tarballs/33473/ UNH-IOL DPDK Community Lab To manage your email subscriptions, visit: https://lab.dpdk.org/results/dashboard/preferences/subscriptions/