From mboxrd@z Thu Jan 1 00:00:00 1970 Return-Path: Received: from mails.dpdk.org (mails.dpdk.org [217.70.189.124]) by inbox.dpdk.org (Postfix) with ESMTP id A2528466F2 for ; Thu, 8 May 2025 09:45:37 +0200 (CEST) Received: from mails.dpdk.org (localhost [127.0.0.1]) by mails.dpdk.org (Postfix) with ESMTP id 903564060C; Thu, 8 May 2025 09:45:37 +0200 (CEST) Received: from mail-oo1-f97.google.com (mail-oo1-f97.google.com [209.85.161.97]) by mails.dpdk.org (Postfix) with ESMTP id A82CA4027C for ; Thu, 8 May 2025 09:45:35 +0200 (CEST) Received: by mail-oo1-f97.google.com with SMTP id 006d021491bc7-606330df903so217177eaf.0 for ; Thu, 08 May 2025 00:45:35 -0700 (PDT) DKIM-Signature: v=1; a=rsa-sha256; c=relaxed/relaxed; d=iol.unh.edu; s=unh-iol; t=1746690335; x=1747295135; darn=dpdk.org; h=references:in-reply-to:cc:to:from:subject:message-id:date:from:to :cc:subject:date:message-id:reply-to; bh=uzI7QYr4IOtUH7Y/xUyZyedw9n4GC9OSN6DIlDuZRBo=; b=b0D/s2f8QwALQge7HMQdenWeeI9KiNuIMTb74J+GQdzSpS7cRQcnHQbDGCSv+fDoLg hmqj2M/hSLq+3suHGoyWucBCp4IArnfROlxOQFsTtKXBHSg0CZw8Lb24q16Q3uk+sXli SkgqU3eu5x2w8+3D1ExaBSRSLfMxEAYOT7/Sc= X-Google-DKIM-Signature: v=1; a=rsa-sha256; c=relaxed/relaxed; d=1e100.net; s=20230601; t=1746690335; x=1747295135; h=references:in-reply-to:cc:to:from:subject:message-id:date :x-gm-message-state:from:to:cc:subject:date:message-id:reply-to; bh=uzI7QYr4IOtUH7Y/xUyZyedw9n4GC9OSN6DIlDuZRBo=; b=lDdlYfnK+3+gg8CLrYRY2bawidmt3UjUBCf5Vo0wKwSGZeAx6ym2ZGLfAr+5IETfgS aQUMI4TC9rWtNnPT2UI7YPyJ4aetsKNL6kkKIgBYZRssCbq9qxRsedHIPKYRTflYngbs apiQyyGhG9zMgW2Gk9JOzbB2VDRtYmqK3azd++wH2UnpeRSzHJQnu7wUggiOkL+TJX6L GCxhJUUshdDAVNUN2hXhau7Q3PcGjzcybskW/JwYUGOIt/UvHDnF+QxaAubc1egYARjC RN7DdHjtwVST5E5PAXZ+JqhQXoZeOO4qmfg6vIkj76f4Pvk/96rjHeb+ls893JURcN9Z nPeg== X-Gm-Message-State: AOJu0Yxi0UAwvZEfelUVuR6fFaKU+rMFGFaljK1/XazJY2A3iG6KI84E DC4qwylwcwQUyh0I+BdfDcjpT/35wl6XvI77ACW0z2DBwQS/9LLyEd2spOvDEu7Xf3WCr22KnPH UK50x5opLDtCrZViB4NjzLcDor2DqZVbdWxmScrXO X-Gm-Gg: ASbGncs6vUB0mLZguxNR4NtucJsYbk8Ob+5pxfCzY7mITHjGwt+pLOXuSVevgXqu90g C8ymFpDt3jQ7wu1Syw6Lf6TrEKuvC8273bT/sIp6pI0DnLNhOH/bqVLpTOrFH5iGqQ5jgx1g55b tZ/JDbKfer44xC+Ib7pd/Fm/ljyQJjjc7JjvUreToi/3wMH5jWqcf7tERc/3Xop9vOVhdJ0renq m7iIQbmvFdEq2/w1xqJacQ8MJassRI8hAW5CKI2muR1a9inGyEGKBOMv5391yLx90kmIAhDYe3v Sf6ad2qhg88Ytf1mF50RBqXOcbEJpNjuhGRe3o8s6fIF4PMayxcKG3jtQVk= X-Google-Smtp-Source: AGHT+IFCh9bgc5CuHhuNuKb6Tf1el7hSZdqzAZT74GVawbjAPd6tjdSyl+cLVigF4N3ezR5C1wgJ5v3EO4Tm X-Received: by 2002:a05:6820:440a:b0:603:f191:a93b with SMTP id 006d021491bc7-60828d02aa3mr3853662eaf.1.1746690334691; Thu, 08 May 2025 00:45:34 -0700 (PDT) Received: from postal.iol.unh.edu (postal.iol.unh.edu. [132.177.123.84]) by smtp-relay.gmail.com with ESMTPS id 006d021491bc7-607e7fa2519sm1724011eaf.18.2025.05.08.00.45.34 (version=TLS1_2 cipher=ECDHE-ECDSA-AES128-GCM-SHA256 bits=128/128); Thu, 08 May 2025 00:45:34 -0700 (PDT) X-Relaying-Domain: iol.unh.edu Date: Thu, 08 May 2025 00:45:34 -0700 (PDT) Message-ID: <681c611e.050a0220.2d88a1.a3b1SMTPIN_ADDED_MISSING@mx.google.com> Received: from [172.21.0.11] (unknown [172.18.0.240]) by postal.iol.unh.edu (Postfix) with ESMTP id 300416052471; Thu, 8 May 2025 03:45:34 -0400 (EDT) Subject: |SUCCESS| pw153343-153345 [PATCH] [v5,3/3] app/testpmd: add sleep co From: dpdklab@iol.unh.edu To: Test Report Cc: dpdk-test-reports@iol.unh.edu In-Reply-To: <4674606a09d854277ac01b0ccd86a4eb559e565f.1746631324.git.anatoly.burakov@intel.com> References: <4674606a09d854277ac01b0ccd86a4eb559e565f.1746631324.git.anatoly.burakov@intel.com> Content-Type: text/plain X-BeenThere: test-report@dpdk.org X-Mailman-Version: 2.1.29 Precedence: list List-Id: automatic DPDK test reports List-Unsubscribe: , List-Archive: List-Post: List-Help: List-Subscribe: , Errors-To: test-report-bounces@dpdk.org Test-Label: iol-unit-amd64-testing Test-Status: SUCCESS http://dpdk.org/patch/153345 _Testing PASS_ Submitter: Anatoly Burakov Date: Wednesday, May 07 2025 15:22:12 DPDK git baseline: Repo:dpdk Branch: master CommitID:75f179ebe347b6098cf3af26d3d3b7168fe3fe24 153343-153345 --> testing pass Upstream job id: Generic-VM-Unit-Test-DPDK#28404 Test environment and result as below: +---------------------+----------------+ | Environment | dpdk_unit_test | +=====================+================+ | Fedora 40 (Clang) | PASS | +---------------------+----------------+ | CentOS Stream 9 | PASS | +---------------------+----------------+ | Fedora 40 | PASS | +---------------------+----------------+ | CentOS Stream 10 | PASS | +---------------------+----------------+ | Debian 12 | PASS | +---------------------+----------------+ | Fedora 41 | PASS | +---------------------+----------------+ | Fedora 41 (Clang) | PASS | +---------------------+----------------+ | RHEL9 | PASS | +---------------------+----------------+ | RHEL8 | PASS | +---------------------+----------------+ | Ubuntu 20.04 | PASS | +---------------------+----------------+ | Ubuntu 22.04 | PASS | +---------------------+----------------+ | Ubuntu 24.04 | PASS | +---------------------+----------------+ | Windows Server 2022 | PASS | +---------------------+----------------+ Fedora 40 (Clang) Kernel: Depends on container host Compiler: clang 18.1.8 (Fedora 18.1.8-1.fc40) CentOS Stream 9 Kernel: Depends on container host Compiler: gcc 11.5.0 20240719 (Red Hat 11.5.0-2) Fedora 40 Kernel: Depends on container host Compiler: gcc 14.2.1 20240912 (Red Hat 14.2.1-3) CentOS Stream 10 Kernel: Depends on container host Compiler: gcc 14.2.1 20241104 (Red Hat 14.2.1-6) Debian 12 Kernel: Depends on container host Compiler: gcc (Debian 12.2.0-14) 12.2.0 Fedora 41 Kernel: Depends on container host Compiler: gcc 14.2.1 20240912 (Red Hat 14.2.1-3) Fedora 41 (Clang) Kernel: Depends on container host Compiler: clang 19.1.5 (Fedora 19.1.5-1.fc41) RHEL9 Kernel: Depends on container host Compiler: gcc 11.5.0 20240719 (Red Hat 11.5.0-2) RHEL8 Kernel: Depends on container host Compiler: gcc 8.5.0 20210514 (Red Hat 8.5.0-22) Ubuntu 20.04 Kernel: Depends on container host Compiler: gcc (Ubuntu 9.4.0-1ubuntu1~20.04.2) 9.4.0 Ubuntu 22.04 Kernel: Depends on container host Compiler: gcc (Ubuntu 11.4.0-1ubuntu1~22.04) 11.4.0 Ubuntu 24.04 Kernel: Depends on container host Compiler: gcc (Ubuntu 13.3.0-6ubuntu2~24.04) 13.3.0 Windows Server 2022 Kernel: 10.0.20348.2031 Compiler: clang 15.0.7, gcc 14.1.0 (MinGW), and MSVC VS 19.39.33521 To view detailed results, visit: https://lab.dpdk.org/results/dashboard/patchsets/33134/ UNH-IOL DPDK Community Lab To manage your email subscriptions, visit: https://lab.dpdk.org/results/dashboard/preferences/subscriptions/