From: dpdklab@iol.unh.edu
To: Test Report <test-report@dpdk.org>
Cc: dpdk-test-reports@iol.unh.edu
Subject: |SUCCESS| pw153346 [PATCH] ethdev: optimize how the values of the fl
Date: Thu, 08 May 2025 01:02:05 -0700 (PDT) [thread overview]
Message-ID: <681c64fd.050a0220.3cecc1.ac8fSMTPIN_ADDED_MISSING@mx.google.com> (raw)
In-Reply-To: <20250508023334.28416-1-sunyang.wu@jaguarmicro.com>
Test-Label: iol-sample-apps-testing
Test-Status: SUCCESS
http://dpdk.org/patch/153346
_Testing PASS_
Submitter: Sunyang Wu <sunyang.wu@jaguarmicro.com>
Date: Thursday, May 08 2025 02:33:34
DPDK git baseline: Repo:dpdk
Branch: master
CommitID:ff05ee3e3f8fb4ce958a2ce6461e8141aea959c6
153346 --> testing pass
Upstream job id: ACVP-FIPS-testing#9751
Test environment and result as below:
+--------------------+----------------------+----------------------+
| Environment | compressdev_zlib_pmd | dpdk_fips_validation |
+====================+======================+======================+
| Ubuntu 22.04 (ARM) | PASS | SKIPPED |
+--------------------+----------------------+----------------------+
| Ubuntu 22.04 | PASS | SKIPPED |
+--------------------+----------------------+----------------------+
| Ubuntu 20.04 | SKIPPED | PASS |
+--------------------+----------------------+----------------------+
Ubuntu 22.04 (ARM)
Kernel: 5.15.0-97-generic
Compiler: gcc gcc (Ubuntu 11.4.0-1ubuntu1~22.04) 11.4.0
Ubuntu 22.04
Kernel: 5.15.0-100-generic
Compiler: gcc gcc (Ubuntu 11.4.0-1ubuntu1~22.04) 11.4.0
Ubuntu 20.04
Kernel: Depends on container host
Compiler: gcc (Ubuntu 9.4.0-1ubuntu1~20.04.2) 9.4.0
To view detailed results, visit:
https://lab.dpdk.org/results/dashboard/patchsets/33135/
UNH-IOL DPDK Community Lab
To manage your email subscriptions, visit:
https://lab.dpdk.org/results/dashboard/preferences/subscriptions/
next prev parent reply other threads:[~2025-05-08 8:02 UTC|newest]
Thread overview: 26+ messages / expand[flat|nested] mbox.gz Atom feed top
[not found] <20250508023334.28416-1-sunyang.wu@jaguarmicro.com>
2025-05-08 2:10 ` |SUCCESS| pw153346 [PATCH] ethdev: optimize how the values of the flag variables are assigned qemudev
2025-05-08 2:15 ` qemudev
2025-05-08 2:34 ` checkpatch
2025-05-08 3:43 ` 0-day Robot
2025-05-08 3:52 ` |SUCCESS| pw153346 [PATCH] ethdev: optimize how the values of the fl dpdklab
2025-05-08 4:01 ` dpdklab
2025-05-08 4:04 ` dpdklab
2025-05-08 4:04 ` dpdklab
2025-05-08 4:05 ` dpdklab
2025-05-08 4:06 ` dpdklab
2025-05-08 4:09 ` |PENDING| " dpdklab
2025-05-08 4:12 ` |SUCCESS| " dpdklab
2025-05-08 4:20 ` dpdklab
2025-05-08 4:25 ` |WARNING| " dpdklab
2025-05-08 4:27 ` |SUCCESS| " dpdklab
2025-05-08 4:29 ` |PENDING| " dpdklab
2025-05-08 4:35 ` dpdklab
2025-05-08 4:37 ` |SUCCESS| " dpdklab
2025-05-08 5:20 ` dpdklab
2025-05-08 5:21 ` dpdklab
2025-05-08 5:35 ` |WARNING| " dpdklab
2025-05-08 5:37 ` |SUCCESS| " dpdklab
2025-05-08 5:49 ` dpdklab
2025-05-08 8:02 ` dpdklab [this message]
2025-05-08 8:05 ` dpdklab
2025-05-08 8:10 ` dpdklab
Reply instructions:
You may reply publicly to this message via plain-text email
using any one of the following methods:
* Save the following mbox file, import it into your mail client,
and reply-to-all from there: mbox
Avoid top-posting and favor interleaved quoting:
https://en.wikipedia.org/wiki/Posting_style#Interleaved_style
* Reply using the --to, --cc, and --in-reply-to
switches of git-send-email(1):
git send-email \
--in-reply-to=681c64fd.050a0220.3cecc1.ac8fSMTPIN_ADDED_MISSING@mx.google.com \
--to=dpdklab@iol.unh.edu \
--cc=dpdk-test-reports@iol.unh.edu \
--cc=test-report@dpdk.org \
/path/to/YOUR_REPLY
https://kernel.org/pub/software/scm/git/docs/git-send-email.html
* If your mail client supports setting the In-Reply-To header
via mailto: links, try the mailto: link
Be sure your reply has a Subject: header at the top and a blank line
before the message body.
This is a public inbox, see mirroring instructions
for how to clone and mirror all data and code used for this inbox;
as well as URLs for NNTP newsgroup(s).