From mboxrd@z Thu Jan 1 00:00:00 1970 Return-Path: Received: from mails.dpdk.org (mails.dpdk.org [217.70.189.124]) by inbox.dpdk.org (Postfix) with ESMTP id A718F466F4 for ; Thu, 8 May 2025 10:02:07 +0200 (CEST) Received: from mails.dpdk.org (localhost [127.0.0.1]) by mails.dpdk.org (Postfix) with ESMTP id 93780402B3; Thu, 8 May 2025 10:02:07 +0200 (CEST) Received: from mail-qv1-f99.google.com (mail-qv1-f99.google.com [209.85.219.99]) by mails.dpdk.org (Postfix) with ESMTP id 5C1614027C for ; Thu, 8 May 2025 10:02:06 +0200 (CEST) Received: by mail-qv1-f99.google.com with SMTP id 6a1803df08f44-6ecfbf1c7cbso13449836d6.2 for ; Thu, 08 May 2025 01:02:06 -0700 (PDT) DKIM-Signature: v=1; a=rsa-sha256; c=relaxed/relaxed; d=iol.unh.edu; s=unh-iol; t=1746691326; x=1747296126; darn=dpdk.org; h=references:in-reply-to:cc:to:from:subject:message-id:date:from:to :cc:subject:date:message-id:reply-to; bh=DgThnWrwrAg9YxBSINkLG1Je3RwFPwvM4VNHG8YA7Yo=; b=aldIfRhNjdUuYGUrzFcecY8luzmx+YpBRouJKZFGzVhDiPhRm7suzawYKjmRCi0cJp s9qV63vXVeSTHw2S2kSY+7t9iA/qWJ+pDv8P09y32dk5Xdvc/ZHOuT0ajY6hu3N/yVas LCK4ztzEJ4mdI2ysWxkUUI21LWd4pwmlcDH54= X-Google-DKIM-Signature: v=1; a=rsa-sha256; c=relaxed/relaxed; d=1e100.net; s=20230601; t=1746691326; x=1747296126; h=references:in-reply-to:cc:to:from:subject:message-id:date :x-gm-message-state:from:to:cc:subject:date:message-id:reply-to; bh=DgThnWrwrAg9YxBSINkLG1Je3RwFPwvM4VNHG8YA7Yo=; b=qhXUjWtQI+rJwHAXTJd19RZ7HdKnaBP0Rfamwaa+W7Uv0pdLV9ZVVB9H74Jbp5Xp26 drd5rKaA9XZWFZQI4p7BOOM0lvcd/8qrgO1X1F9zrhU8lqD7Q0StltWjF8oEHvovkHtq Jqmmxrx/jmJB38eHEZ2E1mHQGb3SFbHveYcEuvUHO1LXVI/PGmfxsvWU9CIPITc6OKO0 xbaCMipvcNwU3jaHnUkiqhvKGvKPg3L/czrpf1LeejRU1rdcXaBB3yLI+vwwW+bbfvCL uaSKOkYEK1f/nprUSifMOwvlABIszkl0EilNdsiO/6R4cPX2T4gWuaT86FjeKMyPoAri VK2A== X-Gm-Message-State: AOJu0YyQ/2NrrtsJN9BhU2pBAfwd+QCRsKFF2nz0ms9coTBi9RbX2mgr 96C0W2CoKhJ/Owhlvug6BKvBUMI1i6ES8Wj5PU35HR94QfJKeGa26ekf7ZsJZiKWAU2KIDexIld WC3Suy19QbTuQCu7A0BDDwUFbJFkb/HYTIwnZWtYh X-Gm-Gg: ASbGncs2EGpxBLJ86yAIGqhJ3kY1y29zKk8OlEYSiEYEB8Hpd0iBwEDyL21410Z9xxh SpTHWy17QOAgI7f7dOm9I/a4uZWoc3lU1xgY+F4COohSyiCOm/qWZUvYhAem6kalX2iYr0kJ1Xw ypXSsACHG2JF23RXBaOTcBdBXpExIguLuIyTn6vWg7C6LqFdWYrQ6Wm+qP9jnvq20JdhEiW6Pki SclsYLFwnw7M9NHZO8vlFZ6lGTEpt8vStbe0q57RV0MUO5FsEKc/gp2lIrR4h2GHuk342Vesacj kYhKcpMYPetdLPOBYc1ym1HbXoiuLvadh7pjCT+ZgcS/+1PXjk8pD9AjiMg= X-Google-Smtp-Source: AGHT+IF4buBiLeCpFnPjuZyzKmP6QZyIQryRXR8UI6gaxtZiTIWjZx+LPEfyR8EYf15q7ByL/WF4g/RF9Git X-Received: by 2002:a05:6214:29ce:b0:6f5:35fe:6a82 with SMTP id 6a1803df08f44-6f5429e6720mr74870616d6.12.1746691325602; Thu, 08 May 2025 01:02:05 -0700 (PDT) Received: from postal.iol.unh.edu (postal.iol.unh.edu. [132.177.123.84]) by smtp-relay.gmail.com with ESMTPS id 6a1803df08f44-6f542620e62sm1981426d6.2.2025.05.08.01.02.05 (version=TLS1_2 cipher=ECDHE-ECDSA-AES128-GCM-SHA256 bits=128/128); Thu, 08 May 2025 01:02:05 -0700 (PDT) X-Relaying-Domain: iol.unh.edu Date: Thu, 08 May 2025 01:02:05 -0700 (PDT) Message-ID: <681c64fd.050a0220.3cecc1.ac8fSMTPIN_ADDED_MISSING@mx.google.com> Received: from [172.21.0.5] (unknown [172.18.0.240]) by postal.iol.unh.edu (Postfix) with ESMTP id 4295F6052471; Thu, 8 May 2025 04:02:05 -0400 (EDT) Subject: |SUCCESS| pw153346 [PATCH] ethdev: optimize how the values of the fl From: dpdklab@iol.unh.edu To: Test Report Cc: dpdk-test-reports@iol.unh.edu In-Reply-To: <20250508023334.28416-1-sunyang.wu@jaguarmicro.com> References: <20250508023334.28416-1-sunyang.wu@jaguarmicro.com> Content-Type: text/plain X-BeenThere: test-report@dpdk.org X-Mailman-Version: 2.1.29 Precedence: list List-Id: automatic DPDK test reports List-Unsubscribe: , List-Archive: List-Post: List-Help: List-Subscribe: , Errors-To: test-report-bounces@dpdk.org Test-Label: iol-sample-apps-testing Test-Status: SUCCESS http://dpdk.org/patch/153346 _Testing PASS_ Submitter: Sunyang Wu Date: Thursday, May 08 2025 02:33:34 DPDK git baseline: Repo:dpdk Branch: master CommitID:ff05ee3e3f8fb4ce958a2ce6461e8141aea959c6 153346 --> testing pass Upstream job id: ACVP-FIPS-testing#9751 Test environment and result as below: +--------------------+----------------------+----------------------+ | Environment | compressdev_zlib_pmd | dpdk_fips_validation | +====================+======================+======================+ | Ubuntu 22.04 (ARM) | PASS | SKIPPED | +--------------------+----------------------+----------------------+ | Ubuntu 22.04 | PASS | SKIPPED | +--------------------+----------------------+----------------------+ | Ubuntu 20.04 | SKIPPED | PASS | +--------------------+----------------------+----------------------+ Ubuntu 22.04 (ARM) Kernel: 5.15.0-97-generic Compiler: gcc gcc (Ubuntu 11.4.0-1ubuntu1~22.04) 11.4.0 Ubuntu 22.04 Kernel: 5.15.0-100-generic Compiler: gcc gcc (Ubuntu 11.4.0-1ubuntu1~22.04) 11.4.0 Ubuntu 20.04 Kernel: Depends on container host Compiler: gcc (Ubuntu 9.4.0-1ubuntu1~20.04.2) 9.4.0 To view detailed results, visit: https://lab.dpdk.org/results/dashboard/patchsets/33135/ UNH-IOL DPDK Community Lab To manage your email subscriptions, visit: https://lab.dpdk.org/results/dashboard/preferences/subscriptions/