From mboxrd@z Thu Jan 1 00:00:00 1970 Return-Path: Received: from mails.dpdk.org (mails.dpdk.org [217.70.189.124]) by inbox.dpdk.org (Postfix) with ESMTP id 17306466F4 for ; Thu, 8 May 2025 10:05:56 +0200 (CEST) Received: from mails.dpdk.org (localhost [127.0.0.1]) by mails.dpdk.org (Postfix) with ESMTP id E5F74402B3; Thu, 8 May 2025 10:05:55 +0200 (CEST) Received: from mail-pl1-f226.google.com (mail-pl1-f226.google.com [209.85.214.226]) by mails.dpdk.org (Postfix) with ESMTP id 22DA24027C for ; Thu, 8 May 2025 10:05:55 +0200 (CEST) Received: by mail-pl1-f226.google.com with SMTP id d9443c01a7336-22e6344326dso8297885ad.1 for ; Thu, 08 May 2025 01:05:55 -0700 (PDT) DKIM-Signature: v=1; a=rsa-sha256; c=relaxed/relaxed; d=iol.unh.edu; s=unh-iol; t=1746691554; x=1747296354; darn=dpdk.org; h=references:in-reply-to:cc:to:from:subject:message-id:date:from:to :cc:subject:date:message-id:reply-to; bh=I6vX3dM2PnzdRGSN2wBTkaHfB9xGzo7lxjFXZPw9q18=; b=CoKGzeraSXc59VkrGeaCBe672rQk9DHZCa5rap8IGGoVyotbsdP45lofHWE7Epf7ow Rsy7XKWt7EyhWqqLrg2t9w4Q92uj80y9FOlXWIJklo79foU15G3peP7YPVy7IAZmC8WX NtGV0HtjquL8jrqZHNRtZTdUULnY4Z5/8+tqY= X-Google-DKIM-Signature: v=1; a=rsa-sha256; c=relaxed/relaxed; d=1e100.net; s=20230601; t=1746691554; x=1747296354; h=references:in-reply-to:cc:to:from:subject:message-id:date :x-gm-message-state:from:to:cc:subject:date:message-id:reply-to; bh=I6vX3dM2PnzdRGSN2wBTkaHfB9xGzo7lxjFXZPw9q18=; b=clyCnuIO5ZTxvbSyC7ea1VFVWeg/RdrKH4ycZm3AgSuNWta1htwz737KztLg5iGZuz C9PqfsaJ5/FBal1Qffue1k3sIri3mT3UMfMl0dKYrRgYNB076y8MKvgkNqxhPkrvbE6P KQqU2sVoh8gyLykVRk7CJqa0CzhfEmR7X77wssKazqZjgRX8lnD+5P9BbpemfNMzIs3r 7sl45J2L5CpWMzBLBv2MsDb6goA8/3b+qu96HNkRUYqmK7NSoOYZww10dq2IRNgZ+jDa i9ym1AfRYvPTpdQNdk/LUXEFD1kWujTZ2Rr9zz+4a3RK6JioETBEQVrLHGEFVvdcEyWG 6CTg== X-Gm-Message-State: AOJu0YyH0Fj/epAkE6Yn/SGVuEkcSx+mUQ9vMCgsBWXb/DGQfiZgpmqP bras3rfIyMw5fJqfIcGfsA69Rh8F9QZ7iZPRayNmi+VKOwLXiz7O/YFkNozpCKZQtpceZimcjak k0p1j/Cc9vjBts6Jduqt1x51xXcNioyaRalnjeHRDK1+ggKXbd6ujurKM X-Gm-Gg: ASbGncu6FuEPbFwbvE3k3JyLdtGSKH/Ebft4qfkObkENZdPvKSPW6IPgWH6/tbyD/Pl FDpvOmWPqtYUbNmYX8iciiOau91cFgdaq3+6Gt94eRnjQ5Zq/s+Me1oYCKmoE31XL5mdmSUz34w fMCPM8EKhdWJ8hluoUk9tkvV5V9wtH1Y49iXY2WiPd/q2iRQzLVgZu3Xb78iTfRGZzrHXlUB1Bh TT3WoZlsfUWXEXHm4ZtYqhHzLcaehvtrN/RSU1i2pg33JGLaAkzKMc8lLm9u8qh99mktJaNd45q bzwEuAV0MlK6mYAFu53IPNNrm1m76UNucuOL X-Google-Smtp-Source: AGHT+IF0eZv7evjDRzZhjzPmQdSnRfqAsi+v7RP8IcjuJfkv/HLn8oX+Iynly5WPp7LCYlEInDG6LddrxJBf X-Received: by 2002:a17:903:1a10:b0:22e:4509:cb8a with SMTP id d9443c01a7336-22e861d5bdbmr39593455ad.21.1746691554112; Thu, 08 May 2025 01:05:54 -0700 (PDT) Received: from postal.iol.unh.edu (postal.iol.unh.edu. [2606:4100:3880:1234::84]) by smtp-relay.gmail.com with ESMTPS id d9443c01a7336-22e1523275esm19553765ad.97.2025.05.08.01.05.54 (version=TLS1_2 cipher=ECDHE-ECDSA-AES128-GCM-SHA256 bits=128/128); Thu, 08 May 2025 01:05:54 -0700 (PDT) X-Relaying-Domain: iol.unh.edu Date: Thu, 08 May 2025 01:05:54 -0700 (PDT) Message-ID: <681c65e2.170a0220.21247.00c4SMTPIN_ADDED_MISSING@mx.google.com> Received: from [172.21.0.11] (unknown [172.18.0.240]) by postal.iol.unh.edu (Postfix) with ESMTP id 513F46052471; Thu, 8 May 2025 04:05:53 -0400 (EDT) Subject: |SUCCESS| pw153348 [PATCH] build: fix disabling developer mode From: dpdklab@iol.unh.edu To: Test Report Cc: dpdk-test-reports@iol.unh.edu In-Reply-To: <20250508044230.133966-1-david.marchand@redhat.com> References: <20250508044230.133966-1-david.marchand@redhat.com> Content-Type: text/plain X-BeenThere: test-report@dpdk.org X-Mailman-Version: 2.1.29 Precedence: list List-Id: automatic DPDK test reports List-Unsubscribe: , List-Archive: List-Post: List-Help: List-Subscribe: , Errors-To: test-report-bounces@dpdk.org Test-Label: iol-compile-amd64-testing Test-Status: SUCCESS http://dpdk.org/patch/153348 _Testing PASS_ Submitter: David Marchand Date: Thursday, May 08 2025 04:42:29 DPDK git baseline: Repo:dpdk Branch: master CommitID:4029c5e3f2c6e950e8579be2401dab12e4209d53 153348 --> testing pass Upstream job id: Generic-VM-DPDK-Compile-Meson#35261 Test environment and result as below: +---------------------+--------------------+-------------------+ | Environment | dpdk_meson_compile | dpdk_msvc_compile | +=====================+====================+===================+ | Ubuntu 20.04 | PASS | SKIPPED | +---------------------+--------------------+-------------------+ | FreeBSD 13.5 | PASS | SKIPPED | +---------------------+--------------------+-------------------+ | FreeBSD 14.2 | PASS | SKIPPED | +---------------------+--------------------+-------------------+ | Windows Server 2022 | SKIPPED | PASS | +---------------------+--------------------+-------------------+ Ubuntu 20.04 Kernel: 4.19.325-0419325-generic Compiler: gcc (Ubuntu 9.4.0-1ubuntu1~20.04.2) 9.4.0 FreeBSD 13.5 Kernel: 13.5-RELEASE Compiler: clang 19.1.7 FreeBSD 14.2 Kernel: 14.2-RELEASE Compiler: clang 18.1.6 Windows Server 2022 Kernel: 10.0.20348.2031 Compiler: clang 15.0.7, gcc 14.1.0 (MinGW), and MSVC VS 19.39.33521 To view detailed results, visit: https://lab.dpdk.org/results/dashboard/patchsets/33137/ UNH-IOL DPDK Community Lab To manage your email subscriptions, visit: https://lab.dpdk.org/results/dashboard/preferences/subscriptions/