From mboxrd@z Thu Jan 1 00:00:00 1970 Return-Path: Received: from mails.dpdk.org (mails.dpdk.org [217.70.189.124]) by inbox.dpdk.org (Postfix) with ESMTP id 81950466F4 for ; Thu, 8 May 2025 10:10:48 +0200 (CEST) Received: from mails.dpdk.org (localhost [127.0.0.1]) by mails.dpdk.org (Postfix) with ESMTP id 60225402B3; Thu, 8 May 2025 10:10:48 +0200 (CEST) Received: from mail-oa1-f99.google.com (mail-oa1-f99.google.com [209.85.160.99]) by mails.dpdk.org (Postfix) with ESMTP id 717154027C for ; Thu, 8 May 2025 10:10:47 +0200 (CEST) Received: by mail-oa1-f99.google.com with SMTP id 586e51a60fabf-2d4f8c42f49so1112352fac.1 for ; Thu, 08 May 2025 01:10:47 -0700 (PDT) DKIM-Signature: v=1; a=rsa-sha256; c=relaxed/relaxed; d=iol.unh.edu; s=unh-iol; t=1746691846; x=1747296646; darn=dpdk.org; h=references:in-reply-to:cc:to:from:subject:message-id:date:from:to :cc:subject:date:message-id:reply-to; bh=nSj3cUf0r7uLb1Rhr13gQloNM+kIeiP0/hsqDzZGkZM=; b=Ubb29MwsbdX4XJWtRp8KEQw4kOObMsjSmsnQYva7XQ9ccvjugiFds1DyccIZdWJw0/ mlCeiFBLlHGg6/lXFArq8dDAPb6VTGArvoAlZuu/vGDbTqRn+t0pJKMsi9/T6qRk8jAf 8eRaeQNEXDbRRH2pyj4ioZX1u3sQJpbPx3GsY= X-Google-DKIM-Signature: v=1; a=rsa-sha256; c=relaxed/relaxed; d=1e100.net; s=20230601; t=1746691846; x=1747296646; h=references:in-reply-to:cc:to:from:subject:message-id:date :x-gm-message-state:from:to:cc:subject:date:message-id:reply-to; bh=nSj3cUf0r7uLb1Rhr13gQloNM+kIeiP0/hsqDzZGkZM=; b=NbOJmj+35glsQJciOc8sGmhPRn9MdLVyxzgpxQGHACZbPMxI419plSFMqrP6nkIMv3 YeWpE94vwyNtH3HwShatoJtFd3Xv3B6fbBCQMRRYMbm2wYhnyO4Kkncd9bJyLzV0Mqk9 tDhZBSZ4ww58UmkBJpcVHRCboqVJ5xzl332HHrdIiDLIfazVMXEZi3+jYnhb9HnADcG6 3EG9I5yoD+s1Nhl+6Ky4Mry3F7kQ/GTWcZ4jnov4lvCEHdm+k5hqRQBFfXTOgP/n+S+g xrjLtXX/c05y4cuqxvXpV+3s4Inkyu9vD9hVApGrBMQ2f9DAUJ7EFRS22xLURwtL4s9C shRg== X-Gm-Message-State: AOJu0YyjCubFTc7z6ThcLsdU1x14HEQ7gHWxqkG7hpruX+rhRBbkOs0u f6qbgBIod5ho/MoItK7YvDe189UvVZQNdMN5dZuZof+jyE2hPA6Mhwj+8X7zHUwOcWi/tP8u+4I 5fIBlMKl00FCefyjRyYApXMRDzWpkrB+AC/9G1sYYVAU7A1JFbVjf3+In X-Gm-Gg: ASbGncuz0xfXKrv5TXisJc7VSEE7Qtet8bIClufm3u97z2O8Ktpy7a4qNitgnRNl2dG Pn/YU2f9vH+TSbWTYzI+DCJowWAf67+7YEff4HrrdBNKgp4gZw2GCSwQYZY9ffAcclMNnSthMWY gqv/mdLwpmbqgEZqhojH9E8JRP4ajnsiHK2pWCg8cP74ERLNsYRbMAI6dyq4QvpbXaogeNUCAhE HOKUit17onqCXAaNqfDb7kQ3G/4Rf6w1+KSfxb3VGn3KnmwNLkcoy9htfpkPAdSu7ZAwWFKzNXK pwN/8IZz3AYQmd12X6bj+Ldvvc2hj2Ku/Kbn X-Google-Smtp-Source: AGHT+IH6LFtd3Dh+AH7W/EwcrcglAJFUgDahCaqEhr9FbrrQ1/OmgtxTw2XjmOZvZqgKn6vQU2Mvn+A2gzJZ X-Received: by 2002:a05:6871:d302:b0:2d5:714b:f07c with SMTP id 586e51a60fabf-2db806d149cmr1662865fac.5.1746691846566; Thu, 08 May 2025 01:10:46 -0700 (PDT) Received: from postal.iol.unh.edu (postal.iol.unh.edu. [2606:4100:3880:1234::84]) by smtp-relay.gmail.com with ESMTPS id 586e51a60fabf-2db5d0d1318sm194116fac.39.2025.05.08.01.10.46 (version=TLS1_2 cipher=ECDHE-ECDSA-AES128-GCM-SHA256 bits=128/128); Thu, 08 May 2025 01:10:46 -0700 (PDT) X-Relaying-Domain: iol.unh.edu Date: Thu, 08 May 2025 01:10:46 -0700 (PDT) Message-ID: <681c6706.050a0220.24bf85.ab08SMTPIN_ADDED_MISSING@mx.google.com> Received: from [172.21.0.5] (unknown [172.18.0.240]) by postal.iol.unh.edu (Postfix) with ESMTP id 0E5636052471; Thu, 8 May 2025 04:10:46 -0400 (EDT) Subject: |SUCCESS| pw153346 [PATCH] ethdev: optimize how the values of the fl From: dpdklab@iol.unh.edu To: Test Report Cc: dpdk-test-reports@iol.unh.edu In-Reply-To: <20250508023334.28416-1-sunyang.wu@jaguarmicro.com> References: <20250508023334.28416-1-sunyang.wu@jaguarmicro.com> Content-Type: text/plain X-BeenThere: test-report@dpdk.org X-Mailman-Version: 2.1.29 Precedence: list List-Id: automatic DPDK test reports List-Unsubscribe: , List-Archive: List-Post: List-Help: List-Subscribe: , Errors-To: test-report-bounces@dpdk.org Test-Label: iol-compile-arm64-testing Test-Status: SUCCESS http://dpdk.org/patch/153346 _Testing PASS_ Submitter: Sunyang Wu Date: Thursday, May 08 2025 02:33:34 DPDK git baseline: Repo:dpdk Branch: master CommitID:ff05ee3e3f8fb4ce958a2ce6461e8141aea959c6 153346 --> testing pass Upstream job id: Generic-DPDK-Compile-Meson#386282 Test environment and result as below: +----------------------------------------+--------------------+ | Environment | dpdk_meson_compile | +========================================+====================+ | Debian 12 with MUSDK | PASS | +----------------------------------------+--------------------+ | Fedora 40 (ARM) | PASS | +----------------------------------------+--------------------+ | Ubuntu 20.04 (ARM) | PASS | +----------------------------------------+--------------------+ | Ubuntu 20.04 ARM GCC Cross Compile | PASS | +----------------------------------------+--------------------+ | Ubuntu 20.04 aarch32 GCC Cross Compile | PASS | +----------------------------------------+--------------------+ | RHEL9 (ARM) | PASS | +----------------------------------------+--------------------+ | Ubuntu 20.04 ARM SVE | PASS | +----------------------------------------+--------------------+ | Fedora 40 (ARM Clang) | PASS | +----------------------------------------+--------------------+ | Fedora 41 (ARM) | PASS | +----------------------------------------+--------------------+ | Fedora 41 (ARM Clang) | PASS | +----------------------------------------+--------------------+ | Ubuntu 24.04 (ARM) | PASS | +----------------------------------------+--------------------+ | Ubuntu 22.04 (ARM) | PASS | +----------------------------------------+--------------------+ | CentOS Stream 10 (ARM) | PASS | +----------------------------------------+--------------------+ | Ubuntu 20.04 ARM Clang Cross Compile | PASS | +----------------------------------------+--------------------+ | CentOS Stream 9 (ARM) | PASS | +----------------------------------------+--------------------+ | Debian 12 (arm) | PASS | +----------------------------------------+--------------------+ Debian 12 with MUSDK Kernel: Depends on container host Compiler: gcc (Debian 12.2.0-14) 12.2.0 Fedora 40 (ARM) Kernel: Depends on container host Compiler: gcc 14.2.1 20240912 (Red Hat 14.2.1-3) Ubuntu 20.04 (ARM) Kernel: Depends on container host Compiler: gcc (Ubuntu 9.4.0-1ubuntu1~20.04.2) 9.4.0 Ubuntu 20.04 ARM GCC Cross Compile Kernel: Depends on container host Compiler: aarch64-linux-gnu-gcc (Ubuntu 9.4.0-1ubuntu1~20.04.2) 9.4.0 Ubuntu 20.04 aarch32 GCC Cross Compile Kernel: Depends on container host Compiler: gcc 9.4.0 RHEL9 (ARM) Kernel: Depends on container host Compiler: gcc 11.5.0 20240719 (Red Hat 11.5.0-2) Ubuntu 20.04 ARM SVE Kernel: Depends on container host Compiler: gcc (Ubuntu 10.5.0-1ubuntu1~20.04) 10.5.0 Fedora 40 (ARM Clang) Kernel: Depends on container host Compiler: clang 18.1.8 (Fedora 18.1.8-1.fc40) Fedora 41 (ARM) Kernel: Depends on container host Compiler: gcc 14.2.1 20240912 (Red Hat 14.2.1-3) Fedora 41 (ARM Clang) Kernel: Depends on container host Compiler: clang 19.1.5 (Fedora 19.1.5-1.fc41) Ubuntu 24.04 (ARM) Kernel: Depends on container host Compiler: gcc (Ubuntu 13.3.0-6ubuntu2~24.04) 13.3.0 Ubuntu 22.04 (ARM) Kernel: Depends on container host Compiler: gcc (Ubuntu 11.4.0-1ubuntu1~22.04) 11.4.0 CentOS Stream 10 (ARM) Kernel: Depends on container host Compiler: gcc 14.2.1 20241104 (Red Hat 14.2.1-6) Ubuntu 20.04 ARM Clang Cross Compile Kernel: Depends on container host Compiler: clang 10.0.0-4ubuntu1 CentOS Stream 9 (ARM) Kernel: Depends on container host Compiler: gcc 11.5.0 20240719 (Red Hat 11.5.0-2) Debian 12 (arm) Kernel: Depends on container host Compiler: gcc (Debian 12.2.0-14) 12.2.0 To view detailed results, visit: https://lab.dpdk.org/results/dashboard/patchsets/33135/ UNH-IOL DPDK Community Lab To manage your email subscriptions, visit: https://lab.dpdk.org/results/dashboard/preferences/subscriptions/