From mboxrd@z Thu Jan 1 00:00:00 1970 Return-Path: Received: from mails.dpdk.org (mails.dpdk.org [217.70.189.124]) by inbox.dpdk.org (Postfix) with ESMTP id F23AD466F4 for ; Thu, 8 May 2025 10:14:48 +0200 (CEST) Received: from mails.dpdk.org (localhost [127.0.0.1]) by mails.dpdk.org (Postfix) with ESMTP id D3D46402B3; Thu, 8 May 2025 10:14:48 +0200 (CEST) Received: from mail-pl1-f226.google.com (mail-pl1-f226.google.com [209.85.214.226]) by mails.dpdk.org (Postfix) with ESMTP id A1CA44027C for ; Thu, 8 May 2025 10:14:47 +0200 (CEST) Received: by mail-pl1-f226.google.com with SMTP id d9443c01a7336-22e6a088e16so5559255ad.1 for ; Thu, 08 May 2025 01:14:47 -0700 (PDT) DKIM-Signature: v=1; a=rsa-sha256; c=relaxed/relaxed; d=iol.unh.edu; s=unh-iol; t=1746692086; x=1747296886; darn=dpdk.org; h=cc:to:from:subject:message-id:date:from:to:cc:subject:date :message-id:reply-to; bh=frlFDUPEHq4xnccnnZRdv1SXPVzk3BIQkBYchQmBz1M=; b=bylv9Xkq1XIxy2mf9pd0qYLv+BFn7hgjLGtqrDM/SqHW1yyAlFAS4bY2qv/t9gEU3h fEimBfyrV96VYESLf08edHpB4RQIKNnoAWgjyCsNnwz3v3ayQxf+bSQc3KK/mwDQTEiq wirKGN/9F+N4R2sMrNjyuifR1UP1xVV/eP+kk= X-Google-DKIM-Signature: v=1; a=rsa-sha256; c=relaxed/relaxed; d=1e100.net; s=20230601; t=1746692086; x=1747296886; h=cc:to:from:subject:message-id:date:x-gm-message-state:from:to:cc :subject:date:message-id:reply-to; bh=frlFDUPEHq4xnccnnZRdv1SXPVzk3BIQkBYchQmBz1M=; b=a+W/eJjKOnk9QU0IdFgawRU844QIernCtN2VBV+hHCA6gd7MTQoOR7NEgNd3HQRk+/ CJLJVgiwZCcEngCjvGI30QwLpLM0g4TkyJtqXUhyPNNAq3MR0tVjJpF5EIwvwvFyDfWH +KoxzrYQ+QAtX7x6WTMWjDYc6znjUQTJe6mhTRgsZoVfQuFG+4XbMJcgFfWvLjSXj480 o652nooboAS1xGZy3oZXZ7v//Cf6DK9+CmmnSWjZDhS5hbub1dKpj4bUOB/y45eWrv+4 LI1cbXOGm5PE9agjiYoF8XuqRE84a4DyPWg9HDYJR3x1qQ5ns+prJ2Zn6bqWpGDPkpM6 Tv4w== X-Gm-Message-State: AOJu0YxWKsdkfNiX4ZT8OCJ32CXViKUghF3zOHI1WTHN3y4AheLW/G4a o3Agt1JWyXv1HI5g5nNzrvleFe0fFWc9Si+kkQORsZ2O9rB77FBlN+L5vs3jcUVw/ZRBS8SleHM fkCukBiL79ApjnP8XlwZjaK6qxnwNcRnn X-Gm-Gg: ASbGncscWMalHvNZMVFOUHkllciEKcd8qQ0I2f0r+W3fgSWqnWX7LiRTI+EP6ltkPpD mcsLLzjdeNnUGGoDOxXKnz1ALd9k9gADXwLHiMSbq7N0eLaqIeUvmxGzncg+6nBkdxYTpn7KlSP HZED1LYnntQX4ggKgnh4AKVOG4upWFNUA4t9QKqyuKxyGVCOQBP/welJw9yIryol7nV5rbjRLpo svVB0gzC7JKRtihkicee3s+6v4fS0mvkZg2mcXTji+/B28oF8ArBVkhYBY2mY5J4dUlYu3D5dlQ 9icWzY7cmAX9f5FXm7tNgxcRf/zWWf9FfuQ3pXNKZUI2qOnResB2FgAb8h0= X-Google-Smtp-Source: AGHT+IE2YO2Y7+ywbOxEQnZewl98rAauIQk06Sy4RIRpYL3/6vCCO86T+JoRa6+a3q8EhAJRFPFUPesWdUsw X-Received: by 2002:a17:903:2307:b0:21f:1348:10e6 with SMTP id d9443c01a7336-22e846f55e6mr45245835ad.13.1746692086631; Thu, 08 May 2025 01:14:46 -0700 (PDT) Received: from postal.iol.unh.edu (postal.iol.unh.edu. [132.177.123.84]) by smtp-relay.gmail.com with ESMTPS id d9443c01a7336-22e7ee1ae82sm806665ad.99.2025.05.08.01.14.46 (version=TLS1_2 cipher=ECDHE-ECDSA-AES128-GCM-SHA256 bits=128/128); Thu, 08 May 2025 01:14:46 -0700 (PDT) X-Relaying-Domain: iol.unh.edu Date: Thu, 08 May 2025 01:14:46 -0700 (PDT) Message-ID: <681c67f6.170a0220.3d7b3e.435dSMTPIN_ADDED_MISSING@mx.google.com> Received: from [172.21.0.5] (unknown [172.18.0.240]) by postal.iol.unh.edu (Postfix) with ESMTP id 118626052471; Thu, 8 May 2025 04:14:46 -0400 (EDT) Subject: |SUCCESS| [GIT MASTER] 83a7a648344674c0269fcaeb71d8d16468421a0e From: dpdklab@iol.unh.edu To: Test Report Cc: dpdk-test-reports@iol.unh.edu, Xueming Li , Christian Ehrhardt , Kevin Traynor , Luca Boccassi Content-Type: text/plain X-BeenThere: test-report@dpdk.org X-Mailman-Version: 2.1.29 Precedence: list List-Id: automatic DPDK test reports List-Unsubscribe: , List-Archive: List-Post: List-Help: List-Subscribe: , Errors-To: test-report-bounces@dpdk.org _Testing PASS_ Branch: tags/v23.11 83a7a648344674c0269fcaeb71d8d16468421a0e --> testing pass Upstream job id: Generic-DPDK-Compile-ABI#125748 Test environment and result as below: +-------------------+----------+ | Environment | abi_test | +===================+==========+ | Debian 12 | PASS | +-------------------+----------+ | Fedora 40 (Clang) | PASS | +-------------------+----------+ | CentOS Stream 10 | PASS | +-------------------+----------+ | Fedora 41 (Clang) | PASS | +-------------------+----------+ | Fedora 40 | PASS | +-------------------+----------+ | RHEL8 | PASS | +-------------------+----------+ | CentOS Stream 9 | PASS | +-------------------+----------+ | Fedora 41 | PASS | +-------------------+----------+ | Ubuntu 22.04 | PASS | +-------------------+----------+ | RHEL9 | PASS | +-------------------+----------+ | Ubuntu 24.04 | PASS | +-------------------+----------+ | openSUSE Leap 15 | PASS | +-------------------+----------+ Debian 12 Kernel: Depends on container host Compiler: gcc (Debian 12.2.0-14) 12.2.0 Fedora 40 (Clang) Kernel: Depends on container host Compiler: clang 18.1.8 (Fedora 18.1.8-1.fc40) CentOS Stream 10 Kernel: Depends on container host Compiler: gcc 14.2.1 20241104 (Red Hat 14.2.1-6) Fedora 41 (Clang) Kernel: Depends on container host Compiler: clang 19.1.5 (Fedora 19.1.5-1.fc41) Fedora 40 Kernel: Depends on container host Compiler: gcc 14.2.1 20240912 (Red Hat 14.2.1-3) RHEL8 Kernel: Depends on container host Compiler: gcc 8.5.0 20210514 (Red Hat 8.5.0-22) CentOS Stream 9 Kernel: Depends on container host Compiler: gcc 11.5.0 20240719 (Red Hat 11.5.0-2) Fedora 41 Kernel: Depends on container host Compiler: gcc 14.2.1 20240912 (Red Hat 14.2.1-3) Ubuntu 22.04 Kernel: Depends on container host Compiler: gcc (Ubuntu 11.4.0-1ubuntu1~22.04) 11.4.0 RHEL9 Kernel: Depends on container host Compiler: gcc 11.5.0 20240719 (Red Hat 11.5.0-2) Ubuntu 24.04 Kernel: Depends on container host Compiler: gcc (Ubuntu 13.3.0-6ubuntu2~24.04) 13.3.0 openSUSE Leap 15 Kernel: Depends on container host Compiler: gcc (SUSE Linux) 7.5.0 To view detailed results, visit: https://lab.dpdk.org/results/dashboard/tarballs/33474/ UNH-IOL DPDK Community Lab To manage your email subscriptions, visit: https://lab.dpdk.org/results/dashboard/preferences/subscriptions/