From mboxrd@z Thu Jan 1 00:00:00 1970 Return-Path: Received: from mails.dpdk.org (mails.dpdk.org [217.70.189.124]) by inbox.dpdk.org (Postfix) with ESMTP id 74A5E466F4 for ; Thu, 8 May 2025 10:44:37 +0200 (CEST) Received: from mails.dpdk.org (localhost [127.0.0.1]) by mails.dpdk.org (Postfix) with ESMTP id 6BB80402B3; Thu, 8 May 2025 10:44:37 +0200 (CEST) Received: from mail-io1-f97.google.com (mail-io1-f97.google.com [209.85.166.97]) by mails.dpdk.org (Postfix) with ESMTP id 72FE44027C for ; Thu, 8 May 2025 10:44:36 +0200 (CEST) Received: by mail-io1-f97.google.com with SMTP id ca18e2360f4ac-85b3f92c866so13242039f.3 for ; Thu, 08 May 2025 01:44:36 -0700 (PDT) DKIM-Signature: v=1; a=rsa-sha256; c=relaxed/relaxed; d=iol.unh.edu; s=unh-iol; t=1746693876; x=1747298676; darn=dpdk.org; h=cc:to:from:subject:message-id:date:from:to:cc:subject:date :message-id:reply-to; bh=95doWJoE1cJT49Gh58FNg3/GOZCA9st2OJX4kCYWj9U=; b=J/E+oHrLmE51LvEPxf4LGZtKNUfXK5rvThZ8MXPOWxN7xp2dcIxoe6SKZLEfASD+ya 1MF8yPGzmiqQZWqNoG24oEZIX/Ggr4lehSpzCi/zqZ6FmdF1Zr3/ZyO/r7nfaBol1KNa tG6KZbWoId5SfMPn7mRsodhSiUBjyTZcZjOfc= X-Google-DKIM-Signature: v=1; a=rsa-sha256; c=relaxed/relaxed; d=1e100.net; s=20230601; t=1746693876; x=1747298676; h=cc:to:from:subject:message-id:date:x-gm-message-state:from:to:cc :subject:date:message-id:reply-to; bh=95doWJoE1cJT49Gh58FNg3/GOZCA9st2OJX4kCYWj9U=; b=Vf6n4myhi+yC00TFI8I/mK2gp/m8RF3dyRqinqdU7QXJ4c/+MYhnuNZUZZxr6EexSj NLttu046bZAOOvAy8pU+CnZGb/IwGW7I9MH2jjt3Avj9mdNM8r09+fC3ApeB+DcWk6Xy rgrAU1Evi548TeFEaXZFl/CODg3lz9tL1J/lVRwzC5BCElgO685JO6Mzv/8t5WqwYR2J eY9Qioyujxl/euSzCIqv+zi3wFyDWL6LiTQQbvBNWNr23Ah5r/ipIJG2om/djLRNIZDO YtJkcpi+ojEsNCop0XG00XiGcAZZWtpyjVdziwoRDwN0EgLqBK5lrplXAMpOEfGwgI3Z xaEw== X-Gm-Message-State: AOJu0YyUe+MmlzOwO5jH0hJEpxGgpR+xgUkUKL2bO86wCZ2RpvlI6BsH hahQcIC/K3/mumiY7Vxo8SMmNe6EpdTmVmesVo8OlD6F6EoYG7pvaY6Mm0W29kJLQUfYwH8okjn piDlDNrvtyzCfSyLocU0X8w0T9/be+l9yeSVOM2mv7gEDj2hq X-Gm-Gg: ASbGncukvlGZNgjSkDn5NoWbfEE/cVN94mP52aUPnWB04355sji/3CcLjg1nn6/5L3b uz+OGfM8WMyfK1IuwAShzYgcJ3o/tQ4SahtqZnbi4+iDtTFuxq3ebBIT0TtvyaOBlc7JrF85jyu ltsRQz6m43OTPpiqI/1MFJR5YENidbWaSxGCxTA4oCZA5l5ikU4leTvrA4wl+GjRZRDwKDguv1W dL2JQ5nI5OtWf0SIA6pN4YuRRnYKGhSmsaxwSz9EVU43U45zrw2cB+k2baEpxTwo/niir7LzEM6 meTGs/Wk3gyOI+xhCzCBYeXZKzXk7upFLzvb X-Google-Smtp-Source: AGHT+IGobWe8hpdPYRvnPiCzmH7h7mSsXp4rkyrvEeIclky6Fu6WhSe9+hCX+deV8t9cZnl/10EeLmeVGZXv X-Received: by 2002:a05:6602:160f:b0:864:a2e4:5fff with SMTP id ca18e2360f4ac-8674725cdc9mr881875539f.4.1746693875767; Thu, 08 May 2025 01:44:35 -0700 (PDT) Received: from postal.iol.unh.edu (postal.iol.unh.edu. [2606:4100:3880:1234::84]) by smtp-relay.gmail.com with ESMTPS id ca18e2360f4ac-864aa2c681bsm232082339f.3.2025.05.08.01.44.35 (version=TLS1_2 cipher=ECDHE-ECDSA-AES128-GCM-SHA256 bits=128/128); Thu, 08 May 2025 01:44:35 -0700 (PDT) X-Relaying-Domain: iol.unh.edu Date: Thu, 08 May 2025 01:44:35 -0700 (PDT) Message-ID: <681c6ef3.050a0220.ff06c.309cSMTPIN_ADDED_MISSING@mx.google.com> Received: from [172.21.0.5] (unknown [172.18.0.240]) by postal.iol.unh.edu (Postfix) with ESMTP id 38F206052471; Thu, 8 May 2025 04:44:35 -0400 (EDT) Subject: |SUCCESS| [GIT MASTER] 83a7a648344674c0269fcaeb71d8d16468421a0e From: dpdklab@iol.unh.edu To: Test Report Cc: dpdk-test-reports@iol.unh.edu, Xueming Li , Christian Ehrhardt , Kevin Traynor , Luca Boccassi Content-Type: text/plain X-BeenThere: test-report@dpdk.org X-Mailman-Version: 2.1.29 Precedence: list List-Id: automatic DPDK test reports List-Unsubscribe: , List-Archive: List-Post: List-Help: List-Subscribe: , Errors-To: test-report-bounces@dpdk.org _Testing PASS_ Branch: tags/v23.11 83a7a648344674c0269fcaeb71d8d16468421a0e --> testing pass Upstream job id: Generic-Unit-Test-DPDK#336441 Test environment and result as below: +------------------------+----------------+ | Environment | dpdk_unit_test | +========================+================+ | CentOS Stream 9 (ARM) | PASS | +------------------------+----------------+ | CentOS Stream 10 (ARM) | PASS | +------------------------+----------------+ | Fedora 40 (ARM) | PASS | +------------------------+----------------+ | Debian 12 (arm) | PASS | +------------------------+----------------+ | Fedora 40 (ARM Clang) | PASS | +------------------------+----------------+ | Fedora 41 (ARM) | PASS | +------------------------+----------------+ | Ubuntu 20.04 (ARM) | PASS | +------------------------+----------------+ | Fedora 41 (ARM Clang) | PASS | +------------------------+----------------+ | RHEL9 (ARM) | PASS | +------------------------+----------------+ | Ubuntu 24.04 (ARM) | PASS | +------------------------+----------------+ | Ubuntu 22.04 (ARM) | PASS | +------------------------+----------------+ CentOS Stream 9 (ARM) Kernel: Depends on container host Compiler: gcc 11.5.0 20240719 (Red Hat 11.5.0-2) CentOS Stream 10 (ARM) Kernel: Depends on container host Compiler: gcc 14.2.1 20241104 (Red Hat 14.2.1-6) Fedora 40 (ARM) Kernel: Depends on container host Compiler: gcc 14.2.1 20240912 (Red Hat 14.2.1-3) Debian 12 (arm) Kernel: Depends on container host Compiler: gcc (Debian 12.2.0-14) 12.2.0 Fedora 40 (ARM Clang) Kernel: Depends on container host Compiler: clang 18.1.8 (Fedora 18.1.8-1.fc40) Fedora 41 (ARM) Kernel: Depends on container host Compiler: gcc 14.2.1 20240912 (Red Hat 14.2.1-3) Ubuntu 20.04 (ARM) Kernel: Depends on container host Compiler: gcc (Ubuntu 9.4.0-1ubuntu1~20.04.2) 9.4.0 Fedora 41 (ARM Clang) Kernel: Depends on container host Compiler: clang 19.1.5 (Fedora 19.1.5-1.fc41) RHEL9 (ARM) Kernel: Depends on container host Compiler: gcc 11.5.0 20240719 (Red Hat 11.5.0-2) Ubuntu 24.04 (ARM) Kernel: Depends on container host Compiler: gcc (Ubuntu 13.3.0-6ubuntu2~24.04) 13.3.0 Ubuntu 22.04 (ARM) Kernel: Depends on container host Compiler: gcc (Ubuntu 11.4.0-1ubuntu1~22.04) 11.4.0 To view detailed results, visit: https://lab.dpdk.org/results/dashboard/tarballs/33474/ UNH-IOL DPDK Community Lab To manage your email subscriptions, visit: https://lab.dpdk.org/results/dashboard/preferences/subscriptions/