From mboxrd@z Thu Jan 1 00:00:00 1970 Return-Path: Received: from mails.dpdk.org (mails.dpdk.org [217.70.189.124]) by inbox.dpdk.org (Postfix) with ESMTP id A18AE466F4 for ; Thu, 8 May 2025 10:44:53 +0200 (CEST) Received: from mails.dpdk.org (localhost [127.0.0.1]) by mails.dpdk.org (Postfix) with ESMTP id 988C6402B3; Thu, 8 May 2025 10:44:53 +0200 (CEST) Received: from mail-io1-f97.google.com (mail-io1-f97.google.com [209.85.166.97]) by mails.dpdk.org (Postfix) with ESMTP id F3FD04027C for ; Thu, 8 May 2025 10:44:51 +0200 (CEST) Received: by mail-io1-f97.google.com with SMTP id ca18e2360f4ac-86142446f3fso20100839f.2 for ; Thu, 08 May 2025 01:44:51 -0700 (PDT) DKIM-Signature: v=1; a=rsa-sha256; c=relaxed/relaxed; d=iol.unh.edu; s=unh-iol; t=1746693891; x=1747298691; darn=dpdk.org; h=cc:to:from:subject:message-id:date:from:to:cc:subject:date :message-id:reply-to; bh=WveCWLo6jlqc7Zj4MK/3CNWgeldAyJPkO+fANCPNxRk=; b=Qw287ZkAXi8iyz6m8RMBXtazix4h2qrKxYgNQTVxAzRXrKuRDOQ+fRYcJFYg2vYO11 s30bSiJp73l5g5B2IdBbxGu2svtYyeRH4/aZPAaeBhLqrzUGygSvfBt54DxOr8fkfeMx ceOny6Bn4NYwh5WPrHTGxSoebDsQRLeD8hR5o= X-Google-DKIM-Signature: v=1; a=rsa-sha256; c=relaxed/relaxed; d=1e100.net; s=20230601; t=1746693891; x=1747298691; h=cc:to:from:subject:message-id:date:x-gm-message-state:from:to:cc :subject:date:message-id:reply-to; bh=WveCWLo6jlqc7Zj4MK/3CNWgeldAyJPkO+fANCPNxRk=; b=sF/SpUnGzGd/sGqHNfm7ptF4J4k9IoZiNUGtEOTKA1zCQA5EmBv6A7sNL/MTxQEaIl zMTrVBczoFJiWOkqjNOhS+hDho867EbPLvOc/2SSWOPXuOII0Cn37Gjp46QAZbbUyMZd ihTSnXFy0g/sOCmQ5Lh1gJGn6hvALaWFgUXrZrg+V8STRdxEtYNH7vg54Mo9iaWdN07j rlERF8rzpF45D7Xuroi0pUudeFaVlae9Tt5nr/jeW6IBGpLkXvArt3xACicZctvVlqCo NEFsI2qZTF1W4dbQJ9RaxsMH4/ls7nYTjB/4eP8LMb5hNowKCwdmrK2DzVDx6WSW7Hm/ Kz8Q== X-Gm-Message-State: AOJu0YyRa3UBgVWVxRK8KnVNP+i1lovrpDN/tnZrSD9pqrdO79QmbDrI w1BqVfPgMQZWzy1FwkrwVQWIlYudb+0kiBMD96npbUF/ezKlnaJINqOFO9LQtVZjVAkM0RLT6bv xrIoFhzaHFbjCKVTbTjbvOPsKJZh/JTyJ X-Gm-Gg: ASbGncv1zq0mIy+HmHt/BJvMDV3x7bEHfqP/bZXe8J9FMZ22Ekl5Pgf1dshhi5Pnk4z Qg7NrujgUKyrB36v4ws54EMZTEZr0+vqvp15Y4xu3WNSKxwa+0hET3OZVSKaXnhHOf9ZVQrYLLJ vRM9QzvTRIz4jy9UmgIothqwHcQJrd4xE1AmBzbgYTPTD1AMMgLxJw9W90Q9WH2UEecGM8H8Vf6 whvHqVUoVtgznlVLckRLU4P1SBmBV61hi/h5fYBVgGCJJ4+cctD8PRV3woh3Xw+yFWov8wbJ5WU U3wPoZUzaSgSVG8KrQja3FZSEHoOCrtI1HJwmQ8zd/KKc6upMak48r3nXBE= X-Google-Smtp-Source: AGHT+IEuxlAzrt3Z25i13XfyCJzuW5/gPKAHg1+5jip1z5Xv5EumoGdhCnrTn5CnHSMNKVO2fQPTutELqxtY X-Received: by 2002:a05:6e02:1fc8:b0:3d5:81aa:4d0a with SMTP id e9e14a558f8ab-3da7855c00dmr35705755ab.6.1746693891357; Thu, 08 May 2025 01:44:51 -0700 (PDT) Received: from postal.iol.unh.edu (postal.iol.unh.edu. [132.177.123.84]) by smtp-relay.gmail.com with ESMTPS id e9e14a558f8ab-3da7aba8465sm519115ab.65.2025.05.08.01.44.51 (version=TLS1_2 cipher=ECDHE-ECDSA-AES128-GCM-SHA256 bits=128/128); Thu, 08 May 2025 01:44:51 -0700 (PDT) X-Relaying-Domain: iol.unh.edu Date: Thu, 08 May 2025 01:44:51 -0700 (PDT) Message-ID: <681c6f03.050a0220.63597.2875SMTPIN_ADDED_MISSING@mx.google.com> Received: from [172.21.0.11] (unknown [172.18.0.240]) by postal.iol.unh.edu (Postfix) with ESMTP id DC1926052471; Thu, 8 May 2025 04:44:50 -0400 (EDT) Subject: |SUCCESS| [GIT MASTER] 83a7a648344674c0269fcaeb71d8d16468421a0e From: dpdklab@iol.unh.edu To: Test Report Cc: dpdk-test-reports@iol.unh.edu, Xueming Li , Christian Ehrhardt , Kevin Traynor , Luca Boccassi Content-Type: text/plain X-BeenThere: test-report@dpdk.org X-Mailman-Version: 2.1.29 Precedence: list List-Id: automatic DPDK test reports List-Unsubscribe: , List-Archive: List-Post: List-Help: List-Subscribe: , Errors-To: test-report-bounces@dpdk.org _Testing PASS_ Branch: tags/v23.11 83a7a648344674c0269fcaeb71d8d16468421a0e --> testing pass Upstream job id: Generic-Unit-Test-DPDK#336430 Test environment and result as below: +------------------------+----------------+ | Environment | dpdk_unit_test | +========================+================+ | CentOS Stream 9 (ARM) | PASS | +------------------------+----------------+ | CentOS Stream 10 (ARM) | PASS | +------------------------+----------------+ | Fedora 40 (ARM) | PASS | +------------------------+----------------+ | Debian 12 (arm) | PASS | +------------------------+----------------+ | Fedora 40 (ARM Clang) | PASS | +------------------------+----------------+ | Fedora 41 (ARM) | PASS | +------------------------+----------------+ | Ubuntu 20.04 (ARM) | PASS | +------------------------+----------------+ | Fedora 41 (ARM Clang) | PASS | +------------------------+----------------+ | RHEL9 (ARM) | PASS | +------------------------+----------------+ | Ubuntu 24.04 (ARM) | PASS | +------------------------+----------------+ | Ubuntu 22.04 (ARM) | PASS | +------------------------+----------------+ CentOS Stream 9 (ARM) Kernel: Depends on container host Compiler: gcc 11.5.0 20240719 (Red Hat 11.5.0-2) CentOS Stream 10 (ARM) Kernel: Depends on container host Compiler: gcc 14.2.1 20241104 (Red Hat 14.2.1-6) Fedora 40 (ARM) Kernel: Depends on container host Compiler: gcc 14.2.1 20240912 (Red Hat 14.2.1-3) Debian 12 (arm) Kernel: Depends on container host Compiler: gcc (Debian 12.2.0-14) 12.2.0 Fedora 40 (ARM Clang) Kernel: Depends on container host Compiler: clang 18.1.8 (Fedora 18.1.8-1.fc40) Fedora 41 (ARM) Kernel: Depends on container host Compiler: gcc 14.2.1 20240912 (Red Hat 14.2.1-3) Ubuntu 20.04 (ARM) Kernel: Depends on container host Compiler: gcc (Ubuntu 9.4.0-1ubuntu1~20.04.2) 9.4.0 Fedora 41 (ARM Clang) Kernel: Depends on container host Compiler: clang 19.1.5 (Fedora 19.1.5-1.fc41) RHEL9 (ARM) Kernel: Depends on container host Compiler: gcc 11.5.0 20240719 (Red Hat 11.5.0-2) Ubuntu 24.04 (ARM) Kernel: Depends on container host Compiler: gcc (Ubuntu 13.3.0-6ubuntu2~24.04) 13.3.0 Ubuntu 22.04 (ARM) Kernel: Depends on container host Compiler: gcc (Ubuntu 11.4.0-1ubuntu1~22.04) 11.4.0 To view detailed results, visit: https://lab.dpdk.org/results/dashboard/tarballs/33474/ UNH-IOL DPDK Community Lab To manage your email subscriptions, visit: https://lab.dpdk.org/results/dashboard/preferences/subscriptions/