From mboxrd@z Thu Jan 1 00:00:00 1970 Return-Path: Received: from mails.dpdk.org (mails.dpdk.org [217.70.189.124]) by inbox.dpdk.org (Postfix) with ESMTP id 8439E466F4 for ; Thu, 8 May 2025 10:53:35 +0200 (CEST) Received: from mails.dpdk.org (localhost [127.0.0.1]) by mails.dpdk.org (Postfix) with ESMTP id 60C19402B3; Thu, 8 May 2025 10:53:35 +0200 (CEST) Received: from mail-oa1-f100.google.com (mail-oa1-f100.google.com [209.85.160.100]) by mails.dpdk.org (Postfix) with ESMTP id 29F764027C for ; Thu, 8 May 2025 10:53:34 +0200 (CEST) Received: by mail-oa1-f100.google.com with SMTP id 586e51a60fabf-2d0920ce388so466582fac.0 for ; Thu, 08 May 2025 01:53:34 -0700 (PDT) DKIM-Signature: v=1; a=rsa-sha256; c=relaxed/relaxed; d=iol.unh.edu; s=unh-iol; t=1746694413; x=1747299213; darn=dpdk.org; h=cc:to:from:subject:message-id:date:from:to:cc:subject:date :message-id:reply-to; bh=BzgmKcbWNHubnTFCC4hCT/uTlcpGgp9FVCfjtv8IJek=; b=iJG/bibOu6wZSL/OjptpCb9rlTp63T6v2ojd5c/a7cAlXD4NZ1jMBUJtXRnGMNcI/c NrObX0l6PuMOdeulzznX0KuxoEzRBBF2YEMuLRVJ/qiQtgwAq/hPk3x3jaFY2Su6rV3d cQHvbNa0HxEw+orihEbiMTcP7mrTnaVk8WJZ0= X-Google-DKIM-Signature: v=1; a=rsa-sha256; c=relaxed/relaxed; d=1e100.net; s=20230601; t=1746694413; x=1747299213; h=cc:to:from:subject:message-id:date:x-gm-message-state:from:to:cc :subject:date:message-id:reply-to; bh=BzgmKcbWNHubnTFCC4hCT/uTlcpGgp9FVCfjtv8IJek=; b=arG6odVq1p8uxTRwZBIGl9NqrO8dvQcCCIii9V/v92YwqNwKqinzLZtjpWlJPNf8ZI 38jLbTuYRHuCHqUjEp/Cuyv8kcsUlzUlDEafK/QeBIE9/Q1JN5ggtXMaIMKyAMi7+dIb NQQL8dbrdvvbtRr/kVRZZacTDe3S/G8OWefx8jdkvrJc4tG/BKd1ADcuLP921NhR0qFP OMpnIVNskf3p14yfsZfnOnNodj982hrks57dmbbkl/UleeZNCxwjsUE6l+WfWjxGrSCD fd+RTEFaFxHFhLDag7vexNsYDWzEnYOAE0o9FHs/N971aFeQVdJQ34Qy5eMBnI/GyNgT j17g== X-Gm-Message-State: AOJu0Yx9Z/xI1l8n5HEKXrKY4LGCYXrCvF4QNn3zbYr9Pny8tMDW4m+A EDbb8lM8YvvDQsA277H1DjL4lbHMyj2Jkcs+uVQEgOYtUIDc2VLLmkWrKVGtVqI3i8LZcMeutxJ FIGGkeUHvTMh3JqhDzo8yN444SbilwJLjkkTSTZA6WTAgnRpz X-Gm-Gg: ASbGncvBS3j2He7W/BjB/R7PZ0Onr1dMJLG12ADrxxKChVIDmkFmAC/HLrYCRORwGGo Vfp/yukI+LcSTfBrO2j3p+Lf0FD+OpGfJo1d4JLqm31QiQ+uWpDZbW8I9BbmNP5+6jnMMBKSfRi 1IwUmfKqDb2/37sk6aQkev2RO/p/pLuipS1NUIFje0NgaXxLpBl/1G+sfJEX5du1df8RKpDXeOB Y8PdxNFmAjMxsISKRmk90MapT78S+pkIITZLKV4nia9IIGiSrFxnkEuMOtOXcuV3h4ULs+g+JyD EllaA0QGUxl6myqVaY5otClNRPwmAVJkgB4s X-Google-Smtp-Source: AGHT+IEVg7GhA3ZkKd593DIY2k/QVzxRdTTSJnLnlwvthIx1rP7zNpQ+9ezXx3fLJZVffvSx71N36UEhrbgl X-Received: by 2002:a05:6870:330a:b0:2d5:a360:7df9 with SMTP id 586e51a60fabf-2db5bd6551amr3913511fac.5.1746694413158; Thu, 08 May 2025 01:53:33 -0700 (PDT) Received: from postal.iol.unh.edu (postal.iol.unh.edu. [2606:4100:3880:1234::84]) by smtp-relay.gmail.com with ESMTPS id 586e51a60fabf-2db5d0e2112sm208397fac.40.2025.05.08.01.53.33 (version=TLS1_2 cipher=ECDHE-ECDSA-AES128-GCM-SHA256 bits=128/128); Thu, 08 May 2025 01:53:33 -0700 (PDT) X-Relaying-Domain: iol.unh.edu Date: Thu, 08 May 2025 01:53:33 -0700 (PDT) Message-ID: <681c710d.050a0220.67071.b54aSMTPIN_ADDED_MISSING@mx.google.com> Received: from [172.21.0.11] (unknown [172.18.0.240]) by postal.iol.unh.edu (Postfix) with ESMTP id 979926052471; Thu, 8 May 2025 04:53:32 -0400 (EDT) Subject: |SUCCESS| [GIT MASTER] 4c5634de9f933555bab9c64a533d3dca999071cd From: dpdklab@iol.unh.edu To: Test Report Cc: dpdk-test-reports@iol.unh.edu, Xueming Li , Christian Ehrhardt , Kevin Traynor , Luca Boccassi Content-Type: text/plain X-BeenThere: test-report@dpdk.org X-Mailman-Version: 2.1.29 Precedence: list List-Id: automatic DPDK test reports List-Unsubscribe: , List-Archive: List-Post: List-Help: List-Subscribe: , Errors-To: test-report-bounces@dpdk.org _Testing PASS_ Branch: tags/v24.11 4c5634de9f933555bab9c64a533d3dca999071cd --> testing pass Upstream job id: Generic-Unit-Test-DPDK#336418 Test environment and result as below: +-----------------------------+----------------+--------------+---------------------------+------------------------------+ | Environment | dpdk_unit_test | lpm_autotest | cryptodev_sw_zuc_autotest | cryptodev_sw_snow3g_autotest | +=============================+================+==============+===========================+==============================+ | Debian 12 (arm) | PASS | SKIPPED | PASS | PASS | +-----------------------------+----------------+--------------+---------------------------+------------------------------+ | CentOS Stream 9 (ARM) | PASS | SKIPPED | SKIPPED | SKIPPED | +-----------------------------+----------------+--------------+---------------------------+------------------------------+ | CentOS Stream 10 (ARM) | PASS | SKIPPED | SKIPPED | SKIPPED | +-----------------------------+----------------+--------------+---------------------------+------------------------------+ | Fedora 40 (ARM) | PASS | SKIPPED | SKIPPED | SKIPPED | +-----------------------------+----------------+--------------+---------------------------+------------------------------+ | Fedora 41 (ARM) | PASS | SKIPPED | SKIPPED | SKIPPED | +-----------------------------+----------------+--------------+---------------------------+------------------------------+ | Fedora 40 (ARM Clang) | PASS | SKIPPED | SKIPPED | SKIPPED | +-----------------------------+----------------+--------------+---------------------------+------------------------------+ | Fedora 41 (ARM Clang) | PASS | SKIPPED | SKIPPED | SKIPPED | +-----------------------------+----------------+--------------+---------------------------+------------------------------+ | RHEL9 (ARM) | PASS | SKIPPED | SKIPPED | SKIPPED | +-----------------------------+----------------+--------------+---------------------------+------------------------------+ | Ubuntu 20.04 (ARM) | PASS | SKIPPED | SKIPPED | SKIPPED | +-----------------------------+----------------+--------------+---------------------------+------------------------------+ | Ubuntu 24.04 (ARM) | PASS | SKIPPED | SKIPPED | SKIPPED | +-----------------------------+----------------+--------------+---------------------------+------------------------------+ | Ubuntu 22.04 (ARM) | PASS | SKIPPED | SKIPPED | SKIPPED | +-----------------------------+----------------+--------------+---------------------------+------------------------------+ | 32-bit Ubuntu 22.04.4 (ARM) | PASS | SKIPPED | SKIPPED | SKIPPED | +-----------------------------+----------------+--------------+---------------------------+------------------------------+ | Ubuntu 20.04 ARM SVE | SKIPPED | PASS | SKIPPED | SKIPPED | +-----------------------------+----------------+--------------+---------------------------+------------------------------+ Debian 12 (arm) Kernel: Depends on container host Compiler: gcc (Debian 12.2.0-14) 12.2.0 CentOS Stream 9 (ARM) Kernel: Depends on container host Compiler: gcc 11.5.0 20240719 (Red Hat 11.5.0-2) CentOS Stream 10 (ARM) Kernel: Depends on container host Compiler: gcc 14.2.1 20241104 (Red Hat 14.2.1-6) Fedora 40 (ARM) Kernel: Depends on container host Compiler: gcc 14.2.1 20240912 (Red Hat 14.2.1-3) Fedora 41 (ARM) Kernel: Depends on container host Compiler: gcc 14.2.1 20240912 (Red Hat 14.2.1-3) Fedora 40 (ARM Clang) Kernel: Depends on container host Compiler: clang 18.1.8 (Fedora 18.1.8-1.fc40) Fedora 41 (ARM Clang) Kernel: Depends on container host Compiler: clang 19.1.5 (Fedora 19.1.5-1.fc41) RHEL9 (ARM) Kernel: Depends on container host Compiler: gcc 11.5.0 20240719 (Red Hat 11.5.0-2) Ubuntu 20.04 (ARM) Kernel: Depends on container host Compiler: gcc (Ubuntu 9.4.0-1ubuntu1~20.04.2) 9.4.0 Ubuntu 24.04 (ARM) Kernel: Depends on container host Compiler: gcc (Ubuntu 13.3.0-6ubuntu2~24.04) 13.3.0 Ubuntu 22.04 (ARM) Kernel: Depends on container host Compiler: gcc (Ubuntu 11.4.0-1ubuntu1~22.04) 11.4.0 32-bit Ubuntu 22.04.4 (ARM) Kernel: 5.15.83+ aarch64 Compiler: gcc (Ubuntu 11.4.0-1ubuntu1~22.04) 11.4.0 Ubuntu 20.04 ARM SVE Kernel: Depends on container host Compiler: gcc (Ubuntu 10.5.0-1ubuntu1~20.04) 10.5.0 To view detailed results, visit: https://lab.dpdk.org/results/dashboard/tarballs/33473/ UNH-IOL DPDK Community Lab To manage your email subscriptions, visit: https://lab.dpdk.org/results/dashboard/preferences/subscriptions/