From mboxrd@z Thu Jan 1 00:00:00 1970 Return-Path: Received: from mails.dpdk.org (mails.dpdk.org [217.70.189.124]) by inbox.dpdk.org (Postfix) with ESMTP id 4A38B466F4 for ; Thu, 8 May 2025 11:01:58 +0200 (CEST) Received: from mails.dpdk.org (localhost [127.0.0.1]) by mails.dpdk.org (Postfix) with ESMTP id 3291B402EB; Thu, 8 May 2025 11:01:58 +0200 (CEST) Received: from mail-io1-f97.google.com (mail-io1-f97.google.com [209.85.166.97]) by mails.dpdk.org (Postfix) with ESMTP id 187234026B for ; Thu, 8 May 2025 11:01:56 +0200 (CEST) Received: by mail-io1-f97.google.com with SMTP id ca18e2360f4ac-85dac9728cdso17260739f.0 for ; Thu, 08 May 2025 02:01:56 -0700 (PDT) DKIM-Signature: v=1; a=rsa-sha256; c=relaxed/relaxed; d=iol.unh.edu; s=unh-iol; t=1746694915; x=1747299715; darn=dpdk.org; h=cc:to:from:subject:message-id:date:from:to:cc:subject:date :message-id:reply-to; bh=AfMnwMlkw/oOunxzOP+I/QteJWXhrY3iFD7Y6mFiSTM=; b=ZRCNSNnDuKOyul1C4MovCIwPhEsbajWjiDpxM6DJsgm7fk0OrIy47lN3B5i5OouxNc dMVUSfHIj7ptlY0C2/qcmXGg3fQmzXjilh8wcOB56FwdconSfEkwfB1Ifu5rq8f8avkJ mRbRTw1Fx0qjUkAr7Jaa0xyItmtHbTh8TrINM= X-Google-DKIM-Signature: v=1; a=rsa-sha256; c=relaxed/relaxed; d=1e100.net; s=20230601; t=1746694915; x=1747299715; h=cc:to:from:subject:message-id:date:x-gm-message-state:from:to:cc :subject:date:message-id:reply-to; bh=AfMnwMlkw/oOunxzOP+I/QteJWXhrY3iFD7Y6mFiSTM=; b=q4BTBI/Ja92fBo24+JDrIqvHbJMiDsTlECVS8ZFQbc7ARMEm5jT5Y8L52KwFX5oEj/ Hshj+nPUIUkUU1V93/h+LkETL0SWuMIgdWehpCr7/SAaoKPOaHtNUxdP6d/llzGUbYuf J6UmSy40QYH62/PdYlMc5aqYoBRFmV0NRhe1It/7jT6h+sxlUJfTlA9zcth23z6nbLSM I8lyKk7g9mh0wobEviUtpkheXX2sFp9UKJ/TU4hQDZVtrYaG4eStGpqhC7sQR7MgLhz5 YPGqgiWlj1JO465kAgNRf1cZCjwT3P9Q2CDfoUUJ15aPd4R3Hi/aLmBo3TuDJ94xnZSm P7Kg== X-Gm-Message-State: AOJu0YwST3sHIeRCNMdBoBIAphrADP4HfcDGU5vwBByOMgqgrQQSIkPo e0pEP3SCySD0uFa21K/3LyzXsJPNu2GNmcydu8GwHyXTO80vErAuWjHgC06QHD02Qv25cWbUKQO BZqIssffOjTb2k/vEVCYpayAtpNLwkTgUtcXik9gTn/xx0U9J X-Gm-Gg: ASbGncsfI40M8uQqZBv19SIfHrK5VbCeZ4fOOGtsZroLBDiFaxp0uExrSWxmCj9Z0xu 2gbZhFSEXhVPfWHYGMAzb/AszcHTFs0viyMD/YS5lZLMAQFkFKRc5B3gup1li0yzf8h9JJ2Lloy tXicZoCrUJZVtA62aYTkBPHoIRektEO+p8jBbWsigYxbfse61RNwr8Cn72BjXDCq6K7t0s1oMwu BAhyDzgLEf8W9CiM32Ur9BOB+vl7JvAweoNodh4QC9v+Ii841ZybuKXzLanE6q5EPL87b06aShz uPNw4bZFIAdXzn8nEcF9edLqCMtk4pK+ns8Q X-Google-Smtp-Source: AGHT+IGPfNIU0swmmGddUNnYpzuTeejbUMx8mNRksdRT1yIRdCZk1delmE/3MrAhw8jxxIjfSmA0uUGqqRKe X-Received: by 2002:a05:6602:2b91:b0:861:c75a:27a2 with SMTP id ca18e2360f4ac-8675500fc0amr368665639f.4.1746694903806; Thu, 08 May 2025 02:01:43 -0700 (PDT) Received: from postal.iol.unh.edu (postal.iol.unh.edu. [2606:4100:3880:1234::84]) by smtp-relay.gmail.com with ESMTPS id ca18e2360f4ac-864aa58901fsm227573439f.27.2025.05.08.02.01.43 (version=TLS1_2 cipher=ECDHE-ECDSA-AES128-GCM-SHA256 bits=128/128); Thu, 08 May 2025 02:01:43 -0700 (PDT) X-Relaying-Domain: iol.unh.edu Date: Thu, 08 May 2025 02:01:43 -0700 (PDT) Message-ID: <681c72f7.050a0220.3b9538.f1fbSMTPIN_ADDED_MISSING@mx.google.com> Received: from [172.21.0.6] (unknown [172.18.0.240]) by postal.iol.unh.edu (Postfix) with ESMTP id 47F376052471; Thu, 8 May 2025 05:01:43 -0400 (EDT) Subject: |SUCCESS| [GIT MASTER] 4c5634de9f933555bab9c64a533d3dca999071cd From: dpdklab@iol.unh.edu To: Test Report Cc: dpdk-test-reports@iol.unh.edu, Xueming Li , Christian Ehrhardt , Kevin Traynor , Luca Boccassi Content-Type: text/plain X-BeenThere: test-report@dpdk.org X-Mailman-Version: 2.1.29 Precedence: list List-Id: automatic DPDK test reports List-Unsubscribe: , List-Archive: List-Post: List-Help: List-Subscribe: , Errors-To: test-report-bounces@dpdk.org _Testing PASS_ Branch: tags/v24.11 4c5634de9f933555bab9c64a533d3dca999071cd --> testing pass Upstream job id: Generic-Unit-Test-DPDK#336405 Test environment and result as below: +---------------------+----------------+ | Environment | dpdk_unit_test | +=====================+================+ | CentOS Stream 10 | PASS | +---------------------+----------------+ | Debian 12 | PASS | +---------------------+----------------+ | CentOS Stream 9 | PASS | +---------------------+----------------+ | Fedora 40 | PASS | +---------------------+----------------+ | Fedora 40 (Clang) | PASS | +---------------------+----------------+ | Ubuntu 20.04 | PASS | +---------------------+----------------+ | Fedora 41 (Clang) | PASS | +---------------------+----------------+ | RHEL9 | PASS | +---------------------+----------------+ | Fedora 41 | PASS | +---------------------+----------------+ | RHEL8 | PASS | +---------------------+----------------+ | Ubuntu 22.04 | PASS | +---------------------+----------------+ | Ubuntu 24.04 | PASS | +---------------------+----------------+ | Windows Server 2022 | PASS | +---------------------+----------------+ CentOS Stream 10 Kernel: Depends on container host Compiler: gcc 14.2.1 20241104 (Red Hat 14.2.1-6) Debian 12 Kernel: Depends on container host Compiler: gcc (Debian 12.2.0-14) 12.2.0 CentOS Stream 9 Kernel: Depends on container host Compiler: gcc 11.5.0 20240719 (Red Hat 11.5.0-2) Fedora 40 Kernel: Depends on container host Compiler: gcc 14.2.1 20240912 (Red Hat 14.2.1-3) Fedora 40 (Clang) Kernel: Depends on container host Compiler: clang 18.1.8 (Fedora 18.1.8-1.fc40) Ubuntu 20.04 Kernel: Depends on container host Compiler: gcc (Ubuntu 9.4.0-1ubuntu1~20.04.2) 9.4.0 Fedora 41 (Clang) Kernel: Depends on container host Compiler: clang 19.1.5 (Fedora 19.1.5-1.fc41) RHEL9 Kernel: Depends on container host Compiler: gcc 11.5.0 20240719 (Red Hat 11.5.0-2) Fedora 41 Kernel: Depends on container host Compiler: gcc 14.2.1 20240912 (Red Hat 14.2.1-3) RHEL8 Kernel: Depends on container host Compiler: gcc 8.5.0 20210514 (Red Hat 8.5.0-22) Ubuntu 22.04 Kernel: Depends on container host Compiler: gcc (Ubuntu 11.4.0-1ubuntu1~22.04) 11.4.0 Ubuntu 24.04 Kernel: Depends on container host Compiler: gcc (Ubuntu 13.3.0-6ubuntu2~24.04) 13.3.0 Windows Server 2022 Kernel: 10.0.20348.2031 Compiler: clang 15.0.7, gcc 14.1.0 (MinGW), and MSVC VS 19.39.33521 To view detailed results, visit: https://lab.dpdk.org/results/dashboard/tarballs/33473/ UNH-IOL DPDK Community Lab To manage your email subscriptions, visit: https://lab.dpdk.org/results/dashboard/preferences/subscriptions/