From mboxrd@z Thu Jan 1 00:00:00 1970 Return-Path: Received: from mails.dpdk.org (mails.dpdk.org [217.70.189.124]) by inbox.dpdk.org (Postfix) with ESMTP id 463DD466F4 for ; Thu, 8 May 2025 11:39:19 +0200 (CEST) Received: from mails.dpdk.org (localhost [127.0.0.1]) by mails.dpdk.org (Postfix) with ESMTP id 1E5ED402E7; Thu, 8 May 2025 11:39:19 +0200 (CEST) Received: from mail-oa1-f100.google.com (mail-oa1-f100.google.com [209.85.160.100]) by mails.dpdk.org (Postfix) with ESMTP id 23DB34026B for ; Thu, 8 May 2025 11:39:18 +0200 (CEST) Received: by mail-oa1-f100.google.com with SMTP id 586e51a60fabf-2db2f23f174so540374fac.2 for ; Thu, 08 May 2025 02:39:18 -0700 (PDT) DKIM-Signature: v=1; a=rsa-sha256; c=relaxed/relaxed; d=iol.unh.edu; s=unh-iol; t=1746697157; x=1747301957; darn=dpdk.org; h=references:in-reply-to:cc:to:from:subject:message-id:date:from:to :cc:subject:date:message-id:reply-to; bh=Go+5B1A7wzEkjxw6cFtLX6Nkh8IMfDRRFIZd7ABVoZU=; b=jOcbtElqoOwKBx/+/gZkVIlb3CMu8NrdEKHiexzjCEt2Xqufa1cKWmuzJXRb40GACI zrFs6Xy3dAcDb+T61/3EEO2IBgDmvT6cVNQq7TOBk3Riofzieco0PzbXLsqqt9b3HQUl XekQ0sXtUzWDBK5auevVkdj8TX6j4XA6Da5ZA= X-Google-DKIM-Signature: v=1; a=rsa-sha256; c=relaxed/relaxed; d=1e100.net; s=20230601; t=1746697157; x=1747301957; h=references:in-reply-to:cc:to:from:subject:message-id:date :x-gm-message-state:from:to:cc:subject:date:message-id:reply-to; bh=Go+5B1A7wzEkjxw6cFtLX6Nkh8IMfDRRFIZd7ABVoZU=; b=fdJU9cnCkghXV36ht8rCwNme5xdqAx05FxLrpTS11hivn5bXc5OfbUlR8gHaHXgqVH dUCDWM3v2uCra1SMgJRsrkm7SgOhHKqu3sUhFw5iVgrMhrOr4Eoo5aIU1xXWV6t72G3g MrEDbgSwecd+fHEL66X0gqGuTEmjGw9JOuPhUQP1UJnKbsUJ1pl3esYw98JWeTR6s+kE pHFGt5MN9gb4WoCLgAmnJMoTMjRZH9ZCkSlX8DeT370B8833NQ6Xjaj0R5CvcpBU5Cf5 VhGI1xaeH9BbRPi7Stnp33QJ/nmMaxlyPDa3zIBPCdm/ZXS8PvhDjgIxFJMkWuq04QQS EB6g== X-Gm-Message-State: AOJu0Ywlgjacz1ZxfQ9AqX2gQ9PAkyvnNazA1ORjW1+zD0ZDzP/sq0wU 71vdK6G/qUqAtq46Ui7VpP+SzPPRRvUQdjxj3wSras5f20n+gLYT7uVFNo4l+IBfWCU+Rk70+rf BrcEAS9vcOpLX1WXMMAdOBij8+fqMYTvofSjpqL8SzBTvT2v8/mEzP+ak X-Gm-Gg: ASbGncvyne1M+tqM2eDKQh5aoGeYkuFpW/puLNJ1HAJ1l+SIdHn2e1MtAjAddy0Oq63 5L80ktoM+DgiuBXPgluxuLHhw24IusTEiBkpmsexlBjAqURkotrh3gHKoYEau10CUIPp0n3KNIR QrhyjP7BPwPShIHR8ajCgOZ867XZs6m9A4Mospeg4XicFijQxr680tIXx4jVSUMfoyxlNYgtQlT XGjVco0tB4p36d2XhMnj3OBtF8eeUY2XVbf6ji2F5h6RIOCJ8RUSPFy3Vl3mOjHcWoCODAtrdDw 0lmwo19sc97GASD8ulAASKGqFPkFdEeHD0Pg X-Google-Smtp-Source: AGHT+IEIPV3JZuE6yrbqor9oe+e17juHyLj7ExfG82KsV4sW9H7zTz6hTpbMzwmKhBhMnZkWzFb2ZA8CBpp2 X-Received: by 2002:a17:90b:2786:b0:2ee:e945:5355 with SMTP id 98e67ed59e1d1-30aac1b6a36mr9326451a91.19.1746697146132; Thu, 08 May 2025 02:39:06 -0700 (PDT) Received: from postal.iol.unh.edu (postal.iol.unh.edu. [2606:4100:3880:1234::84]) by smtp-relay.gmail.com with ESMTPS id 98e67ed59e1d1-30ad4f6a6d3sm119477a91.6.2025.05.08.02.39.06 (version=TLS1_2 cipher=ECDHE-ECDSA-AES128-GCM-SHA256 bits=128/128); Thu, 08 May 2025 02:39:06 -0700 (PDT) X-Relaying-Domain: iol.unh.edu Date: Thu, 08 May 2025 02:39:06 -0700 (PDT) Message-ID: <681c7bba.170a0220.ee7f1.64b4SMTPIN_ADDED_MISSING@mx.google.com> Received: from [172.21.0.5] (unknown [172.18.0.240]) by postal.iol.unh.edu (Postfix) with ESMTP id 9F5F36052471; Thu, 8 May 2025 05:39:04 -0400 (EDT) Subject: |SUCCESS| pw153343-153345 [PATCH] [v5,3/3] app/testpmd: add sleep co From: dpdklab@iol.unh.edu To: Test Report Cc: dpdk-test-reports@iol.unh.edu In-Reply-To: <4674606a09d854277ac01b0ccd86a4eb559e565f.1746631324.git.anatoly.burakov@intel.com> References: <4674606a09d854277ac01b0ccd86a4eb559e565f.1746631324.git.anatoly.burakov@intel.com> Content-Type: text/plain X-BeenThere: test-report@dpdk.org X-Mailman-Version: 2.1.29 Precedence: list List-Id: automatic DPDK test reports List-Unsubscribe: , List-Archive: List-Post: List-Help: List-Subscribe: , Errors-To: test-report-bounces@dpdk.org Test-Label: iol-compile-arm64-testing Test-Status: SUCCESS http://dpdk.org/patch/153345 _Testing PASS_ Submitter: Burakov, Anatoly Date: Wednesday, May 07 2025 15:22:12 DPDK git baseline: Repo:dpdk Branch: master CommitID:75f179ebe347b6098cf3af26d3d3b7168fe3fe24 153343-153345 --> testing pass Upstream job id: Generic-DPDK-Compile-Meson#386292 Test environment and result as below: +----------------------------------------+--------------------+ | Environment | dpdk_meson_compile | +========================================+====================+ | RHEL9 (ARM) | PASS | +----------------------------------------+--------------------+ | Ubuntu 20.04 ARM GCC Cross Compile | PASS | +----------------------------------------+--------------------+ | Ubuntu 20.04 ARM SVE | PASS | +----------------------------------------+--------------------+ | Debian 12 with MUSDK | PASS | +----------------------------------------+--------------------+ | Fedora 40 (ARM) | PASS | +----------------------------------------+--------------------+ | Fedora 41 (ARM) | PASS | +----------------------------------------+--------------------+ | Fedora 40 (ARM Clang) | PASS | +----------------------------------------+--------------------+ | Fedora 41 (ARM Clang) | PASS | +----------------------------------------+--------------------+ | Ubuntu 20.04 (ARM) | PASS | +----------------------------------------+--------------------+ | Ubuntu 22.04 (ARM) | PASS | +----------------------------------------+--------------------+ | CentOS Stream 9 (ARM) | PASS | +----------------------------------------+--------------------+ | Ubuntu 24.04 (ARM) | PASS | +----------------------------------------+--------------------+ | CentOS Stream 10 (ARM) | PASS | +----------------------------------------+--------------------+ | Ubuntu 20.04 ARM Clang Cross Compile | PASS | +----------------------------------------+--------------------+ | Ubuntu 20.04 aarch32 GCC Cross Compile | PASS | +----------------------------------------+--------------------+ | Debian 12 (arm) | PASS | +----------------------------------------+--------------------+ RHEL9 (ARM) Kernel: Depends on container host Compiler: gcc 11.5.0 20240719 (Red Hat 11.5.0-2) Ubuntu 20.04 ARM GCC Cross Compile Kernel: Depends on container host Compiler: aarch64-linux-gnu-gcc (Ubuntu 9.4.0-1ubuntu1~20.04.2) 9.4.0 Ubuntu 20.04 ARM SVE Kernel: Depends on container host Compiler: gcc (Ubuntu 10.5.0-1ubuntu1~20.04) 10.5.0 Debian 12 with MUSDK Kernel: Depends on container host Compiler: gcc (Debian 12.2.0-14) 12.2.0 Fedora 40 (ARM) Kernel: Depends on container host Compiler: gcc 14.2.1 20240912 (Red Hat 14.2.1-3) Fedora 41 (ARM) Kernel: Depends on container host Compiler: gcc 14.2.1 20240912 (Red Hat 14.2.1-3) Fedora 40 (ARM Clang) Kernel: Depends on container host Compiler: clang 18.1.8 (Fedora 18.1.8-1.fc40) Fedora 41 (ARM Clang) Kernel: Depends on container host Compiler: clang 19.1.5 (Fedora 19.1.5-1.fc41) Ubuntu 20.04 (ARM) Kernel: Depends on container host Compiler: gcc (Ubuntu 9.4.0-1ubuntu1~20.04.2) 9.4.0 Ubuntu 22.04 (ARM) Kernel: Depends on container host Compiler: gcc (Ubuntu 11.4.0-1ubuntu1~22.04) 11.4.0 CentOS Stream 9 (ARM) Kernel: Depends on container host Compiler: gcc 11.5.0 20240719 (Red Hat 11.5.0-2) Ubuntu 24.04 (ARM) Kernel: Depends on container host Compiler: gcc (Ubuntu 13.3.0-6ubuntu2~24.04) 13.3.0 CentOS Stream 10 (ARM) Kernel: Depends on container host Compiler: gcc 14.2.1 20241104 (Red Hat 14.2.1-6) Ubuntu 20.04 ARM Clang Cross Compile Kernel: Depends on container host Compiler: clang 10.0.0-4ubuntu1 Ubuntu 20.04 aarch32 GCC Cross Compile Kernel: Depends on container host Compiler: gcc 9.4.0 Debian 12 (arm) Kernel: Depends on container host Compiler: gcc (Debian 12.2.0-14) 12.2.0 To view detailed results, visit: https://lab.dpdk.org/results/dashboard/patchsets/33134/ UNH-IOL DPDK Community Lab To manage your email subscriptions, visit: https://lab.dpdk.org/results/dashboard/preferences/subscriptions/