From mboxrd@z Thu Jan 1 00:00:00 1970 Return-Path: Received: from mails.dpdk.org (mails.dpdk.org [217.70.189.124]) by inbox.dpdk.org (Postfix) with ESMTP id 558DF466F4 for ; Thu, 8 May 2025 11:57:48 +0200 (CEST) Received: from mails.dpdk.org (localhost [127.0.0.1]) by mails.dpdk.org (Postfix) with ESMTP id 3EF91402E7; Thu, 8 May 2025 11:57:48 +0200 (CEST) Received: from mail-qv1-f98.google.com (mail-qv1-f98.google.com [209.85.219.98]) by mails.dpdk.org (Postfix) with ESMTP id 160044026B for ; Thu, 8 May 2025 11:57:47 +0200 (CEST) Received: by mail-qv1-f98.google.com with SMTP id 6a1803df08f44-6f0c30a1cb6so6553156d6.2 for ; Thu, 08 May 2025 02:57:47 -0700 (PDT) DKIM-Signature: v=1; a=rsa-sha256; c=relaxed/relaxed; d=iol.unh.edu; s=unh-iol; t=1746698266; x=1747303066; darn=dpdk.org; h=cc:to:from:subject:message-id:date:from:to:cc:subject:date :message-id:reply-to; bh=nvjJ5YXiUZQDhKlL9GNOhptO7kL6/Lk41dyH7/rcJ7Y=; b=hmKetpDAO5n1TGMMrMu+WnrQweH+O0lA+zIRd9jf0waT9eKPHsjb2LJzhRSAZyzHUP grhbtTIveuWFSsYvXKB3WXlv530NRl4WUGZnrMz5dg/zoJg9xF6WXfiWRGML4yccFwph ZiCGTd3bAFmwdPLQRTeEsXmGcYZVatSq+4rPY= X-Google-DKIM-Signature: v=1; a=rsa-sha256; c=relaxed/relaxed; d=1e100.net; s=20230601; t=1746698266; x=1747303066; h=cc:to:from:subject:message-id:date:x-gm-message-state:from:to:cc :subject:date:message-id:reply-to; bh=nvjJ5YXiUZQDhKlL9GNOhptO7kL6/Lk41dyH7/rcJ7Y=; b=bcGDqo4ehEzLAZakonopNLLR85W7pOrZq313V2It5DSipOSTrgnfWq3djoxspuHNlg N4H1YplheLkEG1tNrLzvLpYkjU0c2b2uXkvV+fOrYabGi7cKhLjR3Pg7clS/470feRry ZSG8uFFcc1HpDfo5e9aCD/KjgQWlxQpnp3FBpOZzS+VlYU+ZtvE/AoMh/+fv3coyy5BI 1o3ipZl/70G4m4EoEQIkn9gkuRvxG7lpv8hW+Z/nx8hZXEKxtP1ews+rL6I3igWH45l+ 0ptHrw1lwZhTRq0nu/GXsL01qESJv0GUnZJ9tQLxabBtIZ84R6Ze+SImeO7DxXEc9tLy 47DQ== X-Gm-Message-State: AOJu0Yz99U7yl1vfRa2tNXVvzQygro9w6mub8VDYyemltg41FDKOrheO FdxQ0thAdmRZRdjHEdcUqiwDkobN+e0p1kjOFPiVzpaljuEoRX4Mrqhrcw7KbYN3FW2Nz9O9db3 o9ACceeP5kzQAQimmSoLNMLcLVhzEbO6m X-Gm-Gg: ASbGncsPTBRUJ4bylNWXgmsmt9IjBfdGA1TMEAvv/5EAsTpGyIG0NMHjYRZznpgwMJZ dn96WeHoiJye39zMog4prvJFL/6RPRjWv4BZ5vIoWR10qObvAVK9/ka0yTcyfhDQIcqkql+eztL 8f52x0ad3AjSdlK2ZALS579VhzKSMiMwXjp/EvWFV4CWdSy/S/tAtt0ktHP0grKr2kflOSNoTmB U/R98ZNxx0lnA7BBEZvarMoV/nYITYxvzOUPI+lxBmhvs5YzdZ+7NEhx8XvLSRm1OEBMw6YVjoj Y1igegYlAEpSgzRjfXXX/ZibZXddq1gfQ21Tkq0qSZxLna5JnMFHzMRQgqs= X-Google-Smtp-Source: AGHT+IHgIQ5dNNB8FGKroyAu7sx+yrMTgLRz5JmoH2L+MLbth2jTT6CD8iPvnU6rGbruUzf8yNggrMKlVTlf X-Received: by 2002:a05:6214:c46:b0:6f5:46b0:7d11 with SMTP id 6a1803df08f44-6f54c497d57mr47063426d6.36.1746698266456; Thu, 08 May 2025 02:57:46 -0700 (PDT) Received: from postal.iol.unh.edu (postal.iol.unh.edu. [132.177.123.84]) by smtp-relay.gmail.com with ESMTPS id 6a1803df08f44-6f542672240sm1898946d6.35.2025.05.08.02.57.46 (version=TLS1_2 cipher=ECDHE-ECDSA-AES128-GCM-SHA256 bits=128/128); Thu, 08 May 2025 02:57:46 -0700 (PDT) X-Relaying-Domain: iol.unh.edu Date: Thu, 08 May 2025 02:57:46 -0700 (PDT) Message-ID: <681c801a.050a0220.a80ef.9ff5SMTPIN_ADDED_MISSING@mx.google.com> Received: from [172.21.0.5] (unknown [172.18.0.240]) by postal.iol.unh.edu (Postfix) with ESMTP id 2804B6052471; Thu, 8 May 2025 05:57:46 -0400 (EDT) Subject: |SUCCESS| [GIT MASTER] 83a7a648344674c0269fcaeb71d8d16468421a0e From: dpdklab@iol.unh.edu To: Test Report Cc: dpdk-test-reports@iol.unh.edu, Xueming Li , Christian Ehrhardt , Kevin Traynor , Luca Boccassi Content-Type: text/plain X-BeenThere: test-report@dpdk.org X-Mailman-Version: 2.1.29 Precedence: list List-Id: automatic DPDK test reports List-Unsubscribe: , List-Archive: List-Post: List-Help: List-Subscribe: , Errors-To: test-report-bounces@dpdk.org _Testing PASS_ Branch: tags/v23.11 83a7a648344674c0269fcaeb71d8d16468421a0e --> testing pass Upstream job id: Generic-Unit-Test-DPDK#336442 Test environment and result as below: +---------------------+----------------+ | Environment | dpdk_unit_test | +=====================+================+ | CentOS Stream 9 | PASS | +---------------------+----------------+ | CentOS Stream 10 | PASS | +---------------------+----------------+ | Fedora 40 (Clang) | PASS | +---------------------+----------------+ | Fedora 40 | PASS | +---------------------+----------------+ | Debian 12 | PASS | +---------------------+----------------+ | Fedora 41 | PASS | +---------------------+----------------+ | Fedora 41 (Clang) | PASS | +---------------------+----------------+ | RHEL9 | PASS | +---------------------+----------------+ | RHEL8 | PASS | +---------------------+----------------+ | Ubuntu 20.04 | PASS | +---------------------+----------------+ | Ubuntu 22.04 | PASS | +---------------------+----------------+ | Ubuntu 24.04 | PASS | +---------------------+----------------+ | Windows Server 2022 | PASS | +---------------------+----------------+ CentOS Stream 9 Kernel: Depends on container host Compiler: gcc 11.5.0 20240719 (Red Hat 11.5.0-2) CentOS Stream 10 Kernel: Depends on container host Compiler: gcc 14.2.1 20241104 (Red Hat 14.2.1-6) Fedora 40 (Clang) Kernel: Depends on container host Compiler: clang 18.1.8 (Fedora 18.1.8-1.fc40) Fedora 40 Kernel: Depends on container host Compiler: gcc 14.2.1 20240912 (Red Hat 14.2.1-3) Debian 12 Kernel: Depends on container host Compiler: gcc (Debian 12.2.0-14) 12.2.0 Fedora 41 Kernel: Depends on container host Compiler: gcc 14.2.1 20240912 (Red Hat 14.2.1-3) Fedora 41 (Clang) Kernel: Depends on container host Compiler: clang 19.1.5 (Fedora 19.1.5-1.fc41) RHEL9 Kernel: Depends on container host Compiler: gcc 11.5.0 20240719 (Red Hat 11.5.0-2) RHEL8 Kernel: Depends on container host Compiler: gcc 8.5.0 20210514 (Red Hat 8.5.0-22) Ubuntu 20.04 Kernel: Depends on container host Compiler: gcc (Ubuntu 9.4.0-1ubuntu1~20.04.2) 9.4.0 Ubuntu 22.04 Kernel: Depends on container host Compiler: gcc (Ubuntu 11.4.0-1ubuntu1~22.04) 11.4.0 Ubuntu 24.04 Kernel: Depends on container host Compiler: gcc (Ubuntu 13.3.0-6ubuntu2~24.04) 13.3.0 Windows Server 2022 Kernel: 10.0.20348.2031 Compiler: clang 15.0.7, gcc 14.1.0 (MinGW), and MSVC VS 19.39.33521 To view detailed results, visit: https://lab.dpdk.org/results/dashboard/tarballs/33474/ UNH-IOL DPDK Community Lab To manage your email subscriptions, visit: https://lab.dpdk.org/results/dashboard/preferences/subscriptions/