From mboxrd@z Thu Jan 1 00:00:00 1970 Return-Path: Received: from mails.dpdk.org (mails.dpdk.org [217.70.189.124]) by inbox.dpdk.org (Postfix) with ESMTP id 6D34A466F4 for ; Thu, 8 May 2025 11:58:34 +0200 (CEST) Received: from mails.dpdk.org (localhost [127.0.0.1]) by mails.dpdk.org (Postfix) with ESMTP id 675BC402E7; Thu, 8 May 2025 11:58:34 +0200 (CEST) Received: from mail-pj1-f100.google.com (mail-pj1-f100.google.com [209.85.216.100]) by mails.dpdk.org (Postfix) with ESMTP id D020C402E7 for ; Thu, 8 May 2025 11:58:33 +0200 (CEST) Received: by mail-pj1-f100.google.com with SMTP id 98e67ed59e1d1-309fac646adso1856046a91.1 for ; Thu, 08 May 2025 02:58:33 -0700 (PDT) DKIM-Signature: v=1; a=rsa-sha256; c=relaxed/relaxed; d=iol.unh.edu; s=unh-iol; t=1746698313; x=1747303113; darn=dpdk.org; h=cc:to:from:subject:message-id:date:from:to:cc:subject:date :message-id:reply-to; bh=xZV1h9TDgrifI2DHY80SkPI+xM4ef+Z5UuG2JjVaDIc=; b=PcrPbZ/fNvU0VvmdcGMf/ZHIqR1916LVNR6Sutrwqwjo9Sp8nVYRDzSKRjIdj5ZcpQ LEpn68YFRXhx+6LHi+DCgCJrWhNZmOJsEgCOcql/MFeLrL9P/0ugRLXmUMY4vMF6dpvy /OXpZq5L3SGqc/wcxd1apqaKLEEF801l8WtRI= X-Google-DKIM-Signature: v=1; a=rsa-sha256; c=relaxed/relaxed; d=1e100.net; s=20230601; t=1746698313; x=1747303113; h=cc:to:from:subject:message-id:date:x-gm-message-state:from:to:cc :subject:date:message-id:reply-to; bh=xZV1h9TDgrifI2DHY80SkPI+xM4ef+Z5UuG2JjVaDIc=; b=wrQds3/KL2JDzuuQ5VYZ+IfxiIGVF0UdsKzoLcBvxXAMugvfvMtfI6dPGulMYkSDK3 5ftat/XaUnSyihqKztYfMbcON1OqbMaxZQbG1GDFwL7dlYr9cO3yvF/kkRPeZv1QZT5z 9bwzSU3D6OnSngySUHVk1bVlmXnYs9pYlAq8X5rZ7xxuPiWGKDEknEbPINLbARy/bRpV eKZWVdP6FlIz6rFRpjXNNl4gwnp0hHrwEw3nqAVouM+7pcljSBVW5B5mryFrrXq3MVqu 0NjCNe7wrtOmeX1XrSsD7vo1ZalR5QUqRtn1I2N0Go1XXonQVrD1Tx20AjxxA/Tll2Bx H4/A== X-Gm-Message-State: AOJu0YwTWGrqCg5TSpWn64EMmxY8pdj6YceLeWxkW7f0mMHKPOvMW29a KimYF5IIw+E2D1+Vj3+z5/nhn/j48WToLpzqSCgjLS3gAWHXbzbPJEKy7u7MQZf78F2pLH/Ijxa abnkhycjzDw6ET99ak6tiQkw3YIdP8grL X-Gm-Gg: ASbGncv0nMRAz0EQBV/rIxiNYcSmOzhOxY07N+R2xuJdLTFlMN552wBB2ORx4+waKQl 8Z0Bwlvsg0bEMNE2XxAs0wnHWv5Vl+6bm9qhnpYgMwY5Dcfl5PNAoMhXIzNfiqyDDZk/dM9YIFo Li/quAO2i2MDjfvNIv1iEKpLjDCjhfjyQQH8hAMxl6ezGtzxKqtNS9Tgy2qb2NVmR8wkE13JwTl e8Mpu+mvSwCiBjNlU3USLxj+xZFNEXgU8fSz+cqNcjTIM1aakHwKLvdOXEK/ejsDRE5cO1Sqv0v MAagu1OyJ/DgRx1OwtCteBUR2XYlYDKWM8VFGQZquLWByrJblqpMeF2qT+Q= X-Google-Smtp-Source: AGHT+IHXueokA5nFB5hIgTmAqOwat5/rNEhSHvjzSvlWhESk/5BDfX+alsh20XoV9recp4A73kV1XQXfyIdY X-Received: by 2002:a17:90b:3c08:b0:30a:204e:fe47 with SMTP id 98e67ed59e1d1-30adbf3be47mr4414643a91.16.1746698312941; Thu, 08 May 2025 02:58:32 -0700 (PDT) Received: from postal.iol.unh.edu (postal.iol.unh.edu. [132.177.123.84]) by smtp-relay.gmail.com with ESMTPS id 98e67ed59e1d1-30ad4f6a6d3sm121097a91.6.2025.05.08.02.58.32 (version=TLS1_2 cipher=ECDHE-ECDSA-AES128-GCM-SHA256 bits=128/128); Thu, 08 May 2025 02:58:32 -0700 (PDT) X-Relaying-Domain: iol.unh.edu Date: Thu, 08 May 2025 02:58:32 -0700 (PDT) Message-ID: <681c8048.170a0220.ee7f1.6600SMTPIN_ADDED_MISSING@mx.google.com> Received: from [172.21.0.5] (unknown [172.18.0.240]) by postal.iol.unh.edu (Postfix) with ESMTP id 264F56052471; Thu, 8 May 2025 05:58:32 -0400 (EDT) Subject: |SUCCESS| [GIT MASTER] 83a7a648344674c0269fcaeb71d8d16468421a0e From: dpdklab@iol.unh.edu To: Test Report Cc: dpdk-test-reports@iol.unh.edu, Xueming Li , Christian Ehrhardt , Kevin Traynor , Luca Boccassi Content-Type: text/plain X-BeenThere: test-report@dpdk.org X-Mailman-Version: 2.1.29 Precedence: list List-Id: automatic DPDK test reports List-Unsubscribe: , List-Archive: List-Post: List-Help: List-Subscribe: , Errors-To: test-report-bounces@dpdk.org _Testing PASS_ Branch: tags/v23.11 83a7a648344674c0269fcaeb71d8d16468421a0e --> testing pass Upstream job id: Generic-VM-Unit-Test-DPDK#28408 Test environment and result as below: +---------------------+----------------+ | Environment | dpdk_unit_test | +=====================+================+ | CentOS Stream 9 | PASS | +---------------------+----------------+ | CentOS Stream 10 | PASS | +---------------------+----------------+ | Fedora 40 (Clang) | PASS | +---------------------+----------------+ | Fedora 40 | PASS | +---------------------+----------------+ | Debian 12 | PASS | +---------------------+----------------+ | Fedora 41 | PASS | +---------------------+----------------+ | Fedora 41 (Clang) | PASS | +---------------------+----------------+ | RHEL9 | PASS | +---------------------+----------------+ | RHEL8 | PASS | +---------------------+----------------+ | Ubuntu 20.04 | PASS | +---------------------+----------------+ | Ubuntu 22.04 | PASS | +---------------------+----------------+ | Ubuntu 24.04 | PASS | +---------------------+----------------+ | Windows Server 2022 | PASS | +---------------------+----------------+ CentOS Stream 9 Kernel: Depends on container host Compiler: gcc 11.5.0 20240719 (Red Hat 11.5.0-2) CentOS Stream 10 Kernel: Depends on container host Compiler: gcc 14.2.1 20241104 (Red Hat 14.2.1-6) Fedora 40 (Clang) Kernel: Depends on container host Compiler: clang 18.1.8 (Fedora 18.1.8-1.fc40) Fedora 40 Kernel: Depends on container host Compiler: gcc 14.2.1 20240912 (Red Hat 14.2.1-3) Debian 12 Kernel: Depends on container host Compiler: gcc (Debian 12.2.0-14) 12.2.0 Fedora 41 Kernel: Depends on container host Compiler: gcc 14.2.1 20240912 (Red Hat 14.2.1-3) Fedora 41 (Clang) Kernel: Depends on container host Compiler: clang 19.1.5 (Fedora 19.1.5-1.fc41) RHEL9 Kernel: Depends on container host Compiler: gcc 11.5.0 20240719 (Red Hat 11.5.0-2) RHEL8 Kernel: Depends on container host Compiler: gcc 8.5.0 20210514 (Red Hat 8.5.0-22) Ubuntu 20.04 Kernel: Depends on container host Compiler: gcc (Ubuntu 9.4.0-1ubuntu1~20.04.2) 9.4.0 Ubuntu 22.04 Kernel: Depends on container host Compiler: gcc (Ubuntu 11.4.0-1ubuntu1~22.04) 11.4.0 Ubuntu 24.04 Kernel: Depends on container host Compiler: gcc (Ubuntu 13.3.0-6ubuntu2~24.04) 13.3.0 Windows Server 2022 Kernel: 10.0.20348.2031 Compiler: clang 15.0.7, gcc 14.1.0 (MinGW), and MSVC VS 19.39.33521 To view detailed results, visit: https://lab.dpdk.org/results/dashboard/tarballs/33474/ UNH-IOL DPDK Community Lab To manage your email subscriptions, visit: https://lab.dpdk.org/results/dashboard/preferences/subscriptions/