From mboxrd@z Thu Jan 1 00:00:00 1970 Return-Path: Received: from mails.dpdk.org (mails.dpdk.org [217.70.189.124]) by inbox.dpdk.org (Postfix) with ESMTP id 104DD466F4 for ; Thu, 8 May 2025 12:30:24 +0200 (CEST) Received: from mails.dpdk.org (localhost [127.0.0.1]) by mails.dpdk.org (Postfix) with ESMTP id 03324402E7; Thu, 8 May 2025 12:30:24 +0200 (CEST) Received: from mail-pl1-f227.google.com (mail-pl1-f227.google.com [209.85.214.227]) by mails.dpdk.org (Postfix) with ESMTP id 91CE74026B for ; Thu, 8 May 2025 12:30:22 +0200 (CEST) Received: by mail-pl1-f227.google.com with SMTP id d9443c01a7336-22e6344326dso9350675ad.1 for ; Thu, 08 May 2025 03:30:22 -0700 (PDT) DKIM-Signature: v=1; a=rsa-sha256; c=relaxed/relaxed; d=iol.unh.edu; s=unh-iol; t=1746700221; x=1747305021; darn=dpdk.org; h=cc:to:from:subject:message-id:date:from:to:cc:subject:date :message-id:reply-to; bh=wR22865xdnmCyWxJBqExuYtbre8D0Fry2pluv/5tw/I=; b=LXq/jMYiO66McAX7JFFCO9bH/3F167xfFcC3L8AQgUyVB5SCuqG3/9IJs3Wk7Ifw9V EfxA52hxZxubZL2sN/UCuHdHL69zp+DhVGOLffgV10w9ozOTPWb4y2nAox25t19wBQKL bGZO2x5lflTAvdJFogtAFFjR4H7wFgzX9p/tU= X-Google-DKIM-Signature: v=1; a=rsa-sha256; c=relaxed/relaxed; d=1e100.net; s=20230601; t=1746700221; x=1747305021; h=cc:to:from:subject:message-id:date:x-gm-message-state:from:to:cc :subject:date:message-id:reply-to; bh=wR22865xdnmCyWxJBqExuYtbre8D0Fry2pluv/5tw/I=; b=EFiS8lK/ePerbmbYbTM4Jy0fjsFPn7xPS4weKABvrqxD9JKedIELdRFHFn8mnZi0Ci r47DJ///nK5zg0iElUj91oWB89wrxuGLkLtDAR2PCa+B9LxcIvsxyxPYefbUE3oW6CoM 4yRQngU3zneM7b4bFKBJ7Cr6Epn2jFOowa38Px7p06vSWHe8sTC2+wL80mzB5Ib2E7yP ho2yQxfHVPxaUeK7CWO/CDDeeIjc2tN5OKm03z4cqcoBD2pxlZRW4XnCWg1LBAGXS93y qKnoaXTb/F7YN59EP6C4QWO6++PXfqLG+vPzsIaPPI3lavc7MkzI0UUaJPdnJMe5HvCT zIAQ== X-Gm-Message-State: AOJu0YzJrW2nxrsiNYeCxwAV8miZZ3uC5PmthIqvf8ZonONrXx0oqJXB eDxnGJXaQjcBRqcU6LlHNHc7B9NG3k9Sf0TqZnpXpnAcRpIdsFOd1mxV6PDOvL3GephaJLjmyOo EHsquFjbZDG0epz5iOy0xFJUk4G4dnhaPwaFiWc17L5xZDd0X X-Gm-Gg: ASbGncu/rNHLAYESnTZvc16ZZ0Yo3pIxAmvp82pQ2p9r/5qyaWSEvY/ofXgkhz4TOPQ stU3nC2IbBmYst2Nx1Yh4lrnvbXGJOLXokKEY+coMs7QPeUKq25TDgmkhwNFswQlH8VRgAq61mT SOal1DByeJ9tavHu82k2seDZOIv5WMMD0e8cpqOXZinKZClzXKRR5mXRk0PDUkHaNeNKQfIvyAy qZTll9NbXkhIMxuKzMhc5j/9MS6stgl6R1TylwvcEkD2/rMPY8D0kImXFwY5FCMFygwsdeDJkqk Vm2wG9Z/03yORUWDzLukBKY5NkTaIHo0uGCp X-Google-Smtp-Source: AGHT+IEMPtoiJWCMl5hIyt7OIUCiFxDPQJWPX1IA4GamcHlwaRc0gCFDGhTJrTtPe+cC2QNJ4eNelSo5liRT X-Received: by 2002:a17:903:3ba3:b0:21f:988d:5758 with SMTP id d9443c01a7336-22e8a7f9117mr47482055ad.35.1746700221287; Thu, 08 May 2025 03:30:21 -0700 (PDT) Received: from postal.iol.unh.edu (postal.iol.unh.edu. [2606:4100:3880:1234::84]) by smtp-relay.gmail.com with ESMTPS id d9443c01a7336-22e151e971asm18772545ad.36.2025.05.08.03.30.21 (version=TLS1_2 cipher=ECDHE-ECDSA-AES128-GCM-SHA256 bits=128/128); Thu, 08 May 2025 03:30:21 -0700 (PDT) X-Relaying-Domain: iol.unh.edu Date: Thu, 08 May 2025 03:30:21 -0700 (PDT) Message-ID: <681c87bd.170a0220.3c8358.e788SMTPIN_ADDED_MISSING@mx.google.com> Received: from [172.21.0.13] (unknown [172.18.0.240]) by postal.iol.unh.edu (Postfix) with ESMTP id A35596052471; Thu, 8 May 2025 06:30:20 -0400 (EDT) Subject: |SUCCESS| [GIT MASTER] 83a7a648344674c0269fcaeb71d8d16468421a0e From: dpdklab@iol.unh.edu To: Test Report Cc: dpdk-test-reports@iol.unh.edu, Xueming Li , Christian Ehrhardt , Kevin Traynor , Luca Boccassi Content-Type: text/plain X-BeenThere: test-report@dpdk.org X-Mailman-Version: 2.1.29 Precedence: list List-Id: automatic DPDK test reports List-Unsubscribe: , List-Archive: List-Post: List-Help: List-Subscribe: , Errors-To: test-report-bounces@dpdk.org _Testing PASS_ Branch: tags/v23.11 83a7a648344674c0269fcaeb71d8d16468421a0e --> testing pass Upstream job id: Generic-DPDK-Compile-Meson#386363 Test environment and result as below: +---------------------+--------------------+-------------------+------------------+-------------------+-------------------------+----------------------+ | Environment | dpdk_meson_compile | dpdk_compile_spdk | dpdk_compile_ovs | dpdk_msvc_compile | dpdk_llvm_clang_compile | dpdk_mingw64_compile | +=====================+====================+===================+==================+===================+=========================+======================+ | CentOS Stream 9 | PASS | PASS | SKIPPED | SKIPPED | SKIPPED | SKIPPED | +---------------------+--------------------+-------------------+------------------+-------------------+-------------------------+----------------------+ | CentOS Stream 10 | PASS | SKIPPED | SKIPPED | SKIPPED | SKIPPED | SKIPPED | +---------------------+--------------------+-------------------+------------------+-------------------+-------------------------+----------------------+ | Fedora 40 (Clang) | PASS | PASS | SKIPPED | SKIPPED | SKIPPED | SKIPPED | +---------------------+--------------------+-------------------+------------------+-------------------+-------------------------+----------------------+ | Fedora 40 | PASS | PASS | SKIPPED | SKIPPED | SKIPPED | SKIPPED | +---------------------+--------------------+-------------------+------------------+-------------------+-------------------------+----------------------+ | Debian 12 | PASS | PASS | SKIPPED | SKIPPED | SKIPPED | SKIPPED | +---------------------+--------------------+-------------------+------------------+-------------------+-------------------------+----------------------+ | Fedora 41 (Clang) | PASS | PASS | PASS | SKIPPED | SKIPPED | SKIPPED | +---------------------+--------------------+-------------------+------------------+-------------------+-------------------------+----------------------+ | Fedora 41 | PASS | PASS | PASS | SKIPPED | SKIPPED | SKIPPED | +---------------------+--------------------+-------------------+------------------+-------------------+-------------------------+----------------------+ | openSUSE Leap 15 | PASS | SKIPPED | SKIPPED | SKIPPED | SKIPPED | SKIPPED | +---------------------+--------------------+-------------------+------------------+-------------------+-------------------------+----------------------+ | RHEL8 | PASS | SKIPPED | SKIPPED | SKIPPED | SKIPPED | SKIPPED | +---------------------+--------------------+-------------------+------------------+-------------------+-------------------------+----------------------+ | Ubuntu 20.04 | PASS | SKIPPED | SKIPPED | SKIPPED | SKIPPED | SKIPPED | +---------------------+--------------------+-------------------+------------------+-------------------+-------------------------+----------------------+ | Ubuntu 22.04 | PASS | PASS | SKIPPED | SKIPPED | SKIPPED | SKIPPED | +---------------------+--------------------+-------------------+------------------+-------------------+-------------------------+----------------------+ | RHEL9 | PASS | SKIPPED | SKIPPED | SKIPPED | SKIPPED | SKIPPED | +---------------------+--------------------+-------------------+------------------+-------------------+-------------------------+----------------------+ | Ubuntu 24.04 | PASS | PASS | PASS | SKIPPED | SKIPPED | SKIPPED | +---------------------+--------------------+-------------------+------------------+-------------------+-------------------------+----------------------+ | Alpine | PASS | SKIPPED | SKIPPED | SKIPPED | SKIPPED | SKIPPED | +---------------------+--------------------+-------------------+------------------+-------------------+-------------------------+----------------------+ | FreeBSD 13.5 | PASS | SKIPPED | SKIPPED | SKIPPED | SKIPPED | SKIPPED | +---------------------+--------------------+-------------------+------------------+-------------------+-------------------------+----------------------+ | FreeBSD 14.2 | PASS | SKIPPED | SKIPPED | SKIPPED | SKIPPED | SKIPPED | +---------------------+--------------------+-------------------+------------------+-------------------+-------------------------+----------------------+ | Windows Server 2022 | SKIPPED | SKIPPED | SKIPPED | PASS | PASS | PASS | +---------------------+--------------------+-------------------+------------------+-------------------+-------------------------+----------------------+ CentOS Stream 9 Kernel: Depends on container host Compiler: gcc 11.5.0 20240719 (Red Hat 11.5.0-2) CentOS Stream 10 Kernel: Depends on container host Compiler: gcc 14.2.1 20241104 (Red Hat 14.2.1-6) Fedora 40 (Clang) Kernel: Depends on container host Compiler: clang 18.1.8 (Fedora 18.1.8-1.fc40) Fedora 40 Kernel: Depends on container host Compiler: gcc 14.2.1 20240912 (Red Hat 14.2.1-3) Debian 12 Kernel: Depends on container host Compiler: gcc (Debian 12.2.0-14) 12.2.0 Fedora 41 (Clang) Kernel: Depends on container host Compiler: clang 19.1.5 (Fedora 19.1.5-1.fc41) Fedora 41 Kernel: Depends on container host Compiler: gcc 14.2.1 20240912 (Red Hat 14.2.1-3) openSUSE Leap 15 Kernel: Depends on container host Compiler: gcc (SUSE Linux) 7.5.0 RHEL8 Kernel: Depends on container host Compiler: gcc 8.5.0 20210514 (Red Hat 8.5.0-22) Ubuntu 20.04 Kernel: Depends on container host Compiler: gcc (Ubuntu 9.4.0-1ubuntu1~20.04.2) 9.4.0 Ubuntu 22.04 Kernel: Depends on container host Compiler: gcc (Ubuntu 11.4.0-1ubuntu1~22.04) 11.4.0 RHEL9 Kernel: Depends on container host Compiler: gcc 11.5.0 20240719 (Red Hat 11.5.0-2) Ubuntu 24.04 Kernel: Depends on container host Compiler: gcc (Ubuntu 13.3.0-6ubuntu2~24.04) 13.3.0 Alpine Kernel: Depends on container host Compiler: gcc (Alpine 14.2.0) 14.2.0 FreeBSD 13.5 Kernel: 13.5-RELEASE Compiler: clang 19.1.7 FreeBSD 14.2 Kernel: 14.2-RELEASE Compiler: clang 18.1.6 Windows Server 2022 Kernel: 10.0.20348.2031 Compiler: clang 15.0.7, gcc 14.1.0 (MinGW), and MSVC VS 19.39.33521 To view detailed results, visit: https://lab.dpdk.org/results/dashboard/tarballs/33474/ UNH-IOL DPDK Community Lab To manage your email subscriptions, visit: https://lab.dpdk.org/results/dashboard/preferences/subscriptions/