From mboxrd@z Thu Jan 1 00:00:00 1970 Return-Path: Received: from mails.dpdk.org (mails.dpdk.org [217.70.189.124]) by inbox.dpdk.org (Postfix) with ESMTP id 39527466F4 for ; Thu, 8 May 2025 13:02:10 +0200 (CEST) Received: from mails.dpdk.org (localhost [127.0.0.1]) by mails.dpdk.org (Postfix) with ESMTP id 1D5F24026C; Thu, 8 May 2025 13:02:10 +0200 (CEST) Received: from mail-qv1-f98.google.com (mail-qv1-f98.google.com [209.85.219.98]) by mails.dpdk.org (Postfix) with ESMTP id D1CA44026B for ; Thu, 8 May 2025 13:02:08 +0200 (CEST) Received: by mail-qv1-f98.google.com with SMTP id 6a1803df08f44-6f54d3f3607so7141916d6.0 for ; Thu, 08 May 2025 04:02:08 -0700 (PDT) DKIM-Signature: v=1; a=rsa-sha256; c=relaxed/relaxed; d=iol.unh.edu; s=unh-iol; t=1746702128; x=1747306928; darn=dpdk.org; h=cc:to:from:subject:message-id:date:from:to:cc:subject:date :message-id:reply-to; bh=pP2R4cLm8q7DBIAm5v6kV0kymqVv+APpa2KiMBm2Gq8=; b=FIesVBaCNFqBCtbZcqnQkqEpFylX26+FeABrM6R5a48omOoTM0sekGNx9clROoky3w AYOR2qm+MDq5ZUNCf8Wt1FGGhsCgFVC9k6iojgaEL9HzPniro8CCNj1QcBYbz1tu7dqx uXy8bPguoSXgN3+amjUOFq4meEs+1i0nX0QXw= X-Google-DKIM-Signature: v=1; a=rsa-sha256; c=relaxed/relaxed; d=1e100.net; s=20230601; t=1746702128; x=1747306928; h=cc:to:from:subject:message-id:date:x-gm-message-state:from:to:cc :subject:date:message-id:reply-to; bh=pP2R4cLm8q7DBIAm5v6kV0kymqVv+APpa2KiMBm2Gq8=; b=OmJhRzxisFBtuO6su84DpLxlo/FjB0KOjwgYo1m3DgLZ+03vLiwXun/GOFSj3mpM+4 jKzgE1akkH8R5fetPOTZWOVRVBMcnWW9P2XNzX5XX3OxVCbJNDArI0r8CMbi6HSnaJdI AKGmYi2ELSnA5sp5r6PS+ZuGuVfGpdbnp0vooDf0TAIygngQv/l+LPXhtZKdIFYpfp79 o24nsWTIsbE/FoOjt1wBJa/mEaeXpDElHr+hV83G9ZNg7u9QvaFHKgrZouusiyir1/46 ws0I16HO1FLKpq1TYNG1X9ZsVNb0Dz2EhS9Fs3qSghJEco2Sz+ZJhL4/6dpb2KF+vUE7 NdIQ== X-Gm-Message-State: AOJu0Yy32keo/I2cnBEqX8yLUmRiQYeQ9+b/WykMININe8bjIBbPptHw Qt8QwGD6+n8E8tsphGIx5MyfNSuB7vW9Il45zmp0XrMhqLnRtzdTioJmU/jUhX81vIccXkQiLCp qXsb71nv43QhgBpDc0gqJeEwE1TI7eMi/vmsXagtzK5jmXoEH X-Gm-Gg: ASbGnctg5WseClouuQF73SXJfzHQ8d5j2xVuv0IXCufxFBQru7Txq8Yq2S1aGCs2fon PPoD+lTTFbQ9emAEvaLCuJvqagWXVV1nJSTkvg9dZ8fnqXnwmqYYdrlAPgYd77Lspt2U1HTtzAj dA8KU4BhCYzbkM41k2ApBnm6EYBW8WZlJ5/hZmbpaLfvXOor12E0aBInc/djEobeiQq04Cy4gRM j+jtKQ0ZVPK4vSqUXYCIcFk1mW5uP6ReVupHEkPikVPv/Igjnq1YRa2Ia0wyBBQuYo2CKBB1Yiq Huc37C0R4L5mvBcow6Ug03zLcJqw5UqM8nMj X-Google-Smtp-Source: AGHT+IG+PoV4EU0i/P1U67qr4qmkTopwGpiaFLJ5yQmK9smIxJCTs02/EHbuucbxml2Y/wQWAsmS/OrmRtmI X-Received: by 2002:a05:6214:29ce:b0:6f5:f6b:f5af with SMTP id 6a1803df08f44-6f542a06baamr111211946d6.19.1746702127907; Thu, 08 May 2025 04:02:07 -0700 (PDT) Received: from postal.iol.unh.edu (postal.iol.unh.edu. [2606:4100:3880:1234::84]) by smtp-relay.gmail.com with ESMTPS id 6a1803df08f44-6f54261fc28sm2255786d6.5.2025.05.08.04.02.07 (version=TLS1_2 cipher=ECDHE-ECDSA-AES128-GCM-SHA256 bits=128/128); Thu, 08 May 2025 04:02:07 -0700 (PDT) X-Relaying-Domain: iol.unh.edu Date: Thu, 08 May 2025 04:02:07 -0700 (PDT) Message-ID: <681c8f2f.050a0220.16fe7c.bfd0SMTPIN_ADDED_MISSING@mx.google.com> Received: from [172.21.0.15] (unknown [172.18.0.240]) by postal.iol.unh.edu (Postfix) with ESMTP id 890EC6052471; Thu, 8 May 2025 07:02:07 -0400 (EDT) Subject: |SUCCESS| [GIT MASTER] 83a7a648344674c0269fcaeb71d8d16468421a0e From: dpdklab@iol.unh.edu To: Test Report Cc: dpdk-test-reports@iol.unh.edu, Xueming Li , Christian Ehrhardt , Kevin Traynor , Luca Boccassi Content-Type: text/plain X-BeenThere: test-report@dpdk.org X-Mailman-Version: 2.1.29 Precedence: list List-Id: automatic DPDK test reports List-Unsubscribe: , List-Archive: List-Post: List-Help: List-Subscribe: , Errors-To: test-report-bounces@dpdk.org _Testing PASS_ Branch: tags/v23.11 83a7a648344674c0269fcaeb71d8d16468421a0e --> testing pass Upstream job id: Generic-DPDK-Compile-Meson#386366 Test environment and result as below: +------------------------------------+--------------------+ | Environment | dpdk_meson_compile | +====================================+====================+ | RHEL9 (ARM) | PASS | +------------------------------------+--------------------+ | Ubuntu 20.04 ARM GCC Cross Compile | PASS | +------------------------------------+--------------------+ | Ubuntu 20.04 ARM SVE | PASS | +------------------------------------+--------------------+ | Debian 12 with MUSDK | PASS | +------------------------------------+--------------------+ | Fedora 40 (ARM Clang) | PASS | +------------------------------------+--------------------+ | Ubuntu 22.04 (ARM) | PASS | +------------------------------------+--------------------+ | Fedora 41 (ARM Clang) | PASS | +------------------------------------+--------------------+ | Fedora 40 (ARM) | PASS | +------------------------------------+--------------------+ | Fedora 41 (ARM) | PASS | +------------------------------------+--------------------+ | Ubuntu 20.04 (ARM) | PASS | +------------------------------------+--------------------+ | Ubuntu 24.04 (ARM) | PASS | +------------------------------------+--------------------+ | CentOS Stream 10 (ARM) | PASS | +------------------------------------+--------------------+ | Debian 12 (arm) | PASS | +------------------------------------+--------------------+ | CentOS Stream 9 (ARM) | PASS | +------------------------------------+--------------------+ RHEL9 (ARM) Kernel: Depends on container host Compiler: gcc 11.5.0 20240719 (Red Hat 11.5.0-2) Ubuntu 20.04 ARM GCC Cross Compile Kernel: Depends on container host Compiler: aarch64-linux-gnu-gcc (Ubuntu 9.4.0-1ubuntu1~20.04.2) 9.4.0 Ubuntu 20.04 ARM SVE Kernel: Depends on container host Compiler: gcc (Ubuntu 10.5.0-1ubuntu1~20.04) 10.5.0 Debian 12 with MUSDK Kernel: Depends on container host Compiler: gcc (Debian 12.2.0-14) 12.2.0 Fedora 40 (ARM Clang) Kernel: Depends on container host Compiler: clang 18.1.8 (Fedora 18.1.8-1.fc40) Ubuntu 22.04 (ARM) Kernel: Depends on container host Compiler: gcc (Ubuntu 11.4.0-1ubuntu1~22.04) 11.4.0 Fedora 41 (ARM Clang) Kernel: Depends on container host Compiler: clang 19.1.5 (Fedora 19.1.5-1.fc41) Fedora 40 (ARM) Kernel: Depends on container host Compiler: gcc 14.2.1 20240912 (Red Hat 14.2.1-3) Fedora 41 (ARM) Kernel: Depends on container host Compiler: gcc 14.2.1 20240912 (Red Hat 14.2.1-3) Ubuntu 20.04 (ARM) Kernel: Depends on container host Compiler: gcc (Ubuntu 9.4.0-1ubuntu1~20.04.2) 9.4.0 Ubuntu 24.04 (ARM) Kernel: Depends on container host Compiler: gcc (Ubuntu 13.3.0-6ubuntu2~24.04) 13.3.0 CentOS Stream 10 (ARM) Kernel: Depends on container host Compiler: gcc 14.2.1 20241104 (Red Hat 14.2.1-6) Debian 12 (arm) Kernel: Depends on container host Compiler: gcc (Debian 12.2.0-14) 12.2.0 CentOS Stream 9 (ARM) Kernel: Depends on container host Compiler: gcc 11.5.0 20240719 (Red Hat 11.5.0-2) To view detailed results, visit: https://lab.dpdk.org/results/dashboard/tarballs/33474/ UNH-IOL DPDK Community Lab To manage your email subscriptions, visit: https://lab.dpdk.org/results/dashboard/preferences/subscriptions/