From mboxrd@z Thu Jan 1 00:00:00 1970 Return-Path: Received: from mails.dpdk.org (mails.dpdk.org [217.70.189.124]) by inbox.dpdk.org (Postfix) with ESMTP id 99ED7466F4 for ; Thu, 8 May 2025 13:16:10 +0200 (CEST) Received: from mails.dpdk.org (localhost [127.0.0.1]) by mails.dpdk.org (Postfix) with ESMTP id 945344026C; Thu, 8 May 2025 13:16:10 +0200 (CEST) Received: from mail-io1-f98.google.com (mail-io1-f98.google.com [209.85.166.98]) by mails.dpdk.org (Postfix) with ESMTP id 489A04026B for ; Thu, 8 May 2025 13:16:09 +0200 (CEST) Received: by mail-io1-f98.google.com with SMTP id ca18e2360f4ac-8613f456960so20347339f.1 for ; Thu, 08 May 2025 04:16:09 -0700 (PDT) DKIM-Signature: v=1; a=rsa-sha256; c=relaxed/relaxed; d=iol.unh.edu; s=unh-iol; t=1746702968; x=1747307768; darn=dpdk.org; h=cc:to:from:subject:message-id:date:from:to:cc:subject:date :message-id:reply-to; bh=mB8N+TsEGUC3emm4by8F1HlLAjkDYKR8vETArY/gSNY=; b=DjjXztDWwnl6UGwY1NAE0Nrc+5WzEQYMvbQFtqYR2Yd0wG4tcj6Zy7YnLT5S9jI/r+ YcQZAzjJPHMUmQw3/0iYnGKhJGJURX9SL6XUGWbwwaM5NJLxP21hw4Px9UgOIzGJJZuZ upFD6ifk7qauKw3uWZ4Bzul43lhVRx6TwBYNk= X-Google-DKIM-Signature: v=1; a=rsa-sha256; c=relaxed/relaxed; d=1e100.net; s=20230601; t=1746702968; x=1747307768; h=cc:to:from:subject:message-id:date:x-gm-message-state:from:to:cc :subject:date:message-id:reply-to; bh=mB8N+TsEGUC3emm4by8F1HlLAjkDYKR8vETArY/gSNY=; b=dB/Qy278ixrik0CX5xKjhbWFboMuRi3wf9H1F5KwmCeseahAG9iWH29uwOnCTaDvIT ZsK1MgWh+oNFYxaAkKPHdAA0g+VdAoeUA32pXuzBmhWdFtYMYxqIW/uK3vmHOtdJmoTf zT/L6mtTk6f71d1LiNFoWiUtrajIcpjEm5m67OqBkp7PkqaNHgJNM+Ckk64mySntAjrq rlrpaWbkTGKRC7gs/8ZCbvT3hM6eUn45n4sC62ERQtH0gxSQ9WpA6KMpYblqtCt8LuUu 5RfTkASJs/3fLBdPzWtvA4gyZWFZgi/m4u3cvyDI2rF0FE/C26LKMfS4Cbs6wD23VPDy v8iA== X-Gm-Message-State: AOJu0Yw4CVfzfTfBSv09ckD+DVty36Ib/K9EcpFIOwXEGfQj113hF2P7 HSiptyIqlCTSFDSelcP0tpNod0xU83JqsTyK2tVnxt3cpQ5PcFrxLg4tkPzw2lyN04JUe4kavOS LmXkQYakGLqnzPAR7k0SXOB+JlaZPYYC/BKK5d1hFsgudhf95 X-Gm-Gg: ASbGncvTHh4H1+YFf69YSG2Wv2MgAt6X9JVFKUE2J+7cfrSoAvFn7+eTlWR3fNWKHuB B8Clr3/JO+OfiDZJXd07MwISfA1/QLtp4SCEdm9iUsA0pXWXikueuhH0VGOAzXQSmO4V0SQFGjT x/+mEy0Yq5i9GbcRkA+TwAZXjQ6cH37npj4qx/AhAnszXWfzQYIj/IUicvJak0KC1qgr59by578 T1xYOYfB1p/f7gkjWynXzPrV10B3wBYDgCYk1xphe9mXxqQ2wSf/mQcMDE8VxXrQR6XKwPrcBz9 vNkdlKDyY5nF2P3KAhuZAo4AerUQkVg6jm9l X-Google-Smtp-Source: AGHT+IHylwLhris9Rie55CV97EFdfr/uvFz/tRQuzob73YTcMbXvTx4jUOlpZzwSZzGCIwfBMHNTR6fBArCD X-Received: by 2002:a05:6e02:2302:b0:3da:734c:42e0 with SMTP id e9e14a558f8ab-3da785a5617mr39113285ab.22.1746702968498; Thu, 08 May 2025 04:16:08 -0700 (PDT) Received: from postal.iol.unh.edu (postal.iol.unh.edu. [2606:4100:3880:1234::84]) by smtp-relay.gmail.com with ESMTPS id 8926c6da1cb9f-4f88aa6210asm2254519173.53.2025.05.08.04.16.08 (version=TLS1_2 cipher=ECDHE-ECDSA-AES128-GCM-SHA256 bits=128/128); Thu, 08 May 2025 04:16:08 -0700 (PDT) X-Relaying-Domain: iol.unh.edu Date: Thu, 08 May 2025 04:16:08 -0700 (PDT) Message-ID: <681c9278.050a0220.dff2a.271aSMTPIN_ADDED_MISSING@mx.google.com> Received: from [172.21.0.5] (unknown [172.18.0.240]) by postal.iol.unh.edu (Postfix) with ESMTP id CD1946052471; Thu, 8 May 2025 07:16:07 -0400 (EDT) Subject: |SUCCESS| [GIT MASTER] 4401486b5e30d43a134f80f9802f60b5f43e74a8 From: dpdklab@iol.unh.edu To: Test Report Cc: dpdk-test-reports@iol.unh.edu, Xueming Li , Christian Ehrhardt , Kevin Traynor , Luca Boccassi Content-Type: text/plain X-BeenThere: test-report@dpdk.org X-Mailman-Version: 2.1.29 Precedence: list List-Id: automatic DPDK test reports List-Unsubscribe: , List-Archive: List-Post: List-Help: List-Subscribe: , Errors-To: test-report-bounces@dpdk.org _Testing PASS_ Branch: tags/v22.11 4401486b5e30d43a134f80f9802f60b5f43e74a8 --> testing pass Upstream job id: Generic-Unit-Test-DPDK#336456 Test environment and result as below: +-----------------------------+---------------------------+--------------+------------------------------+----------------+ | Environment | cryptodev_sw_zuc_autotest | lpm_autotest | cryptodev_sw_snow3g_autotest | dpdk_unit_test | +=============================+===========================+==============+==============================+================+ | Debian 12 (arm) | PASS | SKIPPED | PASS | SKIPPED | +-----------------------------+---------------------------+--------------+------------------------------+----------------+ | Ubuntu 20.04 ARM SVE | SKIPPED | PASS | SKIPPED | SKIPPED | +-----------------------------+---------------------------+--------------+------------------------------+----------------+ | 32-bit Ubuntu 22.04.4 (ARM) | SKIPPED | SKIPPED | SKIPPED | PASS | +-----------------------------+---------------------------+--------------+------------------------------+----------------+ Debian 12 (arm) Kernel: Depends on container host Compiler: gcc (Debian 12.2.0-14) 12.2.0 Ubuntu 20.04 ARM SVE Kernel: Depends on container host Compiler: gcc (Ubuntu 10.5.0-1ubuntu1~20.04) 10.5.0 32-bit Ubuntu 22.04.4 (ARM) Kernel: 5.15.83+ aarch64 Compiler: gcc (Ubuntu 11.4.0-1ubuntu1~22.04) 11.4.0 To view detailed results, visit: https://lab.dpdk.org/results/dashboard/tarballs/33475/ UNH-IOL DPDK Community Lab To manage your email subscriptions, visit: https://lab.dpdk.org/results/dashboard/preferences/subscriptions/