From mboxrd@z Thu Jan 1 00:00:00 1970 Return-Path: Received: from mails.dpdk.org (mails.dpdk.org [217.70.189.124]) by inbox.dpdk.org (Postfix) with ESMTP id E1703466F4 for ; Thu, 8 May 2025 13:18:07 +0200 (CEST) Received: from mails.dpdk.org (localhost [127.0.0.1]) by mails.dpdk.org (Postfix) with ESMTP id DC7594026C; Thu, 8 May 2025 13:18:07 +0200 (CEST) Received: from mail-pj1-f100.google.com (mail-pj1-f100.google.com [209.85.216.100]) by mails.dpdk.org (Postfix) with ESMTP id 173264026B for ; Thu, 8 May 2025 13:18:07 +0200 (CEST) Received: by mail-pj1-f100.google.com with SMTP id 98e67ed59e1d1-30a93117e1bso1089041a91.1 for ; Thu, 08 May 2025 04:18:07 -0700 (PDT) DKIM-Signature: v=1; a=rsa-sha256; c=relaxed/relaxed; d=iol.unh.edu; s=unh-iol; t=1746703086; x=1747307886; darn=dpdk.org; h=references:in-reply-to:cc:to:from:subject:message-id:date:from:to :cc:subject:date:message-id:reply-to; bh=bBR5iybK73eB7G2DaTku+xyXJpilL+IPEcOcUAmuhhw=; b=ar+hZm1N9Le0/xU5XKv1wY2xdEofZP52K+GRoUwWKB0vatXiIZk2sk7tPpsGh41/ZZ /TsS5HtfSpH82No1biFRENjrKr7kbRuyh7dCq7dJ+J6H3gSFGI7BafwxTGpo3qmXaFTk WYEl2QZdlRk00UlU8sqHi0jYwUx516Ebb9rUg= X-Google-DKIM-Signature: v=1; a=rsa-sha256; c=relaxed/relaxed; d=1e100.net; s=20230601; t=1746703086; x=1747307886; h=references:in-reply-to:cc:to:from:subject:message-id:date :x-gm-message-state:from:to:cc:subject:date:message-id:reply-to; bh=bBR5iybK73eB7G2DaTku+xyXJpilL+IPEcOcUAmuhhw=; b=WNGHAxGuFgX0eIUJXSiCt9/phXzAtUNhRCPn9RV1xAtZaj+RpH5wZAh9Hhrp3Yqx10 VHARDwkWtBaa9ch2dFZKafTEFEyV1o0fbxclIkVUZSoLk2MMxz4NUC81SfhdfzlaIxGo kX9VUAe87lPdkxxD166Dtk81Xarja3MmDjxTotuq3doryOYePIkv44GYWX1RL6qZhYSd L0vSdX5gB0AvQHkJ19nN+svmQEqVeUf3LR8qDtgoNti6VZ/DTasMz2DYY9HtAaJzVEG/ B83YmL/wtPZaaMmOeT2cRGEArj+2DAIsncib4ApCmy0pVvsZkYYl8t9dt72tKB8XoanG S6Yw== X-Gm-Message-State: AOJu0YzoQf2y5kB9zP08wGs8NdDtTMX73xllrVPVDXvk6IgRVZRxwKFy ExJrabGEhJasJhNS7ansz8yuSEIuizhjlmvQrJWk/zervYzYoEerhaVRRklbJa67bOSd2OPKbpb souLvI3ucwoiGVz9WwYgHr6WWXSX+++ADJ7ugihPh18nQSEWeEU5jzAEO X-Gm-Gg: ASbGncvvBiDmN+1+VhKjVD1Sh/id1D2YPtNCBCSUBRlNdq7BlqsCQx3+kcQBmUEqFED Bq3zUW5mwb+qjshJMaKbBxvl/ZYm2UksjGYNPjpoV8hk+DEs3/VioIGdWDTMRQIMbp0FFeetVd1 QjsQGJMGjmTuuI03AZRLMmdkorM/7WB93BTgWseLWG0N1lbFyOdqyN0XO/NZj/EgdRms6mlqD2/ spNwwKhrB4WKb3jqA1dmIOrY8hEGKRPRS03eQbsyWvFRIspDdR8MkKUl6vd57RSTcHDx8rqwi99 hRea3ldipFXF5UA9a+n5w26lwX+WtV/8nzDN X-Google-Smtp-Source: AGHT+IGqcwOVGcnBcGY9GuYE8AavMvjtiI0qWTN2/HlWw14QvDZWZHhD8aXylayBcyJJ56h1zxJDuaOeCwnm X-Received: by 2002:a17:90b:1d43:b0:2fe:a614:5cf7 with SMTP id 98e67ed59e1d1-30aac186393mr10021875a91.3.1746703086062; Thu, 08 May 2025 04:18:06 -0700 (PDT) Received: from postal.iol.unh.edu (postal.iol.unh.edu. [2606:4100:3880:1234::84]) by smtp-relay.gmail.com with ESMTPS id 98e67ed59e1d1-30ad4f473c5sm132691a91.8.2025.05.08.04.18.05 (version=TLS1_2 cipher=ECDHE-ECDSA-AES128-GCM-SHA256 bits=128/128); Thu, 08 May 2025 04:18:06 -0700 (PDT) X-Relaying-Domain: iol.unh.edu Date: Thu, 08 May 2025 04:18:06 -0700 (PDT) Message-ID: <681c92ee.170a0220.2dbb2a.6f4cSMTPIN_ADDED_MISSING@mx.google.com> Received: from [172.21.0.11] (unknown [172.18.0.240]) by postal.iol.unh.edu (Postfix) with ESMTP id 41CDF6052471; Thu, 8 May 2025 07:18:05 -0400 (EDT) Subject: |SUCCESS| pw153351-153352 [PATCH] [2/2] crypto/uadk: use async mode From: dpdklab@iol.unh.edu To: Test Report Cc: dpdk-test-reports@iol.unh.edu In-Reply-To: <20250508074119.356011-3-zhangfei.gao@linaro.org> References: <20250508074119.356011-3-zhangfei.gao@linaro.org> Content-Type: text/plain X-BeenThere: test-report@dpdk.org X-Mailman-Version: 2.1.29 Precedence: list List-Id: automatic DPDK test reports List-Unsubscribe: , List-Archive: List-Post: List-Help: List-Subscribe: , Errors-To: test-report-bounces@dpdk.org Test-Label: iol-compile-amd64-testing Test-Status: SUCCESS http://dpdk.org/patch/153352 _Testing PASS_ Submitter: Zhangfei Gao Date: Thursday, May 08 2025 07:41:19 DPDK git baseline: Repo:dpdk Branch: master CommitID:ca1690ebd224f148268285b15b97441ccdbdd07e 153351-153352 --> testing pass Upstream job id: Windows-Compile-DPDK-VS#5674 Test environment and result as below: +---------------------+--------------------+-------------------+ | Environment | dpdk_meson_compile | dpdk_msvc_compile | +=====================+====================+===================+ | Ubuntu 20.04 | PASS | SKIPPED | +---------------------+--------------------+-------------------+ | FreeBSD 13.5 | PASS | SKIPPED | +---------------------+--------------------+-------------------+ | FreeBSD 14.2 | PASS | SKIPPED | +---------------------+--------------------+-------------------+ | Windows Server 2022 | SKIPPED | PASS | +---------------------+--------------------+-------------------+ Ubuntu 20.04 Kernel: 4.19.325-0419325-generic Compiler: gcc (Ubuntu 9.4.0-1ubuntu1~20.04.2) 9.4.0 FreeBSD 13.5 Kernel: 13.5-RELEASE Compiler: clang 19.1.7 FreeBSD 14.2 Kernel: 14.2-RELEASE Compiler: clang 18.1.6 Windows Server 2022 Kernel: 10.0.20348.2031 Compiler: clang 15.0.7, gcc 14.1.0 (MinGW), and MSVC VS 19.39.33521 To view detailed results, visit: https://lab.dpdk.org/results/dashboard/patchsets/33140/ UNH-IOL DPDK Community Lab To manage your email subscriptions, visit: https://lab.dpdk.org/results/dashboard/preferences/subscriptions/