From mboxrd@z Thu Jan 1 00:00:00 1970 Return-Path: Received: from mails.dpdk.org (mails.dpdk.org [217.70.189.124]) by inbox.dpdk.org (Postfix) with ESMTP id 7E0BC466F4 for ; Thu, 8 May 2025 13:26:56 +0200 (CEST) Received: from mails.dpdk.org (localhost [127.0.0.1]) by mails.dpdk.org (Postfix) with ESMTP id 640AB4026C; Thu, 8 May 2025 13:26:56 +0200 (CEST) Received: from mail-ot1-f98.google.com (mail-ot1-f98.google.com [209.85.210.98]) by mails.dpdk.org (Postfix) with ESMTP id 47A6A4026B for ; Thu, 8 May 2025 13:26:55 +0200 (CEST) Received: by mail-ot1-f98.google.com with SMTP id 46e09a7af769-73044329768so669672a34.3 for ; Thu, 08 May 2025 04:26:55 -0700 (PDT) DKIM-Signature: v=1; a=rsa-sha256; c=relaxed/relaxed; d=iol.unh.edu; s=unh-iol; t=1746703614; x=1747308414; darn=dpdk.org; h=cc:to:from:subject:message-id:date:from:to:cc:subject:date :message-id:reply-to; bh=f5CDaAH6hdPYfw6oa0L0L/rL8NGQiRELEbDmSZBNqOQ=; b=CSXYML1qFJZt3ml/zIT1PpcjsEAYprbnvjhu+6NOYLzpqOZ9pdCQmbuyYJRbjjyA6g fuG77+71ytJMCdwLtS3PdLVYV46/lJGbeljUnauoinHli1tluVOXywJjgALn4XydBrvk /gMD9PGwyYai92F/NFrlF/UsIM4CGuk9+8Ju4= X-Google-DKIM-Signature: v=1; a=rsa-sha256; c=relaxed/relaxed; d=1e100.net; s=20230601; t=1746703614; x=1747308414; h=cc:to:from:subject:message-id:date:x-gm-message-state:from:to:cc :subject:date:message-id:reply-to; bh=f5CDaAH6hdPYfw6oa0L0L/rL8NGQiRELEbDmSZBNqOQ=; b=PCSwaoz2xjJNh+6XIDd7RsQ0nP0NpMJSUzDebLtCTl8O/zfpRDFPp0kXKa2TICvMbz Dc1GSuisjGD2WAo2pTwnwQPCRi7XtlY4qRkoPB50Hp7axiZBA8D/6O33oSj4otGh7CYw UOyfWXKJOSdePcXu7g1sZlB0M3c28Yx6uINKSpR7ffMjYXOToUl6Qu59oC7lGXJBc9Y3 4jXb2sli5eUfSB3hb7CrxHxOILprHWzfnfYeU5lSgJn7584OppJGJ7FdYas25i07wMvW xDvwcpGCJyh1lGLQDh4NF+ygw/Sg3CEJtk/P4/tD+Ls595Mxarij8MtP5WGWFzpp8mY3 pZNQ== X-Gm-Message-State: AOJu0Yz9qlGzqJz/tZjm3zoRSDN4+M7bnPKGDCusXZLjaRSNnXs72mG9 NB8ZdcNYhpW32UMoGISsH9Gb6jJtCTww+ku+z8Darr17RPw02qEE83oaHthzDuVVyY6pAwV1zaB rzkIZX+y/K6o5lbo9tb/H2Idg14jB3vtK X-Gm-Gg: ASbGnctqCJ5JaUwsiv1W/p1NYsU5PTkAOWg5ESjOGgOjtcBzuZoA6URfl7RY63s9XoQ I/q0xKw0bvgFQSZtUr7fjU1tuuzZlTMJx86PtXE5u1+Z9xMeRHh8r7lt2Td5rLG81S6snpI8V4j jEwtUcfKSADx07uxGZRGRgvL9NsydT00lvb7QHCXEBHxZWpQtlsfcIxs/ZRzR+cLFoHLh52tWFf 7kKQouNMOEEZj+gB5QkTZKCE6Ut1336MUXG+ALN4roUXLt2ZYbOc608bFRKtMmAfxh3zkzQXwKy 1ArEySi5HuT5Lzdf+Or7ymwVX3OrgBM678gpBGOCy2LesQEPOcgc0WMgocU= X-Google-Smtp-Source: AGHT+IEeT/YBH5XoWlKJv6k+2VfDVHcVPD2pfL71ZgPMVxpw3yTwIA66/Fouj5oOzHAvT+kdnvFkkNveMYJe X-Received: by 2002:a05:6870:96a9:b0:2c2:1421:b30f with SMTP id 586e51a60fabf-2db81904e11mr1838469fac.26.1746703614250; Thu, 08 May 2025 04:26:54 -0700 (PDT) Received: from postal.iol.unh.edu (postal.iol.unh.edu. [132.177.123.84]) by smtp-relay.gmail.com with ESMTPS id 586e51a60fabf-2db5d0d1318sm212318fac.39.2025.05.08.04.26.54 (version=TLS1_2 cipher=ECDHE-ECDSA-AES128-GCM-SHA256 bits=128/128); Thu, 08 May 2025 04:26:54 -0700 (PDT) X-Relaying-Domain: iol.unh.edu Date: Thu, 08 May 2025 04:26:54 -0700 (PDT) Message-ID: <681c94fe.050a0220.24bf85.b84cSMTPIN_ADDED_MISSING@mx.google.com> Received: from [172.21.0.5] (unknown [172.18.0.240]) by postal.iol.unh.edu (Postfix) with ESMTP id 9BC446052471; Thu, 8 May 2025 07:26:53 -0400 (EDT) Subject: |SUCCESS| [GIT MASTER] 4401486b5e30d43a134f80f9802f60b5f43e74a8 From: dpdklab@iol.unh.edu To: Test Report Cc: dpdk-test-reports@iol.unh.edu, Xueming Li , Christian Ehrhardt , Kevin Traynor , Luca Boccassi Content-Type: text/plain X-BeenThere: test-report@dpdk.org X-Mailman-Version: 2.1.29 Precedence: list List-Id: automatic DPDK test reports List-Unsubscribe: , List-Archive: List-Post: List-Help: List-Subscribe: , Errors-To: test-report-bounces@dpdk.org _Testing PASS_ Branch: tags/v22.11 4401486b5e30d43a134f80f9802f60b5f43e74a8 --> testing pass Upstream job id: Generic-DPDK-Compile-Meson#386384 Test environment and result as below: +------------------------------------+--------------------+ | Environment | dpdk_meson_compile | +====================================+====================+ | RHEL9 (ARM) | PASS | +------------------------------------+--------------------+ | Ubuntu 20.04 ARM SVE | PASS | +------------------------------------+--------------------+ | Ubuntu 20.04 ARM GCC Cross Compile | PASS | +------------------------------------+--------------------+ | Debian 12 with MUSDK | PASS | +------------------------------------+--------------------+ | Fedora 41 (ARM Clang) | PASS | +------------------------------------+--------------------+ | Ubuntu 22.04 (ARM) | PASS | +------------------------------------+--------------------+ | Fedora 41 (ARM) | PASS | +------------------------------------+--------------------+ | Fedora 40 (ARM) | PASS | +------------------------------------+--------------------+ | Ubuntu 20.04 (ARM) | PASS | +------------------------------------+--------------------+ | Fedora 40 (ARM Clang) | PASS | +------------------------------------+--------------------+ | CentOS Stream 10 (ARM) | PASS | +------------------------------------+--------------------+ | Ubuntu 24.04 (ARM) | PASS | +------------------------------------+--------------------+ | Debian 12 (arm) | PASS | +------------------------------------+--------------------+ | CentOS Stream 9 (ARM) | PASS | +------------------------------------+--------------------+ RHEL9 (ARM) Kernel: Depends on container host Compiler: gcc 11.5.0 20240719 (Red Hat 11.5.0-2) Ubuntu 20.04 ARM SVE Kernel: Depends on container host Compiler: gcc (Ubuntu 10.5.0-1ubuntu1~20.04) 10.5.0 Ubuntu 20.04 ARM GCC Cross Compile Kernel: Depends on container host Compiler: aarch64-linux-gnu-gcc (Ubuntu 9.4.0-1ubuntu1~20.04.2) 9.4.0 Debian 12 with MUSDK Kernel: Depends on container host Compiler: gcc (Debian 12.2.0-14) 12.2.0 Fedora 41 (ARM Clang) Kernel: Depends on container host Compiler: clang 19.1.5 (Fedora 19.1.5-1.fc41) Ubuntu 22.04 (ARM) Kernel: Depends on container host Compiler: gcc (Ubuntu 11.4.0-1ubuntu1~22.04) 11.4.0 Fedora 41 (ARM) Kernel: Depends on container host Compiler: gcc 14.2.1 20240912 (Red Hat 14.2.1-3) Fedora 40 (ARM) Kernel: Depends on container host Compiler: gcc 14.2.1 20240912 (Red Hat 14.2.1-3) Ubuntu 20.04 (ARM) Kernel: Depends on container host Compiler: gcc (Ubuntu 9.4.0-1ubuntu1~20.04.2) 9.4.0 Fedora 40 (ARM Clang) Kernel: Depends on container host Compiler: clang 18.1.8 (Fedora 18.1.8-1.fc40) CentOS Stream 10 (ARM) Kernel: Depends on container host Compiler: gcc 14.2.1 20241104 (Red Hat 14.2.1-6) Ubuntu 24.04 (ARM) Kernel: Depends on container host Compiler: gcc (Ubuntu 13.3.0-6ubuntu2~24.04) 13.3.0 Debian 12 (arm) Kernel: Depends on container host Compiler: gcc (Debian 12.2.0-14) 12.2.0 CentOS Stream 9 (ARM) Kernel: Depends on container host Compiler: gcc 11.5.0 20240719 (Red Hat 11.5.0-2) To view detailed results, visit: https://lab.dpdk.org/results/dashboard/tarballs/33475/ UNH-IOL DPDK Community Lab To manage your email subscriptions, visit: https://lab.dpdk.org/results/dashboard/preferences/subscriptions/