From mboxrd@z Thu Jan 1 00:00:00 1970 Return-Path: Received: from mails.dpdk.org (mails.dpdk.org [217.70.189.124]) by inbox.dpdk.org (Postfix) with ESMTP id BD489466F4 for ; Thu, 8 May 2025 13:33:16 +0200 (CEST) Received: from mails.dpdk.org (localhost [127.0.0.1]) by mails.dpdk.org (Postfix) with ESMTP id B7D5F4026C; Thu, 8 May 2025 13:33:16 +0200 (CEST) Received: from mail-yw1-f226.google.com (mail-yw1-f226.google.com [209.85.128.226]) by mails.dpdk.org (Postfix) with ESMTP id D54A04026B for ; Thu, 8 May 2025 13:33:15 +0200 (CEST) Received: by mail-yw1-f226.google.com with SMTP id 00721157ae682-70a2b85aeb7so7197887b3.1 for ; Thu, 08 May 2025 04:33:15 -0700 (PDT) DKIM-Signature: v=1; a=rsa-sha256; c=relaxed/relaxed; d=iol.unh.edu; s=unh-iol; t=1746703995; x=1747308795; darn=dpdk.org; h=references:in-reply-to:cc:to:from:subject:message-id:date:from:to :cc:subject:date:message-id:reply-to; bh=UfdzxZ7hdQG2Szy1Ocdg5nvzaRX9RQLfWwp136rDfoU=; b=d5+0TB6yPwRGt2ITaCt5tm2H5Zuv5AmD+3yVIfe38sKYFehGlD+sm3s7bQX78ccL77 qxtGBOC0Y9nP2G4PoQt2pTTGfj4jcPWEyxReMsOzNAf0WBj/x/sbTMMvbNWeJS3rav9E JQ/B8pZiQ0Wn6M8tsLKBBw+d9e4nJxQ05W4YM= X-Google-DKIM-Signature: v=1; a=rsa-sha256; c=relaxed/relaxed; d=1e100.net; s=20230601; t=1746703995; x=1747308795; h=references:in-reply-to:cc:to:from:subject:message-id:date :x-gm-message-state:from:to:cc:subject:date:message-id:reply-to; bh=UfdzxZ7hdQG2Szy1Ocdg5nvzaRX9RQLfWwp136rDfoU=; b=HHPbXugZbVaq0sA+iWvXg+IPmkG3ok/2Z0MeFw87ePgWpvBdbS6XD4V3JiK4dhIBPk yG+ba8gpMAtDKJBjvUSaNYk8VGaK+SMDePaXi7cq8EVsuM+Iw5aPTlzcQd6K4c6bIzkH iVw7gyeUD0rd2B09vK/Pl3GX5kwSj4HIXatQ8qjU9TjDeOLA4QcAtWbLpPNIcCjtHZ4v lsSRg0zu3+Ywu656SnQ+mEKhAJImZYVEYKVZDpB23CDbI55i+fp66pGVFl5gIUrSY8yr v2pRCdOu3prOrfbN3bTnEyfun3JahrD+YLIxoMYyZzIqgaA67HKrXdV8qWCh7kw/MDc/ h6jQ== X-Gm-Message-State: AOJu0YwQ/R8DZ13iASs/vKXwNb1EUA+/EuuV8k3F3ZqB2Q4MHdLXfNNI uICwA64Aru0Xhx5zMQxzmUj9w1xRUKA8VWQ194wGhYiZs9og0XB7+qlTYRsbDePDa0kIhFDlJr7 gGbCHCH8ubBQh2hqUtwhImo5M2WwKg5QwOpcIcsOS X-Gm-Gg: ASbGncukoTrks43RvNeDBnERjJo7bz1QjLM40LFbmgVDpxYb91NF7SRM+QzVgR3T3+T CIl7Nb9tXOipREHDx0Ajy0TMgX6TwojoHpRG1hHXtYYNW59dx+aoJ7PkVYPFqabGQxxml9Mbufp 8BPwpnbxCs/esVEr5ygO4q3yrnMkU31e+bSIut8p4zBa/p3nUOeZfreksPstmkoCVv9QthrORQR w5iq/3xXrvjL58VXlFrid44MWYIzs5wFf0FQcJYV88VUPt7fjvDgnS7YfxTki5O6fRPepKJrHAR RS8GxTI+0cPO/6XOVEb8enVgSL7jHrDl1jLpM1G+bPXo62f8w3SsUlvPVr4= X-Google-Smtp-Source: AGHT+IFKmhxI+emQSTFjxem++oi7XKVMZqU5CEblsg8jCmtxCuV2IZ2Xs8mEN7Dr/p88TYQJvDKt3hFWjb3u X-Received: by 2002:a05:690c:67c4:b0:708:cc77:8c31 with SMTP id 00721157ae682-70a1d9f51cemr91372067b3.10.1746703995259; Thu, 08 May 2025 04:33:15 -0700 (PDT) Received: from postal.iol.unh.edu (postal.iol.unh.edu. [132.177.123.84]) by smtp-relay.gmail.com with ESMTPS id 00721157ae682-708c3f11b61sm21057207b3.8.2025.05.08.04.33.15 (version=TLS1_2 cipher=ECDHE-ECDSA-AES128-GCM-SHA256 bits=128/128); Thu, 08 May 2025 04:33:15 -0700 (PDT) X-Relaying-Domain: iol.unh.edu Date: Thu, 08 May 2025 04:33:15 -0700 (PDT) Message-ID: <681c967b.050a0220.fcadc.9aceSMTPIN_ADDED_MISSING@mx.google.com> Received: from [172.21.0.6] (unknown [172.18.0.240]) by postal.iol.unh.edu (Postfix) with ESMTP id D258B6052471; Thu, 8 May 2025 07:33:14 -0400 (EDT) Subject: |SUCCESS| pw153343-153345 [PATCH] [v5,3/3] app/testpmd: add sleep co From: dpdklab@iol.unh.edu To: Test Report Cc: dpdk-test-reports@iol.unh.edu In-Reply-To: <4674606a09d854277ac01b0ccd86a4eb559e565f.1746631324.git.anatoly.burakov@intel.com> References: <4674606a09d854277ac01b0ccd86a4eb559e565f.1746631324.git.anatoly.burakov@intel.com> Content-Type: text/plain X-BeenThere: test-report@dpdk.org X-Mailman-Version: 2.1.29 Precedence: list List-Id: automatic DPDK test reports List-Unsubscribe: , List-Archive: List-Post: List-Help: List-Subscribe: , Errors-To: test-report-bounces@dpdk.org Test-Label: iol-sample-apps-testing Test-Status: SUCCESS http://dpdk.org/patch/153345 _Testing PASS_ Submitter: Burakov, Anatoly Date: Wednesday, May 07 2025 15:22:12 DPDK git baseline: Repo:dpdk Branch: master CommitID:75f179ebe347b6098cf3af26d3d3b7168fe3fe24 153343-153345 --> testing pass Upstream job id: ACVP-FIPS-testing#9752 Test environment and result as below: +--------------------+----------------------+----------------------+ | Environment | compressdev_zlib_pmd | dpdk_fips_validation | +====================+======================+======================+ | Ubuntu 22.04 (ARM) | PASS | SKIPPED | +--------------------+----------------------+----------------------+ | Ubuntu 22.04 | PASS | SKIPPED | +--------------------+----------------------+----------------------+ | Ubuntu 20.04 | SKIPPED | PASS | +--------------------+----------------------+----------------------+ Ubuntu 22.04 (ARM) Kernel: 5.15.0-97-generic Compiler: gcc gcc (Ubuntu 11.4.0-1ubuntu1~22.04) 11.4.0 Ubuntu 22.04 Kernel: 5.15.0-100-generic Compiler: gcc gcc (Ubuntu 11.4.0-1ubuntu1~22.04) 11.4.0 Ubuntu 20.04 Kernel: Depends on container host Compiler: gcc (Ubuntu 9.4.0-1ubuntu1~20.04.2) 9.4.0 To view detailed results, visit: https://lab.dpdk.org/results/dashboard/patchsets/33134/ UNH-IOL DPDK Community Lab To manage your email subscriptions, visit: https://lab.dpdk.org/results/dashboard/preferences/subscriptions/