From mboxrd@z Thu Jan 1 00:00:00 1970 Return-Path: Received: from mails.dpdk.org (mails.dpdk.org [217.70.189.124]) by inbox.dpdk.org (Postfix) with ESMTP id 24312466F4 for ; Thu, 8 May 2025 13:55:14 +0200 (CEST) Received: from mails.dpdk.org (localhost [127.0.0.1]) by mails.dpdk.org (Postfix) with ESMTP id EFBA64026C; Thu, 8 May 2025 13:55:13 +0200 (CEST) Received: from mail-il1-f225.google.com (mail-il1-f225.google.com [209.85.166.225]) by mails.dpdk.org (Postfix) with ESMTP id BD8044026B for ; Thu, 8 May 2025 13:55:12 +0200 (CEST) Received: by mail-il1-f225.google.com with SMTP id e9e14a558f8ab-3d81ca1d436so7090435ab.2 for ; Thu, 08 May 2025 04:55:12 -0700 (PDT) DKIM-Signature: v=1; a=rsa-sha256; c=relaxed/relaxed; d=iol.unh.edu; s=unh-iol; t=1746705312; x=1747310112; darn=dpdk.org; h=references:in-reply-to:cc:to:from:subject:message-id:date:from:to :cc:subject:date:message-id:reply-to; bh=F+wjne/bUqqvM7Yd9bLsKMor3XklT4cnvPbO8yweNOc=; b=fO6sIYfpnSHBxyreb6okBiK7Wm8N32xgyJKBVvs1YzK0ySqGIzCVQKqQundwqeE3j9 ZoEczd8dlNrZWJV77p4KlZMC4GiRmOIeEkxGkydQhMzSz7WfAb+kN4mCkwXMxpHkYz6C icbQQ4DzxxUezzhxco/DaByEvpE46VABWG8Cg= X-Google-DKIM-Signature: v=1; a=rsa-sha256; c=relaxed/relaxed; d=1e100.net; s=20230601; t=1746705312; x=1747310112; h=references:in-reply-to:cc:to:from:subject:message-id:date :x-gm-message-state:from:to:cc:subject:date:message-id:reply-to; bh=F+wjne/bUqqvM7Yd9bLsKMor3XklT4cnvPbO8yweNOc=; b=GzmntHDGABcISO3PMWMV+6H+s2fF3oe0XC+alWBYt0HuKsLjZD811Sqb9rCeNS2gbP ZZ42ouEqyx1CzQEfRo6GAHS7qiPuFJFls752QYsOE/5WvRzAssQHPMFSXDdUgSRpJvt3 NVlIfNPErrweQemgUk81uP+1jSZ6E7uipAf/NNOUo+22Ru50sgFUkDPwezSyaVWOVeY6 MFbzI9hZZJnQuhGtQylR5LLnfJ540zxF8ulxQ2U5WyjaEbna2PkVK8YQ/c3FIKF0cp/2 xzQBP4WM5EJmVrIMJk7Sthpyt6TSTKjh3imlp59O0kUubqFyKYK5/Ed0+8WFlWAsYi6H nYNg== X-Gm-Message-State: AOJu0YxNAjCQJve482yZdQiA8lbjIGgiZamBrYuBn6wmuPF0Cv0TmY1o h4SvTZZXkIS3pURe7kwWoBGzZRtPPh9EAIwjQDZl96Ka6MMZmQNp1K+OuteTidWGAc255UFxDpd ywU337zakxhTr5SPdgfpz7Wlh8HzRGZT/G/WtiJqcNlGRqkpmPhWMOhCG X-Gm-Gg: ASbGncvcZ//hsnP8+iYymM6E5qeYbE+LNf8dPSLcI+2xvoRKvMOQzo3+4/LRWm8tJmc myLW8pM2opO7szO8x5sX7rdXpXDEqbc2Q3/9NKg5uRbNUzrlw6l6SyEJhufCwFsLVE/Me0U7Ri3 aI1IFDV4YcrrRiXLYr03pGp2PF8k87MZ0IpPlmV0kr4K0Uq+Eu9OArN0nk8ylap1S97A+n6IskB aN/hmObuUsIJyqzVoN5JmH/Wf0OI/ksSmqjmmYTZZpyOOBV1Bo4zco8X2s1g+naU/qb3A5yZIqo u95J9cDofVBrgOGAvzFupYC5jbQP9fWPZ+ir X-Google-Smtp-Source: AGHT+IGuof+OAwR5E6nE0G6rqk7jF8LrUKKC/wBWg0bo5DGHxxsoYZF6ZJ045A+S+1kGUaDrGaWGFVIiSqEU X-Received: by 2002:a05:6e02:1748:b0:3d3:d00c:3602 with SMTP id e9e14a558f8ab-3da738f99a1mr75321955ab.10.1746705311904; Thu, 08 May 2025 04:55:11 -0700 (PDT) Received: from postal.iol.unh.edu (postal.iol.unh.edu. [2606:4100:3880:1234::84]) by smtp-relay.gmail.com with ESMTPS id e9e14a558f8ab-3d975f6cd1bsm24381555ab.52.2025.05.08.04.55.11 (version=TLS1_2 cipher=ECDHE-ECDSA-AES128-GCM-SHA256 bits=128/128); Thu, 08 May 2025 04:55:11 -0700 (PDT) X-Relaying-Domain: iol.unh.edu Date: Thu, 08 May 2025 04:55:11 -0700 (PDT) Message-ID: <681c9b9f.050a0220.890dc.7334SMTPIN_ADDED_MISSING@mx.google.com> Received: from [172.21.0.6] (unknown [172.18.0.240]) by postal.iol.unh.edu (Postfix) with ESMTP id 791966052471; Thu, 8 May 2025 07:55:11 -0400 (EDT) Subject: |SUCCESS| pw153348 [PATCH] build: fix disabling developer mode From: dpdklab@iol.unh.edu To: Test Report Cc: dpdk-test-reports@iol.unh.edu In-Reply-To: <20250508044230.133966-1-david.marchand@redhat.com> References: <20250508044230.133966-1-david.marchand@redhat.com> Content-Type: text/plain X-BeenThere: test-report@dpdk.org X-Mailman-Version: 2.1.29 Precedence: list List-Id: automatic DPDK test reports List-Unsubscribe: , List-Archive: List-Post: List-Help: List-Subscribe: , Errors-To: test-report-bounces@dpdk.org Test-Label: iol-abi-testing Test-Status: SUCCESS http://dpdk.org/patch/153348 _Testing PASS_ Submitter: David Marchand Date: Thursday, May 08 2025 04:42:29 DPDK git baseline: Repo:dpdk Branch: master CommitID:4029c5e3f2c6e950e8579be2401dab12e4209d53 153348 --> testing pass Upstream job id: Generic-DPDK-Compile-ABI#125754 Test environment and result as below: +-------------------+----------+ | Environment | abi_test | +===================+==========+ | CentOS Stream 9 | PASS | +-------------------+----------+ | Fedora 40 | PASS | +-------------------+----------+ | Debian 12 | PASS | +-------------------+----------+ | CentOS Stream 10 | PASS | +-------------------+----------+ | Fedora 40 (Clang) | PASS | +-------------------+----------+ | openSUSE Leap 15 | PASS | +-------------------+----------+ | Fedora 41 | PASS | +-------------------+----------+ | RHEL8 | PASS | +-------------------+----------+ | Fedora 41 (Clang) | PASS | +-------------------+----------+ | Ubuntu 24.04 | PASS | +-------------------+----------+ | Ubuntu 22.04 | PASS | +-------------------+----------+ | RHEL9 | PASS | +-------------------+----------+ CentOS Stream 9 Kernel: Depends on container host Compiler: gcc 11.5.0 20240719 (Red Hat 11.5.0-2) Fedora 40 Kernel: Depends on container host Compiler: gcc 14.2.1 20240912 (Red Hat 14.2.1-3) Debian 12 Kernel: Depends on container host Compiler: gcc (Debian 12.2.0-14) 12.2.0 CentOS Stream 10 Kernel: Depends on container host Compiler: gcc 14.2.1 20241104 (Red Hat 14.2.1-6) Fedora 40 (Clang) Kernel: Depends on container host Compiler: clang 18.1.8 (Fedora 18.1.8-1.fc40) openSUSE Leap 15 Kernel: Depends on container host Compiler: gcc (SUSE Linux) 7.5.0 Fedora 41 Kernel: Depends on container host Compiler: gcc 14.2.1 20240912 (Red Hat 14.2.1-3) RHEL8 Kernel: Depends on container host Compiler: gcc 8.5.0 20210514 (Red Hat 8.5.0-22) Fedora 41 (Clang) Kernel: Depends on container host Compiler: clang 19.1.5 (Fedora 19.1.5-1.fc41) Ubuntu 24.04 Kernel: Depends on container host Compiler: gcc (Ubuntu 13.3.0-6ubuntu2~24.04) 13.3.0 Ubuntu 22.04 Kernel: Depends on container host Compiler: gcc (Ubuntu 11.4.0-1ubuntu1~22.04) 11.4.0 RHEL9 Kernel: Depends on container host Compiler: gcc 11.5.0 20240719 (Red Hat 11.5.0-2) To view detailed results, visit: https://lab.dpdk.org/results/dashboard/patchsets/33137/ UNH-IOL DPDK Community Lab To manage your email subscriptions, visit: https://lab.dpdk.org/results/dashboard/preferences/subscriptions/