From mboxrd@z Thu Jan 1 00:00:00 1970 Return-Path: Received: from mails.dpdk.org (mails.dpdk.org [217.70.189.124]) by inbox.dpdk.org (Postfix) with ESMTP id CCCA3466F6 for ; Thu, 8 May 2025 14:55:34 +0200 (CEST) Received: from mails.dpdk.org (localhost [127.0.0.1]) by mails.dpdk.org (Postfix) with ESMTP id A31F84026C; Thu, 8 May 2025 14:55:34 +0200 (CEST) Received: from mail-oo1-f97.google.com (mail-oo1-f97.google.com [209.85.161.97]) by mails.dpdk.org (Postfix) with ESMTP id A2A234026B for ; Thu, 8 May 2025 14:55:33 +0200 (CEST) Received: by mail-oo1-f97.google.com with SMTP id 006d021491bc7-601ad30bc0cso1319897eaf.0 for ; Thu, 08 May 2025 05:55:33 -0700 (PDT) DKIM-Signature: v=1; a=rsa-sha256; c=relaxed/relaxed; d=iol.unh.edu; s=unh-iol; t=1746708932; x=1747313732; darn=dpdk.org; h=references:in-reply-to:cc:to:from:subject:message-id:date:from:to :cc:subject:date:message-id:reply-to; bh=Er8/1nm/LnSwc30VRQxjgUAjvLe1fh5X03WZ0kpqf6Q=; b=RnpJmRsfcsl211BWaAOyjO6SIPfGLT5YW15iUW43T/vsrczTl2uN/9ZKpRbcsvBeQ8 mg2ZmQhHa2GkZjqpaNBTkV559oj/mbI4sADY8IL9HY8aeHDHpokHfoPzHHcWmbpc7GnS gKAwh2rNpn74uCOb1Lu+fSyZx5z09Cs3/49OU= X-Google-DKIM-Signature: v=1; a=rsa-sha256; c=relaxed/relaxed; d=1e100.net; s=20230601; t=1746708932; x=1747313732; h=references:in-reply-to:cc:to:from:subject:message-id:date :x-gm-message-state:from:to:cc:subject:date:message-id:reply-to; bh=Er8/1nm/LnSwc30VRQxjgUAjvLe1fh5X03WZ0kpqf6Q=; b=Tmx4dlarwyPCUBi/gf4r0FMzJ6WSac8CI80CbnIYeV0nuq8xj18NI/B838i+9A86oi 09484iS5LP096qZA7CjWj+d2NRAce/AiWiZzY+3DBmzb+RM8N0sWv3ZD5Lw5dyVzlrbz v/1DGz7j4M6/gNpxukJFjhB8f/TivRQ4QJvnFoqSu0bh1tjIcWGouszmiqExFJn2D/UE GK1XleAxzB4/AGGt0aJl6kK5jdMCce15pC4WUJSR1uAjlg1lpElycPTq+vTGFZezXeKF ToT1tuLx6Hgf2N9YrLpMxfxPMkA+ulIlH/PQlLFyhqKRzDYd8GsX/WaZIRHzUB3mL3+f T6Ag== X-Gm-Message-State: AOJu0YwF0STOYADb6fqUrPinh0GzC330jEOB+Pitvj6E8n3U/mNUy7C0 ShGeulSxAmDONlMzjU18En7nWshcFozMI9L6i12E3hKFfarepUy3um4t8RLJ93x/pTCNZvhIeuo 5dliR+ZcUZhS8JWoiEwG76x/Kzosgaqh/l3ItYU+n X-Gm-Gg: ASbGncsEQgqKKGPyHQEPgXnid6u+93edGupXjxHcqAz7oQllddUJitAFLV0p6z6Eq4Q eQr45/NCH21xSgErv8jpcrRnclYpuh6272W1Vbt/fPSp69l9li5iO2N7MTMtpI8RXhm1APMS/zI +eUtKijE4nfddpgobS38OzXRkY1n9WLXh5hN7ogLWGYkXnK4BuDeyuBSzsWOpI4NYeFxOkupyEw eckn1u08XGZK8xU+FVqOb++QgnKrfNplDnbbuexFOVH9nBedpG/Za5KIKSFkP7aDEF7tLAx1M6l XRi9K9ZmotxHo3sY4S1uhD2YiptgrCjXtwdRxOMiHS1m2eWg8AWxNKl7zao= X-Google-Smtp-Source: AGHT+IHtiFY/I7IX8551udJ5mFKXv+0xPVuiOE6oTMZH0lblruXgd7lpBfDS1R1CZURFqXiDBQGsL2PARRTz X-Received: by 2002:a05:6871:1cc:b0:2cb:d32f:2f18 with SMTP id 586e51a60fabf-2db80b7a409mr2125770fac.16.1746708932573; Thu, 08 May 2025 05:55:32 -0700 (PDT) Received: from postal.iol.unh.edu (postal.iol.unh.edu. [132.177.123.84]) by smtp-relay.gmail.com with ESMTPS id 586e51a60fabf-2db5cc02238sm214974fac.14.2025.05.08.05.55.32 (version=TLS1_2 cipher=ECDHE-ECDSA-AES128-GCM-SHA256 bits=128/128); Thu, 08 May 2025 05:55:32 -0700 (PDT) X-Relaying-Domain: iol.unh.edu Date: Thu, 08 May 2025 05:55:32 -0700 (PDT) Message-ID: <681ca9c4.050a0220.15e51b.b4dfSMTPIN_ADDED_MISSING@mx.google.com> Received: from [172.21.0.5] (unknown [172.18.0.240]) by postal.iol.unh.edu (Postfix) with ESMTP id BAE626052471; Thu, 8 May 2025 08:55:31 -0400 (EDT) Subject: |SUCCESS| pw153351-153352 [PATCH] [2/2] crypto/uadk: use async mode From: dpdklab@iol.unh.edu To: Test Report Cc: dpdk-test-reports@iol.unh.edu In-Reply-To: <20250508074119.356011-3-zhangfei.gao@linaro.org> References: <20250508074119.356011-3-zhangfei.gao@linaro.org> Content-Type: text/plain X-BeenThere: test-report@dpdk.org X-Mailman-Version: 2.1.29 Precedence: list List-Id: automatic DPDK test reports List-Unsubscribe: , List-Archive: List-Post: List-Help: List-Subscribe: , Errors-To: test-report-bounces@dpdk.org Test-Label: iol-abi-testing Test-Status: SUCCESS http://dpdk.org/patch/153352 _Testing PASS_ Submitter: Zhangfei Gao Date: Thursday, May 08 2025 07:41:19 DPDK git baseline: Repo:dpdk Branch: master CommitID:ca1690ebd224f148268285b15b97441ccdbdd07e 153351-153352 --> testing pass Upstream job id: Generic-DPDK-Compile-ABI#125767 Test environment and result as below: +-------------------+----------+ | Environment | abi_test | +===================+==========+ | CentOS Stream 9 | PASS | +-------------------+----------+ | CentOS Stream 10 | PASS | +-------------------+----------+ | Fedora 40 (Clang) | PASS | +-------------------+----------+ | Debian 12 | PASS | +-------------------+----------+ | Fedora 41 (Clang) | PASS | +-------------------+----------+ | Fedora 41 | PASS | +-------------------+----------+ | openSUSE Leap 15 | PASS | +-------------------+----------+ | RHEL8 | PASS | +-------------------+----------+ | RHEL9 | PASS | +-------------------+----------+ | Ubuntu 24.04 | PASS | +-------------------+----------+ | Ubuntu 22.04 | PASS | +-------------------+----------+ | Fedora 40 | PASS | +-------------------+----------+ CentOS Stream 9 Kernel: Depends on container host Compiler: gcc 11.5.0 20240719 (Red Hat 11.5.0-2) CentOS Stream 10 Kernel: Depends on container host Compiler: gcc 14.2.1 20241104 (Red Hat 14.2.1-6) Fedora 40 (Clang) Kernel: Depends on container host Compiler: clang 18.1.8 (Fedora 18.1.8-1.fc40) Debian 12 Kernel: Depends on container host Compiler: gcc (Debian 12.2.0-14) 12.2.0 Fedora 41 (Clang) Kernel: Depends on container host Compiler: clang 19.1.5 (Fedora 19.1.5-1.fc41) Fedora 41 Kernel: Depends on container host Compiler: gcc 14.2.1 20240912 (Red Hat 14.2.1-3) openSUSE Leap 15 Kernel: Depends on container host Compiler: gcc (SUSE Linux) 7.5.0 RHEL8 Kernel: Depends on container host Compiler: gcc 8.5.0 20210514 (Red Hat 8.5.0-22) RHEL9 Kernel: Depends on container host Compiler: gcc 11.5.0 20240719 (Red Hat 11.5.0-2) Ubuntu 24.04 Kernel: Depends on container host Compiler: gcc (Ubuntu 13.3.0-6ubuntu2~24.04) 13.3.0 Ubuntu 22.04 Kernel: Depends on container host Compiler: gcc (Ubuntu 11.4.0-1ubuntu1~22.04) 11.4.0 Fedora 40 Kernel: Depends on container host Compiler: gcc 14.2.1 20240912 (Red Hat 14.2.1-3) To view detailed results, visit: https://lab.dpdk.org/results/dashboard/patchsets/33140/ UNH-IOL DPDK Community Lab To manage your email subscriptions, visit: https://lab.dpdk.org/results/dashboard/preferences/subscriptions/