From mboxrd@z Thu Jan 1 00:00:00 1970 Return-Path: Received: from mails.dpdk.org (mails.dpdk.org [217.70.189.124]) by inbox.dpdk.org (Postfix) with ESMTP id BE43E466F6 for ; Thu, 8 May 2025 14:55:54 +0200 (CEST) Received: from mails.dpdk.org (localhost [127.0.0.1]) by mails.dpdk.org (Postfix) with ESMTP id B65FE4026C; Thu, 8 May 2025 14:55:54 +0200 (CEST) Received: from mail-io1-f100.google.com (mail-io1-f100.google.com [209.85.166.100]) by mails.dpdk.org (Postfix) with ESMTP id D30F44026B for ; Thu, 8 May 2025 14:55:53 +0200 (CEST) Received: by mail-io1-f100.google.com with SMTP id ca18e2360f4ac-86192b64d0bso72708239f.3 for ; Thu, 08 May 2025 05:55:53 -0700 (PDT) DKIM-Signature: v=1; a=rsa-sha256; c=relaxed/relaxed; d=iol.unh.edu; s=unh-iol; t=1746708953; x=1747313753; darn=dpdk.org; h=cc:to:from:subject:message-id:date:from:to:cc:subject:date :message-id:reply-to; bh=fCTghKwZSM21NXxeIe31ydYNEsr9bD3LQhoJSFHuMH0=; b=KpAjslk+YBPCVQuLTn86/OipD98LBZlt+OyHXICb7Kylpv0G5XNhSvpeN2aMXKAIZH wUj3QNjkhUPixRPjhYAenxGJSJmCd0rGrDLhReCU8r43MvP9IbobeYdn/y0tRNQ17avL qWaHqULtbGj6N9uDUw/6+O3Ak9OCDCyv6yWVg= X-Google-DKIM-Signature: v=1; a=rsa-sha256; c=relaxed/relaxed; d=1e100.net; s=20230601; t=1746708953; x=1747313753; h=cc:to:from:subject:message-id:date:x-gm-message-state:from:to:cc :subject:date:message-id:reply-to; bh=fCTghKwZSM21NXxeIe31ydYNEsr9bD3LQhoJSFHuMH0=; b=caEsDiaEx8ssGuT4n7M/YWcpQg4Shp4Cs6yVH5UysaGLPe6keI2Zhe1RM+1zPCPSDu Eg5cYuqrhkEA4HkT5S4eyMyjrIOLxpe4usHxcb25/sPLY2uO92FJHiXHL9Q5eGna11k2 6UXQ1iYZ7fQ/wF/wZqWxEqTdwv6yjK2/MQTDJVZuLtTSo8yNuaIuH4FzBGgJ7lDNJKOB eCMhnyjmFYHMs0eJ8FKqueJBTZV32E2uHbj+crN52vb9r4k7sXn7djNlk0bYMCEdikLa GFKnyRgmMvCAt2y26UbFOFE/F5qmZPe9iDQPjmdb/YSu1rw0AJaDBA0fYpPtrlOUlz1V Hi/w== X-Gm-Message-State: AOJu0Yx/mLBtqmIigaN1z0h5p7E7+Ov/aDiDToEQj0nl9AqVTnqP0JIy dShLWqJiooMskjcam3czgDJhq9ihSo557BAHCyY5H37vJcZz+OvSafo4w6cG26VzifUIQzGQ3FP X2W22IxBhNeFm3FO1gSrDndKj9vGyw+1G X-Gm-Gg: ASbGncsE6mWmjF3rTSVXBR0e518wWlZx5xp7elQqYw3Zd+Wl8SHzj0ahTcYhH5lD9QI wFHl+C1mtHtuNxPdgHTt5SLQUG99q1XiTMUWfasaol9a2cZ9Oimrjbm3GGrcEG1QSBheasNvDZ2 MzByVJQK0fwtWzdtwIZWh9tSm1J72EMjICloQnePP9XEhnn9VeA2iwDOcVgIaQSPuc5+rX2s4cq VaZ/ZoNc2RAo314Ohe+6HHK6fCGHXByPQjGO3hv/Fpf+HPpVMCN0coEfNB6mZWkizocvgq0lmq4 u50mHcZfIm3T9MeEk6eZlA/1t6brJqCXJtW+vbUGG3gnFJXu9Xp9kviJ+g8= X-Google-Smtp-Source: AGHT+IE8IDBRypJNJnFSY0CVVApD9Hdui/Iz0irf5O89RMGydtXAYJWdGoNaIyjFt5AgsEcuzNMC7hvODm2C X-Received: by 2002:a92:ca0d:0:b0:3d5:8923:faa5 with SMTP id e9e14a558f8ab-3da738fe3cfmr79659875ab.10.1746708953155; Thu, 08 May 2025 05:55:53 -0700 (PDT) Received: from postal.iol.unh.edu (postal.iol.unh.edu. [132.177.123.84]) by smtp-relay.gmail.com with ESMTPS id e9e14a558f8ab-3d975e81ed9sm24636855ab.23.2025.05.08.05.55.53 (version=TLS1_2 cipher=ECDHE-ECDSA-AES128-GCM-SHA256 bits=128/128); Thu, 08 May 2025 05:55:53 -0700 (PDT) X-Relaying-Domain: iol.unh.edu Date: Thu, 08 May 2025 05:55:53 -0700 (PDT) Message-ID: <681ca9d9.050a0220.23a46f.6392SMTPIN_ADDED_MISSING@mx.google.com> Received: from [172.21.0.6] (unknown [172.18.0.240]) by postal.iol.unh.edu (Postfix) with ESMTP id 9D02C6052471; Thu, 8 May 2025 08:55:52 -0400 (EDT) Subject: |SUCCESS| [GIT MASTER] 4c5634de9f933555bab9c64a533d3dca999071cd From: dpdklab@iol.unh.edu To: Test Report Cc: dpdk-test-reports@iol.unh.edu, Xueming Li , Christian Ehrhardt , Kevin Traynor , Luca Boccassi Content-Type: text/plain X-BeenThere: test-report@dpdk.org X-Mailman-Version: 2.1.29 Precedence: list List-Id: automatic DPDK test reports List-Unsubscribe: , List-Archive: List-Post: List-Help: List-Subscribe: , Errors-To: test-report-bounces@dpdk.org _Testing PASS_ Branch: tags/v24.11 4c5634de9f933555bab9c64a533d3dca999071cd --> testing pass Upstream job id: Generic-DPDK-Compile-Meson#386350 Test environment and result as below: +------------------------------------+--------------------+ | Environment | dpdk_meson_compile | +====================================+====================+ | Ubuntu 20.04 ARM SVE | PASS | +------------------------------------+--------------------+ | RHEL9 (ARM) | PASS | +------------------------------------+--------------------+ | Ubuntu 20.04 ARM GCC Cross Compile | PASS | +------------------------------------+--------------------+ | Fedora 40 (ARM) | PASS | +------------------------------------+--------------------+ | Ubuntu 20.04 (ARM) | PASS | +------------------------------------+--------------------+ | Debian 12 with MUSDK | PASS | +------------------------------------+--------------------+ | Fedora 40 (ARM Clang) | PASS | +------------------------------------+--------------------+ | Fedora 41 (ARM) | PASS | +------------------------------------+--------------------+ | Fedora 41 (ARM Clang) | PASS | +------------------------------------+--------------------+ | CentOS Stream 10 (ARM) | PASS | +------------------------------------+--------------------+ | Ubuntu 24.04 (ARM) | PASS | +------------------------------------+--------------------+ | Ubuntu 22.04 (ARM) | PASS | +------------------------------------+--------------------+ | CentOS Stream 9 (ARM) | PASS | +------------------------------------+--------------------+ | Debian 12 (arm) | PASS | +------------------------------------+--------------------+ Ubuntu 20.04 ARM SVE Kernel: Depends on container host Compiler: gcc (Ubuntu 10.5.0-1ubuntu1~20.04) 10.5.0 RHEL9 (ARM) Kernel: Depends on container host Compiler: gcc 11.5.0 20240719 (Red Hat 11.5.0-2) Ubuntu 20.04 ARM GCC Cross Compile Kernel: Depends on container host Compiler: aarch64-linux-gnu-gcc (Ubuntu 9.4.0-1ubuntu1~20.04.2) 9.4.0 Fedora 40 (ARM) Kernel: Depends on container host Compiler: gcc 14.2.1 20240912 (Red Hat 14.2.1-3) Ubuntu 20.04 (ARM) Kernel: Depends on container host Compiler: gcc (Ubuntu 9.4.0-1ubuntu1~20.04.2) 9.4.0 Debian 12 with MUSDK Kernel: Depends on container host Compiler: gcc (Debian 12.2.0-14) 12.2.0 Fedora 40 (ARM Clang) Kernel: Depends on container host Compiler: clang 18.1.8 (Fedora 18.1.8-1.fc40) Fedora 41 (ARM) Kernel: Depends on container host Compiler: gcc 14.2.1 20240912 (Red Hat 14.2.1-3) Fedora 41 (ARM Clang) Kernel: Depends on container host Compiler: clang 19.1.5 (Fedora 19.1.5-1.fc41) CentOS Stream 10 (ARM) Kernel: Depends on container host Compiler: gcc 14.2.1 20241104 (Red Hat 14.2.1-6) Ubuntu 24.04 (ARM) Kernel: Depends on container host Compiler: gcc (Ubuntu 13.3.0-6ubuntu2~24.04) 13.3.0 Ubuntu 22.04 (ARM) Kernel: Depends on container host Compiler: gcc (Ubuntu 11.4.0-1ubuntu1~22.04) 11.4.0 CentOS Stream 9 (ARM) Kernel: Depends on container host Compiler: gcc 11.5.0 20240719 (Red Hat 11.5.0-2) Debian 12 (arm) Kernel: Depends on container host Compiler: gcc (Debian 12.2.0-14) 12.2.0 To view detailed results, visit: https://lab.dpdk.org/results/dashboard/tarballs/33473/ UNH-IOL DPDK Community Lab To manage your email subscriptions, visit: https://lab.dpdk.org/results/dashboard/preferences/subscriptions/