From mboxrd@z Thu Jan 1 00:00:00 1970 Return-Path: Received: from mails.dpdk.org (mails.dpdk.org [217.70.189.124]) by inbox.dpdk.org (Postfix) with ESMTP id A81C4466F6 for ; Thu, 8 May 2025 15:02:09 +0200 (CEST) Received: from mails.dpdk.org (localhost [127.0.0.1]) by mails.dpdk.org (Postfix) with ESMTP id 9F91E4026C; Thu, 8 May 2025 15:02:09 +0200 (CEST) Received: from mail-pl1-f225.google.com (mail-pl1-f225.google.com [209.85.214.225]) by mails.dpdk.org (Postfix) with ESMTP id 192594026B for ; Thu, 8 May 2025 15:02:08 +0200 (CEST) Received: by mail-pl1-f225.google.com with SMTP id d9443c01a7336-227b828de00so8968395ad.1 for ; Thu, 08 May 2025 06:02:08 -0700 (PDT) DKIM-Signature: v=1; a=rsa-sha256; c=relaxed/relaxed; d=iol.unh.edu; s=unh-iol; t=1746709327; x=1747314127; darn=dpdk.org; h=references:in-reply-to:cc:to:from:subject:message-id:date:from:to :cc:subject:date:message-id:reply-to; bh=VvbqlGTVrgVWc5F1f3eMwm6kD8vQwabpBJNj2GPmk9Q=; b=fL0Yf/2r4Ccv+mPQuIBKyBOvIfNpt6lGT0eCtz49fmkCc1MjZN7PNLfOn7hD26ZqLU /HHKqZ6qKrAYUS05IeeDfhgyQkdUAuzFh6XqjyZW70glcIMODP24x8bjvNPY91m2YdCF QkYgTkGxpXZ34pQ7mIL9EPkZEcbdSWiRdmv8E= X-Google-DKIM-Signature: v=1; a=rsa-sha256; c=relaxed/relaxed; d=1e100.net; s=20230601; t=1746709327; x=1747314127; h=references:in-reply-to:cc:to:from:subject:message-id:date :x-gm-message-state:from:to:cc:subject:date:message-id:reply-to; bh=VvbqlGTVrgVWc5F1f3eMwm6kD8vQwabpBJNj2GPmk9Q=; b=Makr/XxkPsdez0AMSRtDEp3PpRuJpWVdZLNKl6+Q6ydxEkt3gibLQ3mLw85yl+6i2N ECbViXcVyu0Jwgr0DI3CR/7spFp2XPPluqKyq75BeMdBA8dxk5zAu4ZaZZEFq1MIXyOU S3d9sOMdpvmpUx8x/Q9Ml3b79h2vQLpui3ENevxWnp+aDpM9xR1Seqic4m4tNWbGLX3J kfTtxJ0AlO2YbjmUJP5p8YJuWsHmFHZbLMBCjEk8imH4C4IrRbLpqVylp2TsrhCKRl9d 21kkIotmGjnS+Spv18eBY00Nxs+vtqzDrUj91+BWI+pca9GJvjOjoGMd9LmEvsg5aGDQ pxpA== X-Gm-Message-State: AOJu0Yzbc9fjH9cd8xgPKZcgyi9tasMHa1cswR8a4qWMgaK3am5EIEv1 q9R4ALOJjq7BDGymbSq67QDUnDlbpOJDTSk3L0N9/DG/i/LgGuml6loS7TuRGYL46puE+UqmRCr gsgYlarFGB989hbB9zCEcXn348V2Lg8CYYTTZbVIW X-Gm-Gg: ASbGncu4SorPw3Y1FbaMXhiymbt7Udn1x2ns3H2MBeIkMr23JXleUCD0XJPTT3A63+y HU95XAF/XvU3oyfy7Zw5s2D+Jf0K8TU8uAGDLG1/lH/KOk81/p1F8Zfdv0w2wGc00RouCA0W5cQ m5L/azQ5Exglhh99gbt3g72pxll/XjK7+bwIGMet8X6bydGAAQ/Dj8UrdGCkOPsXhzT6nfoW6Ma QZq+K++2qzUIEG/bJ6YPQmlj5v0ZAieiH1z5c0NA9jt7Q0J8UdL+LcCyRlH3bc1lBdXRPIFwaZB NLcP1R0F5cyXKw5AC4aH03gusEUEPGfr6aJ16MFgos7WnftGREqS0nNvAAU= X-Google-Smtp-Source: AGHT+IG2QN2gR09NrRQ5RAs67ZCq6xhAd+75bDE7sq56OnOtyYb/+FSp44j2CE2B30TqTDUNLxNu3TDjC05K X-Received: by 2002:a17:902:e5ca:b0:22c:2492:b96b with SMTP id d9443c01a7336-22e5ea2bed0mr98938435ad.15.1746709325032; Thu, 08 May 2025 06:02:05 -0700 (PDT) Received: from postal.iol.unh.edu (postal.iol.unh.edu. [132.177.123.84]) by smtp-relay.gmail.com with ESMTPS id d9443c01a7336-22e6637d60asm1359755ad.89.2025.05.08.06.02.04 (version=TLS1_2 cipher=ECDHE-ECDSA-AES128-GCM-SHA256 bits=128/128); Thu, 08 May 2025 06:02:05 -0700 (PDT) X-Relaying-Domain: iol.unh.edu Date: Thu, 08 May 2025 06:02:05 -0700 (PDT) Message-ID: <681cab4d.170a0220.241960.7877SMTPIN_ADDED_MISSING@mx.google.com> Received: from [172.21.0.5] (unknown [172.18.0.240]) by postal.iol.unh.edu (Postfix) with ESMTP id 28D536052471; Thu, 8 May 2025 09:02:04 -0400 (EDT) Subject: |SUCCESS| pw153351-153352 [PATCH] [2/2] crypto/uadk: use async mode From: dpdklab@iol.unh.edu To: Test Report Cc: dpdk-test-reports@iol.unh.edu In-Reply-To: <20250508074119.356011-3-zhangfei.gao@linaro.org> References: <20250508074119.356011-3-zhangfei.gao@linaro.org> Content-Type: text/plain X-BeenThere: test-report@dpdk.org X-Mailman-Version: 2.1.29 Precedence: list List-Id: automatic DPDK test reports List-Unsubscribe: , List-Archive: List-Post: List-Help: List-Subscribe: , Errors-To: test-report-bounces@dpdk.org Test-Label: iol-unit-arm64-testing Test-Status: SUCCESS http://dpdk.org/patch/153352 _Testing PASS_ Submitter: Zhangfei Gao Date: Thursday, May 08 2025 07:41:19 DPDK git baseline: Repo:dpdk Branch: master CommitID:ca1690ebd224f148268285b15b97441ccdbdd07e 153351-153352 --> testing pass Upstream job id: Generic-Unit-Test-DPDK#336505 Test environment and result as below: +-----------------------------+----------------+--------------+------------------------------+---------------------------+ | Environment | dpdk_unit_test | lpm_autotest | cryptodev_sw_snow3g_autotest | cryptodev_sw_zuc_autotest | +=============================+================+==============+==============================+===========================+ | CentOS Stream 10 (ARM) | PASS | SKIPPED | SKIPPED | SKIPPED | +-----------------------------+----------------+--------------+------------------------------+---------------------------+ | CentOS Stream 9 (ARM) | PASS | SKIPPED | SKIPPED | SKIPPED | +-----------------------------+----------------+--------------+------------------------------+---------------------------+ | Fedora 40 (ARM) | PASS | SKIPPED | SKIPPED | SKIPPED | +-----------------------------+----------------+--------------+------------------------------+---------------------------+ | Fedora 41 (ARM Clang) | PASS | SKIPPED | SKIPPED | SKIPPED | +-----------------------------+----------------+--------------+------------------------------+---------------------------+ | Debian 12 (arm) | PASS | SKIPPED | PASS | PASS | +-----------------------------+----------------+--------------+------------------------------+---------------------------+ | Fedora 40 (ARM Clang) | PASS | SKIPPED | SKIPPED | SKIPPED | +-----------------------------+----------------+--------------+------------------------------+---------------------------+ | Fedora 41 (ARM) | PASS | SKIPPED | SKIPPED | SKIPPED | +-----------------------------+----------------+--------------+------------------------------+---------------------------+ | Ubuntu 20.04 (ARM) | PASS | SKIPPED | SKIPPED | SKIPPED | +-----------------------------+----------------+--------------+------------------------------+---------------------------+ | RHEL9 (ARM) | PASS | SKIPPED | SKIPPED | SKIPPED | +-----------------------------+----------------+--------------+------------------------------+---------------------------+ | Ubuntu 22.04 (ARM) | PASS | SKIPPED | SKIPPED | SKIPPED | +-----------------------------+----------------+--------------+------------------------------+---------------------------+ | Ubuntu 24.04 (ARM) | PASS | SKIPPED | SKIPPED | SKIPPED | +-----------------------------+----------------+--------------+------------------------------+---------------------------+ | 32-bit Ubuntu 22.04.4 (ARM) | PASS | SKIPPED | SKIPPED | SKIPPED | +-----------------------------+----------------+--------------+------------------------------+---------------------------+ | Ubuntu 20.04 ARM SVE | SKIPPED | PASS | SKIPPED | SKIPPED | +-----------------------------+----------------+--------------+------------------------------+---------------------------+ CentOS Stream 10 (ARM) Kernel: Depends on container host Compiler: gcc 14.2.1 20241104 (Red Hat 14.2.1-6) CentOS Stream 9 (ARM) Kernel: Depends on container host Compiler: gcc 11.5.0 20240719 (Red Hat 11.5.0-2) Fedora 40 (ARM) Kernel: Depends on container host Compiler: gcc 14.2.1 20240912 (Red Hat 14.2.1-3) Fedora 41 (ARM Clang) Kernel: Depends on container host Compiler: clang 19.1.5 (Fedora 19.1.5-1.fc41) Debian 12 (arm) Kernel: Depends on container host Compiler: gcc (Debian 12.2.0-14) 12.2.0 Fedora 40 (ARM Clang) Kernel: Depends on container host Compiler: clang 18.1.8 (Fedora 18.1.8-1.fc40) Fedora 41 (ARM) Kernel: Depends on container host Compiler: gcc 14.2.1 20240912 (Red Hat 14.2.1-3) Ubuntu 20.04 (ARM) Kernel: Depends on container host Compiler: gcc (Ubuntu 9.4.0-1ubuntu1~20.04.2) 9.4.0 RHEL9 (ARM) Kernel: Depends on container host Compiler: gcc 11.5.0 20240719 (Red Hat 11.5.0-2) Ubuntu 22.04 (ARM) Kernel: Depends on container host Compiler: gcc (Ubuntu 11.4.0-1ubuntu1~22.04) 11.4.0 Ubuntu 24.04 (ARM) Kernel: Depends on container host Compiler: gcc (Ubuntu 13.3.0-6ubuntu2~24.04) 13.3.0 32-bit Ubuntu 22.04.4 (ARM) Kernel: 5.15.83+ aarch64 Compiler: gcc (Ubuntu 11.4.0-1ubuntu1~22.04) 11.4.0 Ubuntu 20.04 ARM SVE Kernel: Depends on container host Compiler: gcc (Ubuntu 10.5.0-1ubuntu1~20.04) 10.5.0 To view detailed results, visit: https://lab.dpdk.org/results/dashboard/patchsets/33140/ UNH-IOL DPDK Community Lab To manage your email subscriptions, visit: https://lab.dpdk.org/results/dashboard/preferences/subscriptions/