From mboxrd@z Thu Jan 1 00:00:00 1970 Return-Path: Received: from mails.dpdk.org (mails.dpdk.org [217.70.189.124]) by inbox.dpdk.org (Postfix) with ESMTP id 23FF4466F6 for ; Thu, 8 May 2025 15:05:36 +0200 (CEST) Received: from mails.dpdk.org (localhost [127.0.0.1]) by mails.dpdk.org (Postfix) with ESMTP id EF6EE4026C; Thu, 8 May 2025 15:05:35 +0200 (CEST) Received: from mail-qv1-f97.google.com (mail-qv1-f97.google.com [209.85.219.97]) by mails.dpdk.org (Postfix) with ESMTP id 91C124026B for ; Thu, 8 May 2025 15:05:34 +0200 (CEST) Received: by mail-qv1-f97.google.com with SMTP id 6a1803df08f44-6f5499c21bbso20201636d6.3 for ; Thu, 08 May 2025 06:05:34 -0700 (PDT) DKIM-Signature: v=1; a=rsa-sha256; c=relaxed/relaxed; d=iol.unh.edu; s=unh-iol; t=1746709534; x=1747314334; darn=dpdk.org; h=references:in-reply-to:cc:to:from:subject:message-id:date:from:to :cc:subject:date:message-id:reply-to; bh=zbQj9vme9007TV7V0FB07MD9axVhAkX3PJ9K94hLcbc=; b=i/9KJFZ/kPEU29DcqFHn9u7gybE5JSEbFSztsXawj9RwQ5QualqcOpHgOaPbQAaG+Z Ij+wmkdAPC9b12Xac0j8AHKfGlNdeqJp+eLUjHhoxKVEpHhToAlSfbFPhV5iVSxuzPHO w0e8JzsJeVIQo8ZnKuRQFONnUSnancyA6d/Xo= X-Google-DKIM-Signature: v=1; a=rsa-sha256; c=relaxed/relaxed; d=1e100.net; s=20230601; t=1746709534; x=1747314334; h=references:in-reply-to:cc:to:from:subject:message-id:date :x-gm-message-state:from:to:cc:subject:date:message-id:reply-to; bh=zbQj9vme9007TV7V0FB07MD9axVhAkX3PJ9K94hLcbc=; b=tfvZQVJKKV/AC3CMa8Ehdc3Nwj7PizTm4waEtLtebLR84uXIVIvEKTPcsa9+2fJcoQ I8eMn+9dKn3f1OAonMDlabWJSyOYAnxc9jKImr1MjTvUggCTOU2MbE8y3d8d5rilscWQ PMmT7lsMPEupMELrjtYdm0yYtqtQhXXzvg20kpqU0qMSlYFm3RrhOr5OYJTNpacCeQDw 9CPq58cvvwl5FkK7AWyqXrYjXQbhhLKtPTAV0A6FeEJEfgkf6k8XvHVnol1ZmWyZ6A2h lNN5Gi2Z7v9lNNZN0oNgJbT6rCl0Vp1ELfpPj3CZzJHZUR1iI9H17WfpKKJE4bULZK59 SBcw== X-Gm-Message-State: AOJu0YyEVvwiQJMFT/NRIzYjkKgmqCsTENEJNJZRq2dO/0uI5dIhZiKI 7TjLAUtwm9eYPDTOPRioqoHNxDIyXylCwsdXWBOuF1jqkFRqha19TeEhYAyMGzFg1awmwNbZxz0 +gKRWgSemk75zWa9grVI/6gTAKlpGQCbMQbNqVNv4Wi9QB+Dr4mJrANB7 X-Gm-Gg: ASbGncsOzp8GFtw/CcP2EMyR5JBkFV/UzNq92DDQ1bMB5/ESDn1yRqf9H2gCBNRvpuO voDHkB0+cUBkmbmNX1iouUsGuYtDdIKriEsCsPS0hQr0yQ5QwyyAqhz7LLvsm/gJwzYsanREmll 8OH4Gy6Ms1H16qSqGSy2fmJJQvQ3KYUuTPqWMYw/IWEpyIaICkmckPqdyJso0vkUu2bbQgcEIWr +64d36WaQhlhNpOWj+T9iZ2Ke9q/Xmq5tu9pyQu2LdjN6uB554Sj/3fa9AGsqZJrhgzTJjP1tni sFEq0KWvW60eLwM5i98bP2uEiagvsL3FrspR X-Google-Smtp-Source: AGHT+IHAnttuOnXw7FTC3a8muA+U6UIk+qEj0kt6dVQdq5loSllxifDR69+PYQmw3zFGp1APqPxtxJswaMmG X-Received: by 2002:a05:6214:caa:b0:6d4:1ea3:981d with SMTP id 6a1803df08f44-6f542ae34f2mr92773126d6.43.1746709533775; Thu, 08 May 2025 06:05:33 -0700 (PDT) Received: from postal.iol.unh.edu (postal.iol.unh.edu. [2606:4100:3880:1234::84]) by smtp-relay.gmail.com with ESMTPS id 6a1803df08f44-6f54266a876sm2325936d6.34.2025.05.08.06.05.33 (version=TLS1_2 cipher=ECDHE-ECDSA-AES128-GCM-SHA256 bits=128/128); Thu, 08 May 2025 06:05:33 -0700 (PDT) X-Relaying-Domain: iol.unh.edu Date: Thu, 08 May 2025 06:05:33 -0700 (PDT) Message-ID: <681cac1d.050a0220.3d680f.c3e4SMTPIN_ADDED_MISSING@mx.google.com> Received: from [172.21.0.5] (unknown [172.18.0.240]) by postal.iol.unh.edu (Postfix) with ESMTP id 791566052471; Thu, 8 May 2025 09:05:33 -0400 (EDT) Subject: |SUCCESS| pw153351-153352 [PATCH] [2/2] crypto/uadk: use async mode From: dpdklab@iol.unh.edu To: Test Report Cc: dpdk-test-reports@iol.unh.edu In-Reply-To: <20250508074119.356011-3-zhangfei.gao@linaro.org> References: <20250508074119.356011-3-zhangfei.gao@linaro.org> Content-Type: text/plain X-BeenThere: test-report@dpdk.org X-Mailman-Version: 2.1.29 Precedence: list List-Id: automatic DPDK test reports List-Unsubscribe: , List-Archive: List-Post: List-Help: List-Subscribe: , Errors-To: test-report-bounces@dpdk.org Test-Label: iol-unit-amd64-testing Test-Status: SUCCESS http://dpdk.org/patch/153352 _Testing PASS_ Submitter: Zhangfei Gao Date: Thursday, May 08 2025 07:41:19 DPDK git baseline: Repo:dpdk Branch: master CommitID:ca1690ebd224f148268285b15b97441ccdbdd07e 153351-153352 --> testing pass Upstream job id: Generic-Unit-Test-DPDK#336499 Test environment and result as below: +-------------------+----------------+ | Environment | dpdk_unit_test | +===================+================+ | CentOS Stream 10 | PASS | +-------------------+----------------+ | Debian 12 | PASS | +-------------------+----------------+ | CentOS Stream 9 | PASS | +-------------------+----------------+ | Fedora 41 | PASS | +-------------------+----------------+ | Fedora 41 (Clang) | PASS | +-------------------+----------------+ | Fedora 40 | PASS | +-------------------+----------------+ | Fedora 40 (Clang) | PASS | +-------------------+----------------+ | RHEL9 | PASS | +-------------------+----------------+ | RHEL8 | PASS | +-------------------+----------------+ | Ubuntu 20.04 | PASS | +-------------------+----------------+ | Ubuntu 24.04 | PASS | +-------------------+----------------+ | Ubuntu 22.04 | PASS | +-------------------+----------------+ CentOS Stream 10 Kernel: Depends on container host Compiler: gcc 14.2.1 20241104 (Red Hat 14.2.1-6) Debian 12 Kernel: Depends on container host Compiler: gcc (Debian 12.2.0-14) 12.2.0 CentOS Stream 9 Kernel: Depends on container host Compiler: gcc 11.5.0 20240719 (Red Hat 11.5.0-2) Fedora 41 Kernel: Depends on container host Compiler: gcc 14.2.1 20240912 (Red Hat 14.2.1-3) Fedora 41 (Clang) Kernel: Depends on container host Compiler: clang 19.1.5 (Fedora 19.1.5-1.fc41) Fedora 40 Kernel: Depends on container host Compiler: gcc 14.2.1 20240912 (Red Hat 14.2.1-3) Fedora 40 (Clang) Kernel: Depends on container host Compiler: clang 18.1.8 (Fedora 18.1.8-1.fc40) RHEL9 Kernel: Depends on container host Compiler: gcc 11.5.0 20240719 (Red Hat 11.5.0-2) RHEL8 Kernel: Depends on container host Compiler: gcc 8.5.0 20210514 (Red Hat 8.5.0-22) Ubuntu 20.04 Kernel: Depends on container host Compiler: gcc (Ubuntu 9.4.0-1ubuntu1~20.04.2) 9.4.0 Ubuntu 24.04 Kernel: Depends on container host Compiler: gcc (Ubuntu 13.3.0-6ubuntu2~24.04) 13.3.0 Ubuntu 22.04 Kernel: Depends on container host Compiler: gcc (Ubuntu 11.4.0-1ubuntu1~22.04) 11.4.0 To view detailed results, visit: https://lab.dpdk.org/results/dashboard/patchsets/33140/ UNH-IOL DPDK Community Lab To manage your email subscriptions, visit: https://lab.dpdk.org/results/dashboard/preferences/subscriptions/