From mboxrd@z Thu Jan 1 00:00:00 1970 Return-Path: Received: from mails.dpdk.org (mails.dpdk.org [217.70.189.124]) by inbox.dpdk.org (Postfix) with ESMTP id 829F7466F6 for ; Thu, 8 May 2025 15:18:34 +0200 (CEST) Received: from mails.dpdk.org (localhost [127.0.0.1]) by mails.dpdk.org (Postfix) with ESMTP id 79E7A4026C; Thu, 8 May 2025 15:18:34 +0200 (CEST) Received: from mail-qv1-f99.google.com (mail-qv1-f99.google.com [209.85.219.99]) by mails.dpdk.org (Postfix) with ESMTP id 5C7F54026B for ; Thu, 8 May 2025 15:18:33 +0200 (CEST) Received: by mail-qv1-f99.google.com with SMTP id 6a1803df08f44-6ecf99dd567so13461576d6.0 for ; Thu, 08 May 2025 06:18:33 -0700 (PDT) DKIM-Signature: v=1; a=rsa-sha256; c=relaxed/relaxed; d=iol.unh.edu; s=unh-iol; t=1746710312; x=1747315112; darn=dpdk.org; h=references:in-reply-to:cc:to:from:subject:message-id:date:from:to :cc:subject:date:message-id:reply-to; bh=a6no5s+LFGuT5p+A/VKgsHVkFtZM/DMJTn8HCBJPaqI=; b=EeGujM9+02o6YGMdrXJS51QNO2mZ0q4aP3bdwcdK6TojZLWddcYEE3B8hKbtS1oaW0 lcQY+f5ZvYIraW2RVqR+G/bLHobXNRN4R/aPp/x+ImdZjEZmeyNGoxNk46uI+PgxX3m+ msKTO93VeF45PS1FMfsRRX/Q1sogNbrAudZLs= X-Google-DKIM-Signature: v=1; a=rsa-sha256; c=relaxed/relaxed; d=1e100.net; s=20230601; t=1746710312; x=1747315112; h=references:in-reply-to:cc:to:from:subject:message-id:date :x-gm-message-state:from:to:cc:subject:date:message-id:reply-to; bh=a6no5s+LFGuT5p+A/VKgsHVkFtZM/DMJTn8HCBJPaqI=; b=VItL8LxIL14Tg6IZ/xEUKBKDkOWx/WzxuFKnTWZksYuyJ9xoQ1QN8uYPEu+2V+Nv04 fivThiHwwbn5OgcSD8fXVl0lm7KqNDZbcvTRYid4M0Ie27PKfAcl28Q8kJ0+j9o0mW6r 4bYBjVLHS6ymzS3mC02hVoEicHodFCpzAIcv+2ja8fhvzKGmIJ8Wb30PFojFX/yBw0wY 2qqm/R76IlXGGweKY6HdVEoDc79EbIP8goNYQGg255BHL3Y7WdeVMAvvZMzCvE+6Dm/B wKTxbIiY57MPXexcGcCRRyUa/P+OrsDxQWKaoi2CU0WjAyMScIdDIoLYdL3NmXtGHHoW fJEw== X-Gm-Message-State: AOJu0Yx8jsp3LV2XaSu4/uDqYk1Zhze3ssXHM6+Z267V8Ygu3H16RlmV 2FiRAkhzzYmib05nTc9V6LOIINKvfuVqtmLOxfAH+2XcROlRTltksha5ltF03BQfe64kYGrnvQM 3KBY9xeS3kKeBgbgeyKDeGs5ZCg5SyoxiD+NrNBx6HAIPGG5OaW8IhpV8 X-Gm-Gg: ASbGncuvOteOxovDAfArvXKzz8b6KZIgw5cAq7QHhUmiMBKt+mp+miP56j2pWF7SYdF wS03dsqjCRord0ca+I1i9d4uarvgn9kcTRsW+PWxtsp9jBRa3qhtUQiHOda5yhPXEyRxpdy3qmc yy2KXeRnJsPNwbPzfEL4RRd1YVJTxOp2siyyWUx8aEg2ZULoYrjyRBsbUAEwVaAgXRQhM6eblKJ PmRYqSR+pQVSZZllxaU0SP0NdunkUPE3tU2QYF3xt2hXD6EYv6KyQcHjXIJmZCfuhTCS2qsQ/J/ tnV9/6wmhnNNadUWkG9lZFbIb8Icr8HmLrPz X-Google-Smtp-Source: AGHT+IGEHXt4SU0G3TkSVtYS5pCu7Kwqh6qjKZRfkcyndmXQj+UbPFDlKxeTC783AqFxRrz7G+u9DU79FPIt X-Received: by 2002:a05:6214:4009:b0:6ea:d393:962c with SMTP id 6a1803df08f44-6f54c489d08mr45808616d6.30.1746710312691; Thu, 08 May 2025 06:18:32 -0700 (PDT) Received: from postal.iol.unh.edu (postal.iol.unh.edu. [2606:4100:3880:1234::84]) by smtp-relay.gmail.com with ESMTPS id 6a1803df08f44-6f54265e3d5sm2495606d6.27.2025.05.08.06.18.32 (version=TLS1_2 cipher=ECDHE-ECDSA-AES128-GCM-SHA256 bits=128/128); Thu, 08 May 2025 06:18:32 -0700 (PDT) X-Relaying-Domain: iol.unh.edu Date: Thu, 08 May 2025 06:18:32 -0700 (PDT) Message-ID: <681caf28.050a0220.3020cb.d321SMTPIN_ADDED_MISSING@mx.google.com> Received: from [172.21.0.11] (unknown [172.18.0.240]) by postal.iol.unh.edu (Postfix) with ESMTP id 63B8B6052471; Thu, 8 May 2025 09:18:32 -0400 (EDT) Subject: |SUCCESS| pw153348 [PATCH] build: fix disabling developer mode From: dpdklab@iol.unh.edu To: Test Report Cc: dpdk-test-reports@iol.unh.edu In-Reply-To: <20250508044230.133966-1-david.marchand@redhat.com> References: <20250508044230.133966-1-david.marchand@redhat.com> Content-Type: text/plain X-BeenThere: test-report@dpdk.org X-Mailman-Version: 2.1.29 Precedence: list List-Id: automatic DPDK test reports List-Unsubscribe: , List-Archive: List-Post: List-Help: List-Subscribe: , Errors-To: test-report-bounces@dpdk.org Test-Label: iol-unit-amd64-testing Test-Status: SUCCESS http://dpdk.org/patch/153348 _Testing PASS_ Submitter: David Marchand Date: Thursday, May 08 2025 04:42:29 DPDK git baseline: Repo:dpdk Branch: master CommitID:4029c5e3f2c6e950e8579be2401dab12e4209d53 153348 --> testing pass Upstream job id: Generic-VM-Unit-Test-DPDK#28412 Test environment and result as below: +---------------------+----------------+ | Environment | dpdk_unit_test | +=====================+================+ | CentOS Stream 9 | PASS | +---------------------+----------------+ | Debian 12 | PASS | +---------------------+----------------+ | CentOS Stream 10 | PASS | +---------------------+----------------+ | Fedora 40 | PASS | +---------------------+----------------+ | Fedora 41 | PASS | +---------------------+----------------+ | Fedora 40 (Clang) | PASS | +---------------------+----------------+ | Fedora 41 (Clang) | PASS | +---------------------+----------------+ | RHEL8 | PASS | +---------------------+----------------+ | RHEL9 | PASS | +---------------------+----------------+ | Ubuntu 20.04 | PASS | +---------------------+----------------+ | Ubuntu 24.04 | PASS | +---------------------+----------------+ | Ubuntu 22.04 | PASS | +---------------------+----------------+ | Windows Server 2022 | PASS | +---------------------+----------------+ CentOS Stream 9 Kernel: Depends on container host Compiler: gcc 11.5.0 20240719 (Red Hat 11.5.0-2) Debian 12 Kernel: Depends on container host Compiler: gcc (Debian 12.2.0-14) 12.2.0 CentOS Stream 10 Kernel: Depends on container host Compiler: gcc 14.2.1 20241104 (Red Hat 14.2.1-6) Fedora 40 Kernel: Depends on container host Compiler: gcc 14.2.1 20240912 (Red Hat 14.2.1-3) Fedora 41 Kernel: Depends on container host Compiler: gcc 14.2.1 20240912 (Red Hat 14.2.1-3) Fedora 40 (Clang) Kernel: Depends on container host Compiler: clang 18.1.8 (Fedora 18.1.8-1.fc40) Fedora 41 (Clang) Kernel: Depends on container host Compiler: clang 19.1.5 (Fedora 19.1.5-1.fc41) RHEL8 Kernel: Depends on container host Compiler: gcc 8.5.0 20210514 (Red Hat 8.5.0-22) RHEL9 Kernel: Depends on container host Compiler: gcc 11.5.0 20240719 (Red Hat 11.5.0-2) Ubuntu 20.04 Kernel: Depends on container host Compiler: gcc (Ubuntu 9.4.0-1ubuntu1~20.04.2) 9.4.0 Ubuntu 24.04 Kernel: Depends on container host Compiler: gcc (Ubuntu 13.3.0-6ubuntu2~24.04) 13.3.0 Ubuntu 22.04 Kernel: Depends on container host Compiler: gcc (Ubuntu 11.4.0-1ubuntu1~22.04) 11.4.0 Windows Server 2022 Kernel: 10.0.20348.2031 Compiler: clang 15.0.7, gcc 14.1.0 (MinGW), and MSVC VS 19.39.33521 To view detailed results, visit: https://lab.dpdk.org/results/dashboard/patchsets/33137/ UNH-IOL DPDK Community Lab To manage your email subscriptions, visit: https://lab.dpdk.org/results/dashboard/preferences/subscriptions/