automatic DPDK test reports
 help / color / mirror / Atom feed
From: dpdklab@iol.unh.edu
To: Test Report <test-report@dpdk.org>
Cc: dpdk-test-reports@iol.unh.edu
Subject: |SUCCESS| pw153349 [PATCH] eal: warn if no lcore is available
Date: Thu, 08 May 2025 06:26:55 -0700 (PDT)	[thread overview]
Message-ID: <681cb11f.050a0220.433d3.d5f7SMTPIN_ADDED_MISSING@mx.google.com> (raw)
In-Reply-To: <20250508051915.226465-2-david.marchand@redhat.com>

Test-Label: iol-compile-amd64-testing
Test-Status: SUCCESS
http://dpdk.org/patch/153349

_Testing PASS_

Submitter: David Marchand <david.marchand@redhat.com>
Date: Thursday, May 08 2025 05:19:15 
DPDK git baseline: Repo:dpdk
  Branch: master
  CommitID:75f179ebe347b6098cf3af26d3d3b7168fe3fe24

153349 --> testing pass

Upstream job id: Generic-VM-DPDK-Compile-Meson#35270

Test environment and result as below:

+---------------------+--------------------+-------------------+
|     Environment     | dpdk_meson_compile | dpdk_msvc_compile |
+=====================+====================+===================+
| Ubuntu 20.04        | PASS               | SKIPPED           |
+---------------------+--------------------+-------------------+
| FreeBSD 13.5        | PASS               | SKIPPED           |
+---------------------+--------------------+-------------------+
| FreeBSD 14.2        | PASS               | SKIPPED           |
+---------------------+--------------------+-------------------+
| Windows Server 2022 | SKIPPED            | PASS              |
+---------------------+--------------------+-------------------+


Ubuntu 20.04
	Kernel: 4.19.325-0419325-generic
	Compiler: gcc (Ubuntu 9.4.0-1ubuntu1~20.04.2) 9.4.0

FreeBSD 13.5
	Kernel: 13.5-RELEASE
	Compiler: clang 19.1.7

FreeBSD 14.2
	Kernel: 14.2-RELEASE
	Compiler: clang 18.1.6

Windows Server 2022
	Kernel: 10.0.20348.2031
	Compiler: clang 15.0.7, gcc 14.1.0 (MinGW), and MSVC VS 19.39.33521

To view detailed results, visit:
https://lab.dpdk.org/results/dashboard/patchsets/33138/

UNH-IOL DPDK Community Lab

To manage your email subscriptions, visit: 
https://lab.dpdk.org/results/dashboard/preferences/subscriptions/

  parent reply	other threads:[~2025-05-08 13:26 UTC|newest]

Thread overview: 27+ messages / expand[flat|nested]  mbox.gz  Atom feed  top
     [not found] <20250508051915.226465-2-david.marchand@redhat.com>
2025-05-08  4:46 ` qemudev
2025-05-08  4:51 ` qemudev
2025-05-08  5:20 ` checkpatch
2025-05-08  6:43 ` 0-day Robot
2025-05-08 11:41 ` dpdklab
2025-05-08 11:47 ` dpdklab
2025-05-08 11:47 ` dpdklab
2025-05-08 11:49 ` dpdklab
2025-05-08 11:50 ` dpdklab
2025-05-08 11:56 ` dpdklab
2025-05-08 11:57 ` dpdklab
2025-05-08 11:59 ` dpdklab
2025-05-08 12:02 ` dpdklab
2025-05-08 12:13 ` dpdklab
2025-05-08 12:58 ` |PENDING| " dpdklab
2025-05-08 13:10 ` dpdklab
2025-05-08 13:26 ` dpdklab [this message]
2025-05-08 13:46 ` dpdklab
2025-05-08 14:02 ` dpdklab
2025-05-08 14:53 ` |SUCCESS| " dpdklab
2025-05-08 15:24 ` dpdklab
2025-05-08 15:34 ` dpdklab
2025-05-08 16:18 ` dpdklab
2025-05-08 16:29 ` dpdklab
2025-05-08 17:23 ` dpdklab
2025-05-08 18:16 ` dpdklab
2025-05-08 21:12 ` dpdklab

Reply instructions:

You may reply publicly to this message via plain-text email
using any one of the following methods:

* Save the following mbox file, import it into your mail client,
  and reply-to-all from there: mbox

  Avoid top-posting and favor interleaved quoting:
  https://en.wikipedia.org/wiki/Posting_style#Interleaved_style

* Reply using the --to, --cc, and --in-reply-to
  switches of git-send-email(1):

  git send-email \
    --in-reply-to=681cb11f.050a0220.433d3.d5f7SMTPIN_ADDED_MISSING@mx.google.com \
    --to=dpdklab@iol.unh.edu \
    --cc=dpdk-test-reports@iol.unh.edu \
    --cc=test-report@dpdk.org \
    /path/to/YOUR_REPLY

  https://kernel.org/pub/software/scm/git/docs/git-send-email.html

* If your mail client supports setting the In-Reply-To header
  via mailto: links, try the mailto: link
Be sure your reply has a Subject: header at the top and a blank line before the message body.
This is a public inbox, see mirroring instructions
for how to clone and mirror all data and code used for this inbox;
as well as URLs for NNTP newsgroup(s).